Workbook
Name EQUIPTOS: '[1]Equipamentos e material'!#REF!
Name EQUIPTOS: '[1]Equipamentos e material'!#REF!
Name EQUIPTOS: '[1]Equipamentos e material'!#REF!
Name EQUIPTOS: '[1]Equipamentos e material'!#REF!
Name Excel_BuiltIn_Print_Area_1: #REF!
Name Excel_BuiltIn_Print_Area_1: #REF!
Name Excel_BuiltIn_Print_Area_1: #REF!
Name Excel_BuiltIn_Print_Area_1: #REF!
Name Excel_BuiltIn_Print_Area_2: #REF!
Name Excel_BuiltIn_Print_Area_2: #REF!
Name Excel_BuiltIn_Print_Area_2: #REF!
Name Excel_BuiltIn_Print_Area_2: #REF!

Sheet Observações
A1: OBSERVAÇÕES RELATIVAS AS PLANILHAS DE CUSTOS E FORMAÇÃO DE PREÇOS
A3: Planilhas Modelo | B3: 1 - DEVERÃO ser utilizadas as planilhas de custos e formação de preços conforme modelo do anexo II do edital; 2 - Solicita-se usar sistemática de arredondamento nas fórmulas, tanto para valores quanto para percentuais, utilizando sempre duas casas decimais para cálculo dos postos e valores: =ARRED(...;2), e nove casas decimais para o cálculo da produtividade: =ARRED(...;9) 3 - Sugere-se ainda, habilitar nas planilhas do Excel a opção "Habilitar cálculo interativo", esta ação contribui para o cálculo integrado dos diversos módulos da planilha, segue caminho: (ARQUIVO/Opções/Fórmulas/Habilitar cálculo interativo).
B4: 4 - Nas planilhas de insumos a periodicidade/mês e o quantitativo devem ser preenchidos conforme informações constantes no Edital
B5: 5 - Algumas células apresentam fórmulas multiplicadas por 0 (zero) para manter a integridade dos cálculos, caso o conteúdo da célula seja aplicável a licitante sugere-se apagar o zero e manter a integridade do cálculo e/ou adaptar conforme a característica e particularidade da Licitante.
B6: 6 - Ao utilizar utilizar as planilhas Modelo editáveis da CEAGESP sugere-se seguir o preenchimento na ordem em que se encontram para facilitar a integração dos cálculos e manutenção das fórmulas
A7: CATEGORIA SINDICAL - Acordos e Convenções Coletivas | B7: A Licitante deverá indicar em campo específico qual o ano, a data base e a convenção coletiva de trabalho que está sendo utilizada para compor salários e benefícios em suas planilhas de custos e formação de preços. Os modelos constantes no Edital e no Portal CEAGESP deverão ser adaptados conforme as caracteristicas e particularidades de cada empresa licitante.
A9: Acordos e Convenções Coletivas | B9: Apresentar cópia dos Acordos e Convenções Coletivas que a Licitante utilizou para compor salários e benefícios na planilha de custos e formaão de preços
A10: Acordos e Convenções Coletivas - Mão de Obra | B10: Salários, benefícios e demais itens obrigatórios constantes nos acordos e convenções coletivas utilizadas pela Licitante que se aplicam a mão de obra deverão compor as planilhas de custos e formação de preços.
A11: Acordos e Convenções Coletivas - (Itens não permitidos) | B11: INSTRUÇÃO NORMATINA Nº 05/2017 Art. 6º A Administração não se vincula às disposições contidas em Acordos, Convenções ou Dissídios Coletivos de Trabalho que tratem de pagamento de participação dos trabalhadores nos lucros ou resultados da empresa contratada, de matéria não trabalhista, ou que estabeleçam direitos não previstos em lei, tais como valores ou índices obrigatórios de encargos sociais ou previdenciários, bem como de preços para os insumos relacionados ao exercício da atividade. Parágrafo único. É vedado ao órgão e entidade vincular-se às disposições previstas nos Acordos, Convenções ou Dissídios Coletivos de Trabalho que tratem de obrigações e direitos que somente se aplicam aos contratos com a Administração Pública.
A12: PLANILHA - INSUMOS DIVERSOS | B12: As planilhas constantes no edital são modelos e as empresas licitantes deverão atender aos dispositivos compostos no Edital, como por exemplo no Anexo I - Termo de Referência, Anexo II - Modelo de Planilhas, e demais condições do instrumento convocatório.
A13: MODULO 1 - COMPOSIÇÃO DA REMUNERAÇÃO | B13: Os salários e beneficios utilizados nos modelos de planilhas de custos e formação de preços constantes no Edital tem como base a Convenção Coletiva de Trabalho 2023 das referidas categorias dos postos de serviços. Observa-se ainda que funções não definidas em convenção coletiva serão corrigidas de acordo com o percentual de reajuste definido na convenção coletiva de trabalho utilizada pela licitante.
A15: Adicional de Insalubridade e Periculosidade | B15: Prever nas planilhas de custos conforme legislação vigente (se necessário)
A16: IMPORTANTE | B16: As planilhas de custos elaboradas pela CEAGESP tem como base o nosso histórico de contratações, sendo assim, as planilhas de custos da Licitante devem espelhar a sua realidade como por exemplo: sindicatos, percentuais de tributos, SAT, insumos, etc.
A17: Sub módulo 2.2 (Anexar junto com as planilhas) | B17: A Licitante deve anexar junto com as planilhas a memória de cálculo SAT (FAP x RAT) informando o percentual RAT conforme CNAE da empresa, bem como a comprovação do percentual do FAP (Fator Acidentario de Prevenção) através de competente documento o qual pode ser obtido em http://www.previdencia.gov.br/saude-e-seguranca-do-trabalhador/politicas-de-prevencao/fator-acidentario-de-prevencao-fap/ E cópia da página da GFIP-SEFIP onde consta o FAP e o RAT ajustado da empresa.
A18: Módulo 3 Item D (Custos não renováveis) | B18: Aviso Prévio Trabalhado: conforme orientações descritas no Acórdão nº 1.186/2017 TCU-Plenário e reafirmada no Acórdão nº 1.586/2018 TCU-Plenário, a parcela referente à esta rúbrica será excluída após o primeiro ano de contrato, e a cada ano adicional poderá ser incluído a parcela mensal no percentual máximo de até 0,194%.
A19: Submódulos 4.2 e 4.2.1 | B19: Cálculo dos Submódulos 4.2 e 4.2.1 somente se previstos no Instrumento Convocatório
A20: Submódulo 4.2.1 - Cobertura de Feriados, Dias Ponte, e outros (exceto para postos 12 x 36) | B20: Consideramos p/ este cálculo os feriados nacionais e estaduais durante o ano. A Licitante deverá prever em suas planilhas sua realidade e particularidade. OBSERVAÇÃO: O cálculo de dias utilizado pela licitante na fase licitatória referente a esta rubrica permanecerá até o término do contrato, portanto, a licitante deverá prever em seus custos eventuais diferenças quantitativas de dias ocorridas.
... A24: MEMÓRIA DE CÁLCULO | B24: A LICITANTE DEVERÁ APRESENTAR/DESCREVER A MEMÓRIA DE CÁLCULO UTILIZADA NOS DIVERSOS MÓDULOS DE SUAS PLANILHAS DE CUSTOS E JUSTIFICÁ-LAS QUANDO NECESSÁRIO.
A25: OBSERVAÇÕES GERAIS
A27: OBSERVAÇÃO 1: Caso o licitante tenha interesse em utilizar os modelos das planilhas de custo desenvolvidas pela Ceagesp, poderá acessá-la no endereço www.ceagesp.gov.br, opção acesso a informação (licitações e contratos). OBSERVAÇÃO 2: Os modelos disponibilizados encontram-se em Excel e possuem fórmulas que podem ser adaptadas conforme as características, legalmente aceitáveis, de cada licitante. OBSERVAÇÃO 3: A Ceagesp não se responsabilizará pela utilização incorreta das fórmulas disponibilizadas nas planilhas quando essas prejudicarem os preços ofertados pelos licitantes. Observa se ainda que a mesma pode ser adaptada pela licitante.

Sheet Insumos Diversos
A1: PROCESSO Nº 015/2025
A2: INSUMOS DIVERSOS DE MÃO-DE-OBRA
A3: OBJETO: PRESTAÇÃO DE SERVIÇOS DE LIMPEZA, CONSERVAÇÃO E HIGIENIZAÇÃO NO ENTREPOSTO DE FRANCA
A4: UTENSÍLIOS - Jardinagem | B4: Periodicidade | C4: Valor Unitário | D4: Estimativa - CEFRA
D5: Quantidade | E5: Média Mensal
A6: Enxada com Cabo Longo | B6: 24 | C6: 0 | D6: 1 | E6: =ROUND((C6*D6)/B6,2) -> 0
A7: Sacho de 2 pontas com Cabo | B7: 12 | C7: 0 | D7: 1 | E7: =ROUND((C7*D7)/B7,2) -> 0
A8: Facão de corte - 18 polegadas | B8: 24 | C8: 0 | D8: 1 | E8: =ROUND((C8*D8)/B8,2) -> 0
A9: Cavadeira Articulada com Cabo Longo | B9: 24 | C9: 0 | D9: 1 | E9: =ROUND((C9*D9)/B9,2) -> 0
A10: Vanga com ponta e Cabo Longo | B10: 24 | C10: 0 | D10: 1 | E10: =ROUND((C10*D10)/B10,2) -> 0
A11: Garfo de 4 dentes com Cabo Longo | B11: 3 | C11: 0 | D11: 2 | E11: =ROUND((C11*D11)/B11,2) -> 0
A12: Rastelo Plástico de 55cm com Cabo Longo | B12: 3 | C12: 0 | D12: 2 | E12: =ROUND((C12*D12)/B12,2) -> 0
A13: Rastelo Metálico de 18 dentes com Cabo Longo | B13: 3 | C13: 0 | D13: 2 | E13: =ROUND((C13*D13)/B13,2) -> 0
A14: Materiais e utensiílios para manutenção de jardins | B14: 12 | C14: 0 | D14: 1 | E14: =ROUND((C14*D14)/B14,2) -> 0
A15: Regador - 14 litros | B15: 12 | C15: 0 | D15: 1 | E15: =ROUND((C15*D15)/B15,2) -> 0
A16: Protetor para roçagem (flexível) 5,0m x 1,5m altura – fixação no solo | B16: 24 | C16: 0 | D16: 1 | E16: =ROUND((C16*D16)/B16,2) -> 0
A17: Tesoura de poda e grama cerca viva tipo tramontina | B17: 24 | C17: 0 | D17: 1 | E17: =ROUND((C17*D17)/B17,2) -> 0
... A19: Serrote para madeira de 40 cm | B19: 12 | C19: 0 | D19: 1 | E19: =ROUND((C19*D19)/B19,2) -> 0
A20: TOTAL MÉDIA MENSAL | E20: =SUM(E6:E19) -> 0
A21: Valor mensal p/ posto | E21: =E20/'Quadro Resumo M² - CEFRA'!F14 -> 0
A23: UTENSÍLIOS (Uso Geral) | B23: Periodicidade | C23: Valor Unitário | D23: Estimativa - CEFRA
D24: Quantidade | E24: Média Mensal
A25: Cone de sinalização - polietileno, base quadrada com 110x60x60 | B25: 12 | C25: 0 | D25: 4 | E25: =ROUND((C25*D25)/B25,2) -> 0
A26: Escada doméstica 5 degruas | B26: 24 | C26: 0 | D26: 1 | E26: =ROUND((C26*D26)/B26,2) -> 0
A27: Extensão elétrica cabo PP 10/20A – 30m | B27: 24 | C27: 0 | D27: 1 | E27: =ROUND((C27*D27)/B27,2) -> 0
A28: Mangueira doméstica de 50 m | B28: 12 | C28: 0 | D28: 1 | E28: =ROUND((C28*D28)/B28,2) -> 0
A29: Rádio Comunicador (HT) com bateriais reserva | B29: 60 | C29: 0 | D29: 3 | E29: =ROUND((C29*D29)/B29,2) -> 0
A30: TOTAL MÉDIA MENSAL | E30: =SUM(E25:E29) -> 0
A31: Valor mensal p/ posto | E31: =E30/'Quadro Resumo M² - CEFRA'!F15 -> 0
A33: MÁQUINAS E EQUIPAMENTOS (Uso Geral) | B33: PREÇO MÉDIO R$ | C33: DEPRECIAÇÃO ANUAL % | D33: Estimativa - CEFRA
D34: Quantidade | E34: Média Mensal
A35: Máquina de Pressão VAP Profissional ou similar | B35: 0 | C35: 0.1 | D35: 1 | E35: =ROUND(((B35*C35)*D35)/12,2) -> 0
A36: Carrinho plataforma fechado em tela para carga, com 4 rodas maciças (1,5m x 0,80m) '' | B36: 0 | C36: 0.1 | D36: 2 | E36: =ROUND(((B36*C36)*D36)/12,2) -> 0
A37: Carriola reforçada com pneu e câmara de ar (65 litros) | B37: 0 | C37: 0.1 | D37: 1 | E37: =ROUND(((B37*C37)*D37)/12,2) -> 0
A38: TOTAL MENSAL | E38: =SUM(E35:E37) -> 0
A39: VALOR MENSAL POR POSTO | E39: =E38/'Quadro Resumo M² - CEFRA'!F15 -> 0
A41: MÁQUINAS E EQUIPAMENTOS (Jardinagem) | B41: PREÇO MÉDIO R$ | C41: DEPRECIAÇÃO ANUAL % | D41: Estimativa - CEFRA
D42: Quantidade | E42: Média Mensal
A43: Podador a Altura a gasolina 2 Tempos 52 CC | B43: 0 | C43: 0.1 | D43: 1 | E43: =ROUND(((B43*C43)*D43)/12,2) -> 0
A44: Roçadeira costal movida a gasolina (profissional) | B44: 0 | C44: 0.1 | D44: 1 | E44: =ROUND(((B44*C44)*D44)/12,2) -> 0
...

Sheet Materias de Limpeza CEFRA
A1: PROCESSO Nº 015/2025
A2: INSUMOS DIVERSOS DE MÃO-DE-OBRA
A3: OBJETO: PRESTAÇÃO DE SERVIÇOS DE LIMPEZA, CONSERVAÇÃO E HIGIENIZAÇÃO NO ENTREPOSTO DE FRANCA
A4: MATERIAIS (Limpeza e Conservação) | B4: Periodicidade/ meses | C4: Valor Unitário | D4: Estimativa - CEFRA
D5: Quantidade | E5: Média Mensal
A6: Balde plástico com alças – 20 litros | B6: 12 | C6: 0 | D6: 3 | E6: =ROUND((C6*D6)/B6,2) -> 0
A7: Colher de Pedreiro - 8 polegadas | B7: 12 | C7: 0 | D7: 1 | E7: =ROUND((C7*D7)/B7,2) -> 0
A8: Escova de Limpeza Oval - Base Plástica | B8: 3 | C8: 0 | D8: 2 | E8: =ROUND((C8*D8)/B8,2) -> 0
A9: Escova para higienização de vaso sanitário | B9: 3 | C9: 0 | D9: 2 | E9: =ROUND((C9*D9)/B9,2) -> 0
A10: Esponja Dupla Face | B10: 3 | C10: 0 | D10: 15 | E10: =ROUND((C10*D10)/B10,2) -> 0
A11: Fita zebrada de filme polietileno 70mm x 200m | B11: 12 | C11: 0 | D11: 1 | E11: =ROUND((C11*D11)/B11,2) -> 0
A12: Frasco Pulverizador | B12: 3 | C12: 0 | D12: 1 | E12: =ROUND((C12*D12)/B12,2) -> 0
A13: Pá de Lixo Coletora de Metal com Cabo Longo | B13: 12 | C13: 0 | D13: 3 | E13: =ROUND((C13*D13)/B13,2) -> 0
A14: Pano de Flanela Branco | B14: 3 | C14: 0 | D14: 12 | E14: =ROUND((C14*D14)/B14,2) -> 0
A15: Pano de Saco Branco | B15: 3 | C15: 0 | D15: 15 | E15: =ROUND((C15*D15)/B15,2) -> 0
A16: Placa Sinalizadora Cavalete de Alerta das Atividades | B16: 12 | C16: 0 | D16: 2 | E16: =ROUND((C16*D16)/B16,2) -> 0
A17: Rodo de 40 cm com Cabo Longo | B17: 3 | C17: 0 | D17: 3 | E17: =ROUND((C17*D17)/B17,2) -> 0
... A40: Saponáceo líquido – frasco 250 ml | B40: 3 | C40: 0 | D40: 6 | E40: =ROUND((C40*D40)/B40,2) -> 0
A41: TOTAL MÉDIA MENSAL | E41: =SUM(E6:E40) -> 0 | F41: =E41*12 -> 0
A42: TOTAL MÉDIO PELO PERÍODO DE 12 MESES | E42: =E41*12 -> 0

Sheet Agente de Higienização_CEFRA
A1: PLANILHA DE CUSTO E FORMAÇÃO DE PREÇOS
A2: PROCESSO Nº 015/2025
A3: OBJETO: PRESTAÇÃO DE SERVIÇOS DE LIMPEZA, CONSERVAÇÃO E HIGIENIZAÇÃO NO ENTREPOSTO DE FRANCA
A5: I - DISCRIMINAÇÃO DOS SERVIÇOS
A6: Data de Apresentação da Proposta:
A7: Município/UF: | F7: FRANCA/SP
A8: Sindicato: SEAC/SP SINDICATO DAS EMPRESAS DE ASSEIO E CONSERVAÇÃO NO ESTADO DE SAO PAULO e SIEMACO-SP - SINDICATO TRABALHADORES EMPRESAS PRESTACAO DE SERVICOS DE ASSEIO E CONSERVACAO E LIMPEZA URBANA DE SP
A10: Ano do acordo, convenção ou dissídio coletivo: | F10: 2025
A11: Tipo de serviço: | F11: LIMPEZA
A12: Unidade de Medida: | F12: Posto/Hora
A13: Período contratual: | F13: 12 MESES
A14: DADOS COMPLEMENTARES
A15: Salário mínimo oficial vigente: | F15: 0
A16: Categoria Profissional: | F16: Agente de Higienização
A17: Classificação Brasileira de Ocupações (CBO): | F17: 5143-20
A18: Salário Normativo da Categoria Profissional: | F18: 0
A19: Data Base da Categoria: | F19: 45658
A20: Posto de Trabalho: | F20: 44 HORAS SEMANAIS
A21: Quantidade de Pessoas por Posto: | F21: 1
A22: Quantidade de Postos: | F22: 1
A23: Outras Informações: | F23: DIURNO
A24: Posto de trabalho: 2ª à 6ª - c/ início às 7:00 - (com intervalo para refeição)
A25: MODULO 1 - COMPOSIÇÃO DA REMUNERAÇÃO
A26: 1 | B26: Composição da Remuneração | F26: Quant/Horas/Perc | G26: Valor Total
A27: A | B27: Salário Base | F27: 1 | G27: =F18*F27 -> 0
A28: B | B28: Adicional Periculosidade | G28: =ROUND(F18*F28,2) -> 0
A29: C | B29: Adicional Insalubridade | F29: =40%*0 -> 0 | G29: =ROUND(F15*F29,2) -> 0
A30: D | B30: Adicional de Liderança | G30: =ROUND(F18*F30,2) -> 0
A31: E | B31: Adicional Noturno (Hora Noturna/Hora Reduzida) | F31: =ROUND((ROUND((0*15.22),2)/52.5)*60,2) -> 0 | G31: =ROUND((F18/192*0.2)*F31,2) -> 0
A32: F | B32: DSR Sobre Adicional Noturno | F32: =ROUND(SUM(F31)/25*5,2) -> 0 | G32: =ROUND((F18/192*0.2)*F32,2) -> 0
A33: G | B33: Outrros (especificar) | G33: 0
A34: Total da Remuneração/MÓDULO 1 | G34: =SUM(G27:G33) -> 0
A35: MÓDULO 2 - ENCARGOS E BENEFÍCIOS ANUAIS, MENSAIS E DIÁRIOS
A36: Submódulo 2.1 - 13º Salário, Férias e Adicional de Férias
A37: A | B37: 13º Salário | F37: =ROUND((1/12),6) -> 0.0833 | G37: =ROUND(G$34*F37,2) -> 0
A38: B | B38: Ferias e terço constitucional | F38: =ROUND((1/11)+(1/11)/3, 3) -> 0.121 | G38: =ROUND(G$34*F38,2) -> 0
B39: Subtotal | F39: =SUM(F37:F38) -> 0.2043
A40: C | B40: Incidência do Submódulo 2.2 sobre o Submódulo 2.1 | F40: =ROUND((F51*F39),4) -> 0 | G40: =ROUND(G$34*F40,2) -> 0
A41: Total do Submódulo 2.1 | F41: =ROUND(SUM(F39:F40),4) -> 0.2043 | G41: =SUM(G37:G40) -> 0 | H41: =ROUND(G34*F41,2) -> 0
A42: Submódulo 2.2 – Encargos Previdenciários (GPS), FGTS e Outras Contribuições | H42: =SUM(G41,G34) -> 0
...

Sheet Jardineiro_CEFRA
A1: PLANILHA DE CUSTO E FORMAÇÃO DE PREÇOS
A2: PROCESSO Nº 015/2025
A3: OBJETO: PRESTAÇÃO DE SERVIÇOS DE LIMPEZA, CONSERVAÇÃO E HIGIENIZAÇÃO NO ENTREPOSTO DE FRANCA
A5: I - DISCRIMINAÇÃO DOS SERVIÇOS
A6: Data de Apresentação da Proposta:
A7: Município/UF: | F7: FRANCA/SP
A8: Sindicato: SINDVERDE - SINDICATO DAS EMPRESAS DE MANUTENCAO E EXECUCAO DE AREAS VERDES PÚBLICAS E PRIVADAS DO ESTADO DE SÃO PAULO
A10: Ano do acordo, convenção ou dissídio coletivo: | F10: 2025
A11: Tipo de serviço: | F11: LIMPEZA
A12: Unidade de Medida: | F12: Posto/Hora
A13: Período contratual: | F13: 12 MESES
A14: DADOS COMPLEMENTARES
A15: Salário mínimo oficial vigente: | F15: 0
A16: Categoria Profissional: | F16: Jardineiro
A17: Classificação Brasileira de Ocupações (CBO): | F17: 6220-10
A18: Salário Normativo da Categoria Profissional: | F18: 0
A19: Data Base da Categoria: | F19: 45717
A20: Posto de Trabalho: | F20: 44 HORAS SEMANAIS
A21: Quantidade de Pessoas por Posto: | F21: 1
A22: Quantidade de Postos: | F22: 1
A23: Outras Informações: | F23: DIURNO
A24: Posto de trabalho: 2ª à 6ª - c/ início às 7:00 - (com intervalo para refeição)
A25: MODULO 1 - COMPOSIÇÃO DA REMUNERAÇÃO
A26: 1 | B26: Composição da Remuneração | F26: Quant/Horas/Perc | G26: Valor Total
A27: A | B27: Salário Base | F27: 1 | G27: =F18*F27 -> 0
A28: B | B28: Adicional Periculosidade | G28: =ROUND(F18*F28,2) -> 0
A29: C | B29: Adicional Insalubridade | F29: =20%*0 -> 0 | G29: =ROUND(F15*F29,2) -> 0
A30: D | B30: Adicional de Liderança | G30: =ROUND(F18*F30,2) -> 0
A31: E | B31: Adicional Noturno (Hora Noturna/Hora Reduzida) | F31: =ROUND((ROUND((0*15.22),2)/52.5)*60,2) -> 0 | G31: =ROUND((F18/192*0.2)*F31,2) -> 0
A32: F | B32: DSR Sobre Adicional Noturno | F32: =ROUND(SUM(F31)/25*5,2) -> 0 | G32: =ROUND((F18/192*0.2)*F32,2) -> 0
A33: G | B33: Outrros (especificar) | G33: 0
A34: Total da Remuneração/MÓDULO 1 | G34: =SUM(G27:G33) -> 0
A35: MÓDULO 2 - ENCARGOS E BENEFÍCIOS ANUAIS, MENSAIS E DIÁRIOS
A36: Submódulo 2.1 - 13º Salário, Férias e Adicional de Férias
A37: A | B37: 13º Salário | F37: =ROUND((1/12),6) -> 0.0833 | G37: =ROUND(G$34*F37,2) -> 0
A38: B | B38: Ferias e terço constitucional | F38: =ROUND((1/11)+(1/11)/3, 3) -> 0.121 | G38: =ROUND(G$34*F38,2) -> 0
B39: Subtotal | F39: =SUM(F37:F38) -> 0.2043
A40: C | B40: Incidência do Submódulo 2.2 sobre o Submódulo 2.1 | F40: =ROUND((F51*F39),4) -> 0 | G40: =ROUND(G$34*F40,2) -> 0
A41: Total do Submódulo 2.1 | F41: =ROUND(SUM(F39:F40),4) -> 0.2043 | G41: =SUM(G37:G40) -> 0 | H41: =ROUND(G34*F41,2) -> 0
A42: Submódulo 2.2 – Encargos Previdenciários (GPS), FGTS e Outras Contribuições | H42: =SUM(G41,G34) -> 0
...

Sheet Quadro Resumo M² - CEFRA
B1: PROCESSO Nº 015/2025
B2: QUADRO RESUMO - CÁLCULO PRODUTIVIDADE
B3: OBJETO: PRESTAÇÃO DE SERVIÇOS DE LIMPEZA, CONSERVAÇÃO E HIGIENIZAÇÃO NO ENTREPOSTO DE FRANCA
B4: ENTRADA DE DADOS
B6: Áreas reais da unidade (em M²) | C6: FRANCA/SP
B7: Tipos de Áreas (1) | C7: TOTAL | D7: Produtividade/ m² | E7: Dimensionamento de Pessoas | F7: Quant. Mínimo conf. Termo de Referência (3.8.2)
B8: ÁREAS INTERNAS | C8: 278.62 | D8: 800 | E8: =C8/D8 -> 0.35 | F8: =ROUNDDOWN(SUM(E8:E11),0) -> 3
B9: AREAS EXTERNAS | C9: 7201 | D9: 2700 | E9: =C9/D9 -> 2.67
B10: ÁREAS ENVIDRAÇADAS COM EXPOSIÇÃO DE RISCO | C10: 38.87 | D10: 130 | E10: =C10/D10 -> 0.3
B11: SANITÁRIOS | C11: 19.72 | D11: 200 | E11: =C11/D11 -> 0.1
B12: AREAS VERDES | C12: 5600 | D12: 9000 | E12: =C12/D12 -> 0.62 | F12: =ROUNDUP(E12,0) -> 1 | I12: =SUM(C8:C12) -> 13138.21
B13: Agente de Higienização | F13: =F8 -> 3
B14: Jardineiro | F14: =F12 -> 1
B15: Quantidade mínimo de pessoas conforme Termo de Referência item 3.8.2 | F15: =SUM(F13:F14) -> 4
B17: Preço do homem-mês (2) : | C17: Valor m.o./ mês
B18: ='Agente de Higienização_CEFRA'!F16 -> Agente de Higienização | C18: ='Agente de Higienização_CEFRA'!G138 -> 0
B19: =Jardineiro_CEFRA!F16 -> Jardineiro | C19: =Jardineiro_CEFRA!G138 -> 0
B21: Tipo de área | C21: Produtividade ( I ) (1/m²) (1) | D21: Preço do homem-mês ( II ) | E21: Subtotal (R$/m²) ( I ) x ( II )
B22: área interna
B23: =B18 -> Agente de Higienização | C23: =ROUND(1/D8,9) -> 0.00125 | D23: =C18 -> 0 | E23: =ROUND(D23*C23,2) -> 0
C24: preço por m² total - área interna | E24: =SUM(E23:E23) -> 0
B25: Tipo de área | C25: Produtividade ( I ) (1/m²) (1) | D25: Preço do homem-mês ( II ) | E25: Subtotal (R$/m²) ( I ) x ( II )
B26: área externa
B27: =B18 -> Agente de Higienização | C27: =ROUND(1/D9,9) -> 0.00037037 | D27: =C18 -> 0 | E27: =ROUND(D27*C27,2) -> 0
C28: preço por m² total - área externa | E28: =SUM(E27:E27) -> 0
B29: sanitários
B30: =B18 -> Agente de Higienização | C30: =ROUND(1/D11,9) -> 0.005 | D30: =C18 -> 0 | E30: =ROUND(D30*C30,2) -> 0
C31: preço por m² total - sanitários | E31: =SUM(E30) -> 0
B33: Tipo de área | C33: Produtividade ( I ) (1/m²) (1) | D33: Frequência mês (II) (em horas) | E33: Jornada no mês (III) (em horas) | F33: Coeficiente (ki) ( I )x( II )x( III )=( IV ) | G33: Preço do homem-mês ( V ) | H33: Subtotal(R$/m²) ( IV )x( V )
B35: vidros- fachada interna e externa (3)
B36: =B18 -> Agente de Higienização | C36: =ROUND(1/D10,9) -> 0.007692308 | D36: 3 | E36: =ROUND(1/188.76,9) -> 0.005297733 | F36: =ROUND(((C36)*(E36)*(D36)),9) -> 0.000122255 | G36: =C18 -> 0 | H36: =ROUND(G36*F36,2) -> 0
G37: preço por m² total - esquadria interna e externa | H37: =ROUND(SUM(H36:H36),2) -> 0
B39: Tipo de área | C39: Produtividade ( I ) (1/m²) (1) | D39: Preço do homem-mês ( II ) | E39: Subtotal (R$/m²) ( I ) x ( II )
B40: área verde
B41: =B19 -> Jardineiro | C41: =ROUND(1/D12,9) -> 0.000111111 | D41: =C19 -> 0 | E41: =ROUND(D41*C41,2) -> 0
C42: preço por m² total - área verde | E42: =SUM(E41:E41) -> 0
B44: Tipo de área | C44: Preço por m² mensal (R$/m²) | D44: Área (m²) / Mês | E44: Limite por tipo de área(R$) / Mês | F44: Área (m²) / Anual | G44: Limite por tipo de área(R$) Anual
B46: área interna | C46: =E24 -> 0 | D46: =C8 -> 278.62 | E46: =ROUND(D46*C46,2) -> 0 | F46: =D46*12 -> 3343.44 | G46: =E46*12 -> 0
B47: área externa | C47: =E28 -> 0 | D47: =C9 -> 7201 | E47: =ROUND(D47*C47,2) -> 0 | F47: =D47*12 -> 86412 | G47: =E47*12 -> 0
B48: áreas envidraçadas c/ expos.risco | C48: =H37 -> 0 | D48: =C10 -> 38.87 | E48: =ROUND(D48*C48,2) -> 0 | F48: =D48*12 -> 466.44 | G48: =E48*12 -> 0
...

Sheet Quadro Resumo GERAL M² - SEAPL
B1: PROCESSO Nº 015/2025
B2: QUADRO RESUMO GERAL - ESTIMATIVA
B3: OBJETO: PRESTAÇÃO DE SERVIÇOS DE LIMPEZA, CONSERVAÇÃO E HIGIENIZAÇÃO NO ENTREPOSTO DE FRANCA
B5: ENTREPOSTO DE FRANCA/SP - CEFRA
B6: Tipo de área | C6: Preço por m² mensal (R$/m²) | D6: Área (m²) / Mês | E6: Limite por tipo de área(R$) / Mês | F6: Área (m²) / Anual | G6: Limite por tipo de área(R$) Anual
B8: área interna | C8: ='Quadro Resumo M² - CEFRA'!C46 -> 0 | D8: ='Quadro Resumo M² - CEFRA'!D46 -> 278.62 | E8: =ROUND(D8*C8,2) -> 0 | F8: =D8*12 -> 3343.44 | G8: =E8*12 -> 0
B9: área externa | C9: ='Quadro Resumo M² - CEFRA'!C47 -> 0 | D9: ='Quadro Resumo M² - CEFRA'!D47 -> 7201 | E9: =ROUND(D9*C9,2) -> 0 | F9: =D9*12 -> 86412 | G9: =E9*12 -> 0
B10: áreas envidraçadas c/ expos.risco | C10: ='Quadro Resumo M² - CEFRA'!C48 -> 0 | D10: ='Quadro Resumo M² - CEFRA'!D48 -> 38.87 | E10: =ROUND(D10*C10,2) -> 0 | F10: =D10*12 -> 466.44 | G10: =E10*12 -> 0
B11: sanitários | C11: ='Quadro Resumo M² - CEFRA'!C49 -> 0 | D11: ='Quadro Resumo M² - CEFRA'!D49 -> 19.72 | E11: =ROUND(D11*C11,2) -> 0 | F11: =D11*12 -> 236.64 | G11: =E11*12 -> 0
B12: áreas verdes | C12: ='Quadro Resumo M² - CEFRA'!C50 -> 0 | D12: ='Quadro Resumo M² - CEFRA'!D50 -> 5600 | E12: =ROUND(D12*C12,2) -> 0 | F12: =D12*12 -> 67200 | G12: =E12*12 -> 0
B13: Limite Máximo Contratação mão de obra mensal (R$) | E13: =SUM(E8:E12) -> 0
B14: Limite Máximo Contratação da mão de obra pelo período de 12 meses (R$) | G14: =SUM(G8:G12) -> 0
B15: Agente de Higienização | G15: ='Quadro Resumo M² - CEFRA'!F13 -> 3
B16: Jardineiro | G16: ='Quadro Resumo M² - CEFRA'!F14 -> 1
B17: Quantidade mínimo de pessoas conforme Termo de Referência item 3.8.2 | G17: =SUM(G15:G16) -> 4
B18: ='Quadro Resumo M² - CEFRA'!B53:D53 -> Materiais de Limpeza Média Mensal | E18: ='Quadro Resumo M² - CEFRA'!E53 -> 0
B19: ='Quadro Resumo M² - CEFRA'!B54:F54 -> Materiais de Limpeza Média - Período de 12 meses | G19: =E18*12 -> 0
B20: ='Quadro Resumo M² - CEFRA'!B55:D55 -> TOTAL MENSAL MÃO DE OBRA + MATERIAIS DE LIMPEZA | E20: =E13+E18 -> 0
B21: ='Quadro Resumo M² - CEFRA'!B56:F56 -> TOTAL PELO PERÍODO DE 12 MESES MÃO DE OBRA + MATERIAIS DE LIMPEZA | G21: =E20*12 -> 0 | H21: =G14+G19 -> 0
B23: TOTAL GERAL DA CONTRATAÇÃO ANUAL | G23: =G21 -> 0
B24: TOTAL GERAL - AGENTE DE HIGIENIZAÇÃO | G24: =G15 -> 3
B25: TOTAL GERAL - JARDINEIRO | G25: =G16 -> 1
B26: Observações:
B28: Os valores contidos neste quadro devem espelhar a PROPOSTA COMERCIAL.
