Workbook
Name EQUIPTOS: '[1]Equipamentos e material'!#REF!
Name EQUIPTOS: '[1]Equipamentos e material'!#REF!
Name EQUIPTOS: '[1]Equipamentos e material'!#REF!

Sheet Observações
A1: OBSERVAÇÕES RELATIVAS AS PLANILHAS DE CUSTOS E FORMAÇÃO DE PREÇOS
A3: Planilhas Modelo | B3: 1 - DEVERÃO ser utilizadas as planilhas de custos e formação de preços conforme modelo do anexo II do edital; 2 - Solicita-se usar sistemática de arredondamento nas fórmulas, tanto para valores quanto para percentuais, utilizando sempre duas casas decimais para cálculo dos postos e valores: =ARRED(...;2), e nove casas decimais para o cálculo da produtividade: =ARRED(...;9) 3 - Sugere-se ainda, habilitar nas planilhas do Excel a opção "Habilitar cálculo interativo", esta ação contribui para o cálculo integrado dos diversos módulos da planilha, segue caminho: (ARQUIVO/Opções/Fórmulas/Habilitar cálculo interativo).
B4: 4 - Nas planilhas de insumos a periodicidade/mês e o quantitativo devem ser preenchidos conforme informações constantes no Edital
B5: 5 - Algumas células apresentam fórmulas multiplicadas por 0 (zero) destacadas na cor verde para manter a integridade dos cálculos, caso o conteúdo da célula seja aplicável a licitante sugere-se apagar o zero e manter a integridade do cálculo e/ou adaptar conforme a característica e particularidade da Licitante.
B6: 6 - Ao utilizar utilizar as planilhas Modelo editáveis da CEAGESP sugere-se seguir o preenchimento na ordem em que se encontram para facilitar a integração dos cálculos e manutenção das fórmulas
A7: CATEGORIA SINDICAL - Acordos e Convenções Coletivas | B7: A Licitante deverá indicar em campo específico qual o ano, a data base e a convenção coletiva de trabalho que está sendo utilizada para compor salários e benefícios em suas planilhas de custos e formação de preços. Os modelos constantes no Edital e no Portal CEAGESP deverão ser adapatados conforme as caracteristicas e particularidades de cada empresa licitante.
A9: Acordos e Convenções Coletivas | B9: Apresentar cópia dos Acordos e Convenções Coletivas que a Licitante utilizou para compor salários e benefícios na planilha de custos e formação de preços
A10: Acordos e Convenções Coletivas - Mão de Obra | B10: Salários, benefícios e demais itens obrigatórios constantes nos acordos e convenções coletivas utilizadas pela Licitante que se aplicam a mão de obra deverão compor as planilhas de custos e formação de preços.
A11: Acordos e Convenções Coletivas - (Itens não permitidos) | B11: INSTRUÇÃO NORMATINA Nº 05/2017 Art. 6º A Administração não se vincula às disposições contidas em Acordos, Convenções ou Dissídios Coletivos de Trabalho que tratem de pagamento de participação dos trabalhadores nos lucros ou resultados da empresa contratada, de matéria não trabalhista, ou que estabeleçam direitos não previstos em lei, tais como valores ou índices obrigatórios de encargos sociais ou previdenciários, bem como de preços para os insumos relacionados ao exercício da atividade. Parágrafo único. É vedado ao órgão e entidade vincular-se às disposições previstas nos Acordos, Convenções ou Dissídios Coletivos de Trabalho que tratem de obrigações e direitos que somente se aplicam aos contratos com a Administração Pública.
A12: PLANILHA - INSUMOS DIVERSOS | B12: As planilhas constantes no edital são modelos e as empresas licitantes deverão atender aos dispositivos compostos no Edital, como por exemplo no Anexo I - Termo de Referência, Anexo II - Modelo de Planilhas, e demais condições do instrumento convocatório.
A13: MODULO 1 - COMPOSIÇÃO DA REMUNERAÇÃO | B13: Os salários e beneficios utilizados nos modelos de planilhas de custos e formação de preços constantes no Edital tem como base a Convenção Coletiva de Trabalho das referidas categorias dos postos de serviços. Observa-se ainda que funções não definidas em convenção coletiva serão corrigidas de acordo com o percentual de reajuste definido na convenção coletiva de trabalho utilizada pela licitante.
A15: Adicional de Insalubridade e Periculosidade | B15: Prever nas planilhas de custos conforme legislação vigente (se necessário)
A16: IMPORTANTE | B16: As planilhas de custos elaboradas pela CEAGESP tem como base o nosso histórico de contratações, sendo assim, as planilhas de custos da Licitante devem espelhar a sua realidade como por exemplo: sindicatos, percentuais de tributos, SAT, insumos, etc.
A17: Sub módulo 2.2 (Anexar junto com as planilhas) | B17: A Licitante deve anexar junto com as planilhas a memória de cálculo SAT (FAP x RAT) informando o percentual RAT conforme CNAE da empresa, bem como a comprovação do percentual do FAP (Fator Acidentario de Prevenção) através de competente documento o qual pode ser obtido em http://www.previdencia.gov.br/saude-e-seguranca-do-trabalhador/politicas-de-prevencao/fator-acidentario-de-prevencao-fap/ E cópia da página da GFIP-SEFIP onde consta o FAP e o RAT ajustado da empresa.
A18: Módulo 3 Item D (Custos não renováveis) | B18: Aviso Prévio Trabalhado: conforme orientações descritas no Acórdão nº 1.186/2017 TCU-Plenário e reafirmada no Acórdão nº 1.586/2018 TCU-Plenário, a parcela referente à esta rúbrica será excluída após o primeiro ano de contrato, e a cada ano adicional poderá ser incluído a parcela mensal no percentual máximo de até 0,194%.
A19: Submódulos 4.2 e 4.2.1 | B19: Cálculo dos Submódulos 4.2 e 4.2.1 somente se previstos no Instrumento Convocatório
A20: Submódulo 4.2.1 - Cobertura de Feriados, Dias Ponte, e outros (exceto para postos 12 x 36) | B20: Consideramos p/ este cálculo os feriados nacionais e estaduais durante o ano. A Licitante deverá prever em suas planilhas sua realidade e particularidade. OBSERVAÇÃO: O cálculo de dias utilizado pela licitante na fase licitatória referente a esta rubrica permanecerá até o término do contrato, portanto, a licitante deverá prever em seus custos eventuais diferenças quantitativas de dias ocorridas.
... A24: MEMÓRIA DE CÁLCULO | B24: A LICITANTE DEVERÁ APRESENTAR/DESCREVER A MEMÓRIA DE CÁLCULO UTILIZADA NOS DIVERSOS MÓDULOS DE SUAS PLANILHAS DE CUSTOS E JUSTIFICÁ-LAS QUANDO NECESSÁRIO.
A25: OBSERVAÇÕES GERAIS
A27: OBSERVAÇÃO 1: Caso o licitante tenha interesse em utilizar os modelos das planilhas de custo desenvolvidas pela Ceagesp, poderá acessá-la no endereço www.ceagesp.gov.br, opção acesso a informação (licitações e contratos). OBSERVAÇÃO 2: Os modelos disponibilizados encontram-se em Excel e possuem fórmulas que podem ser adaptadas conforme as características, legalmente aceitáveis, de cada licitante. OBSERVAÇÃO 3: A Ceagesp não se responsabilizará pela utilização incorreta das fórmulas disponibilizadas nas planilhas quando essas prejudicarem os preços ofertados pelos licitantes.

Sheet Insumos Gerais
A1: PLANILHA - INSUMOS DIVERSOS DE MÃO-DE-OBRA - LOTE 2 - GRUPO II
A2: PROCESSO Nº 167/2024 - PREGÃO 90015/2025 | D2: LOTE 2 - GRUPO II
A3: OBJETO: PRESTAÇÃO DE SERVIÇOS DE VIGILÂNCIA E SEGURANÇA PATRIMONIAL 24 HORAS PARA O ETSP COM MONITORAMENTO ELETRÔNICO
A4: EPI'S E OUTROS ( USO GERAL) | B4: Periodicidade | C4: Valor Unitário | D4: Estimativa
D5: Quantidade | E5: Média Mensal
A6: Protetor solar | B6: 6 | C6: 0 | D6: 16 | E6: =ROUND((C6*D6)/B6,2) -> 0
A7: Squeeze | B7: 6 | C7: 0 | D7: 16 | E7: =ROUND((C7*D7)/B7,2) -> 0
A8: TOTAL MENSAL | E8: =SUM(E6:E7) -> 0
A9: TOTAL MÉDIA MENSAL POR PESSOA | E9: =ROUND(E8/'G-II - Estimativa LICITANTE'!G8,2) -> 0
A10: UNIFORMES (USO GERAL) | B10: Periodicidade/meses | C10: Valor Unitário | D10: Estimativa
D11: Quantidade | E11: Média Mensal
A12: Calça Rip Stop | B12: 6 | C12: 0 | D12: 4 | E12: =ROUND((C12*D12)/B12,2) -> 0
A13: Camisa manga curta | B13: 6 | C13: 0 | D13: 4 | E13: =ROUND((C13*D13)/B13,2) -> 0
A14: Cinto de Nylon | B14: 6 | C14: 0 | D14: 1 | E14: =ROUND((C14*D14)/B14,2) -> 0
A15: Bota cano curto, bico de aço | B15: 6 | C15: 0 | D15: 2 | E15: =ROUND((C15*D15)/B15,2) -> 0
A16: Meia de Algodão (par) | B16: 6 | C16: 0 | D16: 6 | E16: =ROUND((C16*D16)/B16,2) -> 0
A17: Boné ou Quepe com Logotipo da contratada | B17: 6 | C17: 0 | D17: 2 | E17: =ROUND((C17*D17)/B17,2) -> 0
A18: Japona Rip Stop | B18: 6 | C18: 0 | D18: 1 | E18: =ROUND((C18*D18)/B18,2) -> 0
A19: Sobretudo | B19: 6 | C19: 0 | D19: 1 | E19: =ROUND((C19*D19)/B19,2) -> 0
A20: Capa de chuva | B20: 6 | C20: 0 | D20: 1 | E20: =ROUND((C20*D20)/B20,2) -> 0
A21: Botas de chuva | B21: 6 | C21: 0 | D21: 1 | E21: =ROUND((C21*D21)/B21,2) -> 0
A22: Crachá de Identificação | B22: 6 | C22: 0 | D22: 1 | E22: =ROUND((C22*D22)/B22,2) -> 0
A23: Colete Refletivo | B23: 6 | C23: 0 | D23: 1 | E23: =ROUND((C23*D23)/B23,2) -> 0
A24: TOTAL MÉDIA MENSAL POR PESSOA | E24: =SUM(E12:E23) -> 0
A25: Materiais Sob Expensas | B25: Periodicidade/ Meses | D25: Estimativa
D26: Quantidade
A27: Sistema Eletrônico de Registro de Ponto Biométrico | B27: 60 | D27: 1
A28: Sistema de Ronda de Postos | D28: 1
A29: Cadeira de Escritório | D29: 1
A30: Mesa de Escritorio | D30: 1
A31: Computador | D31: 1
A32: Impressora | D32: 1
A33: Armário Roupeiro para vestiário | D33: 1
A34: Marmiteiro | D34: 1
A35: Mesa para Refeitório | D35: 1
A36: Banco para Refeitório | D36: 1
A37: Outros itens constantes no Termo de Referência | D37: 1

Sheet G-II - Vigia OP MONITORA DIU
A1: PLANILHA DE CUSTO E FORMAÇÃO DE PREÇOS
A2: PROCESSO Nº 167/2024 - PREGÃO 90015/2025 | F2: LOTE 2 - GRUPO II
A3: OBJETO: PRESTAÇÃO DE SERVIÇOS DE VIGILÂNCIA E SEGURANÇA PATRIMONIAL 24 HORAS PARA O ETSP COM MONITORAMENTO ELETRÔNICO
A5: I - DISCRIMINAÇÃO DOS SERVIÇOS
A6: Data de Apresentação da Proposta:
A7: Município/UF: | F7: SÃO PAULO
A8: Sindicato: SESVESP - SINDICATO DAS EMPRESAS DE SEGURANCA PRIVADA, SEGURANÇA ELETRÔNICA, SERVICOS DE ESCOLTA E CURSOS DE FORMAÇÃO
A10: Ano do acordo, convenção ou dissídio coletivo: | F10: 2025
A11: Tipo de serviço: | F11: VIGILÂNCIA
A12: Unidade de Medida: | F12: Posto/Hora
A13: Período contratual: | F13: 12 MESES
A14: DADOS COMPLEMENTARES
A15: Salário mínimo oficial vigente: | F15: 1518
A16: Categoria Profissional: | F16: VIGILANTE OP. MONITORAMENTO
A17: Classificação Brasileira de Ocupações (CBO): | F17: 5173-30
A18: Salário Normativo da Categoria Profissional: | F18: 2148.22
A19: Data Base da Categoria: | F19: 45658
A20: Posto de Trabalho: | F20: 12 HORAS DIURNO
A21: Quantidade de Pessoas por Posto: | F21: 2
A22: Quantidade de Postos: | F22: 4
A23: Outras Informações: | F23: Escala 12 x 36
A24: Posto de trabalho:De 2ª a Domingo, das 6:00 às 18:00 - c/ intervalo regulamentar para refeição
A25: MODULO 1 - COMPOSIÇÃO DA REMUNERAÇÃO
A26: 1 | B26: Composição da Remuneração | F26: Quant/Horas/Perc | G26: Valor Total
A27: A | B27: Salário | F27: 1 | G27: =F18*F27 -> 2148.22
A28: B | B28: Adicional Periculosidade | F28: 0.3 | G28: =ROUND(G27*F28,2) -> 644.47
A29: C | B29: Adicional Insalubridade | F29: 0 | G29: =ROUND(F15*F29,2) -> 0
A30: D | B30: Adicional Noturno (Hora Noturna/Hora Reduzida) | F30: =ROUND((ROUND((0*15.22),2)/52.5)*60,2) -> 0 | G30: =ROUND(ROUND(ROUND((SUM(G27:G29)+G32)/220,2)*0.2,2)*F30,2) -> 0
A31: E | B31: Gratificação | F31: 0.1177 | G31: =ROUND(G27*F31,2) -> 252.85
A32: F | B32: Outros (especificar) | G32: =ROUND(F18*F32,2) -> 0
A33: Total da Remuneração/MÓDULO 1 | G33: =SUM(G27:G32) -> 3045.54
A34: MÓDULO 2 - ENCARGOS E BENEFÍCIOS ANUAIS, MENSAIS E DIÁRIOS
A35: Submódulo 2.1 - 13º Salário, Férias e Adicional de Férias
A36: A | B36: 13º Salário | F36: 0 | G36: =ROUND(G$33*F36,2) -> 0
A37: B | B37: Ferias e terço constitucional | F37: =ROUND((1/11)+(1/11)/3, 3)*0 -> 0 | G37: =ROUND(G$33*F37,2) -> 0
B38: Subtotal | F38: =SUM(F36:F37) -> 0
A39: C | B39: Incidência do Submódulo 2.2 sobre o Submódulo 2.1 | F39: =ROUND((F50*F38),4) -> 0 | G39: =ROUND(G$33*F39,2) -> 0
A40: Total do Submódulo 2.1 | F40: =ROUND(SUM(F38:F39),4) -> 0 | G40: =SUM(G36:G39) -> 0 | H40: =ROUND(G33*F40,2) -> 0
A41: Submódulo 2.2 – Encargos Previdenciários (GPS), FGTS e Outras Contribuições
A42: A | B42: INSS | F42: 0 | G42: =ROUND(G$33*F42,2) -> 0
...

Sheet G-II - Vigia OP MONITORA NOT
A1: PLANILHA DE CUSTO E FORMAÇÃO DE PREÇOS
A2: PROCESSO Nº 167/2024 - PREGÃO 90015/2025 | F2: LOTE 2 - GRUPO II
A3: OBJETO: PRESTAÇÃO DE SERVIÇOS DE VIGILÂNCIA E SEGURANÇA PATRIMONIAL 24 HORAS PARA O ETSP COM MONITORAMENTO ELETRÔNICO
A5: I - DISCRIMINAÇÃO DOS SERVIÇOS
A6: Data de Apresentação da Proposta:
A7: Município/UF: | F7: SÃO PAULO
A8: Sindicato: SESVESP - SINDICATO DAS EMPRESAS DE SEGURANCA PRIVADA, SEGURANÇA ELETRÔNICA, SERVICOS DE ESCOLTA E CURSOS DE FORMAÇÃO
A10: Ano do acordo, convenção ou dissídio coletivo: | F10: 2025
A11: Tipo de serviço: | F11: VIGILÂNCIA
A12: Unidade de Medida: | F12: Posto/Hora
A13: Período contratual: | F13: 12 MESES
A14: DADOS COMPLEMENTARES
A15: Salário mínimo oficial vigente: | F15: 1518
A16: Categoria Profissional: | F16: VIGILANTE OP MONITORAMENTO
A17: Classificação Brasileira de Ocupações (CBO): | F17: 5173-30
A18: Salário Normativo da Categoria Profissional: | F18: 2148.22
A19: Data Base da Categoria: | F19: 45658
A20: Posto de Trabalho: | F20: 12 HORAS NOTURNO
A21: Quantidade de Pessoas por Posto: | F21: 2
A22: Quantidade de Postos: | F22: 4
A23: Outras Informações: | F23: Escala 12 x 36
A24: Posto de trabalho:De 2ª a Domingo, das 18:00 às 06:00/ das 18:30 às 06:30 - c/ intervalo regulamentar p/ refeição
A25: MODULO 1 - COMPOSIÇÃO DA REMUNERAÇÃO
A26: 1 | B26: Composição da Remuneração | F26: Quant/Horas/Perc | G26: Valor Total
A27: A | B27: Salário | F27: 1 | G27: =F18*F27 -> 2148.22
A28: B | B28: Adicional Periculosidade | F28: 0.3 | G28: =ROUND(G27*F28,2) -> 644.47
A29: C | B29: Adicional Insalubridade | F29: 0 | G29: =ROUND(F15*F29,2) -> 0
A30: D | B30: Adicional Noturno (Hora Noturna/Hora Reduzida) | F30: =ROUND((ROUND((7*15.22),2)/52.5)*60,2) -> 121.76 | G30: =ROUND(ROUND(ROUND((SUM(G27:G29)+G32)/220,2)*0.2,2)*F30,2) -> 309.27
A31: E | B31: Gratificação | F31: 0.1177 | G31: =ROUND(G27*F31,2) -> 252.85
A32: F | B32: Outros (especificar) | G32: =ROUND(F18*F32,2) -> 0
A33: Total da Remuneração/MÓDULO 1 | G33: =SUM(G27:G32) -> 3354.81
A34: MÓDULO 2 - ENCARGOS E BENEFÍCIOS ANUAIS, MENSAIS E DIÁRIOS
A35: Submódulo 2.1 - 13º Salário, Férias e Adicional de Férias
A36: A | B36: 13º Salário | F36: 0 | G36: =ROUND(G$33*F36,2) -> 0
A37: B | B37: Ferias e terço constitucional | F37: =ROUND((1/11)+(1/11)/3, 3)*0 -> 0 | G37: =ROUND(G$33*F37,2) -> 0
B38: Subtotal | F38: =SUM(F36:F37) -> 0
A39: C | B39: Incidência do Submódulo 2.2 sobre o Submódulo 2.1 | F39: =ROUND((F50*F38),4) -> 0 | G39: =ROUND(G$33*F39,2) -> 0
A40: Total do Submódulo 2.1 | F40: =ROUND(SUM(F38:F39),4) -> 0 | G40: =SUM(G36:G39) -> 0 | H40: =ROUND(G33*F40,2) -> 0
A41: Submódulo 2.2 – Encargos Previdenciários (GPS), FGTS e Outras Contribuições
A42: A | B42: INSS | F42: 0 | G42: =ROUND(G$33*F42,2) -> 0
...

Sheet G-II - Estimativa LICITANTE
B1: PROCESSO Nº 167/2024 - PREGÃO 90015/2025
B2: QUADRO RESUMO GERAL ESTIMATIVA LICITANTE - LOTE 2 - GRUPO II
B3: OBJETO: PRESTAÇÃO DE SERVIÇOS DE VIGILÂNCIA E SEGURANÇA PATRIMONIAL 24 HORAS PARA O ETSP COM MONITORAMENTO ELETRÔNICO
B4: POSTO/UNIDADE | E4: Pessoas p/Posto | F4: Total de Postos | G4: Total de Pessoas | H4: Valor Individual do Posto | I4: Valor Mensal dos Postos | J4: Valor Anual dos Postos
B5: GRUPO II - MONITORAMENTO
B6: ='G-II - Vigia OP MONITORA DIU'!F16 -> VIGILANTE OP. MONITORAMENTO | C6: ='G-II - Vigia OP MONITORA DIU'!F20 -> 12 HORAS DIURNO | D6: ='G-II - Vigia OP MONITORA DIU'!F23 -> Escala 12 x 36 | E6: ='G-II - Vigia OP MONITORA DIU'!F21 -> 2 | F6: ='G-II - Vigia OP MONITORA DIU'!F22:G22 -> 4 | G6: =F6*E6 -> 8 | H6: ='G-II - Vigia OP MONITORA DIU'!G137 -> 0 | I6: =ROUND((H6*F6),2) -> 0 | J6: =I6*12 -> 0
B7: ='G-II - Vigia OP MONITORA NOT'!F16 -> VIGILANTE OP MONITORAMENTO | C7: ='G-II - Vigia OP MONITORA NOT'!F20 -> 12 HORAS NOTURNO | D7: ='G-II - Vigia OP MONITORA NOT'!F23 -> Escala 12 x 36 | E7: ='G-II - Vigia OP MONITORA NOT'!F21 -> 2 | F7: ='G-II - Vigia OP MONITORA NOT'!F22:G22 -> 4 | G7: =F7*E7 -> 8 | H7: ='G-II - Vigia OP MONITORA NOT'!G137 -> 0 | I7: =ROUND((H7*F7),2) -> 0 | J7: =I7*12 -> 0
B8: TOTAL - POSTOS MONITORAMENTO | F8: =SUM(F6:F7) -> 8 | G8: =SUM(G6:G7) -> 16 | I8: =SUM(I6:I7) -> 0 | J8: =I8*12 -> 0
B9: TOTAL GERAL | F9: =F8 -> 8 | G9: =G8 -> 16 | I9: =I8 -> 0 | J9: =I9*12 -> 0
