Workbook
Name EQUIPTOS: '[1]Equipamentos e material'!#REF!
Name EQUIPTOS: '[1]Equipamentos e material'!#REF!
Name EQUIPTOS: '[1]Equipamentos e material'!#REF!
Name EQUIPTOS: '[1]Equipamentos e material'!#REF!
Name EQUIPTOS: '[1]Equipamentos e material'!#REF!

Sheet Observações
A1: OBSERVAÇÕES RELATIVAS AS PLANILHAS DE CUSTOS E FORMAÇÃO DE PREÇOS
A3: Planilhas Modelo | B3: 1 - DEVERÃO ser utilizadas as planilhas de custos e formação de preços conforme modelo do anexo II do edital; 2 - Solicita-se usar sistemática de arredondamento nas fórmulas, tanto para valores quanto para percentuais, utilizando sempre duas casas decimais para cálculo dos postos e valores: =ARRED(...;2), e nove casas decimais para o cálculo da produtividade: =ARRED(...;9) 3 - Sugere-se ainda, habilitar nas planilhas do Excel a opção "Habilitar cálculo interativo", esta ação contribui para o cálculo integrado dos diversos módulos da planilha, segue caminho: (ARQUIVO/Opções/Fórmulas/Habilitar cálculo interativo).
B4: 4 - Nas planilhas de insumos a periodicidade/mês e o quantitativo devem ser preenchidos conforme informações constantes no Edital
B5: 5 - Algumas células apresentam fórmulas multiplicadas por 0 (zero) para manter a integridade dos cálculos, caso o conteúdo da célula seja aplicável a licitante sugere-se apagar o zero e manter a integridade do cálculo e/ou adaptar conforme a característica e particularidade da Licitante.
B6: 6 - Ao utilizar utilizar as planilhas Modelo editáveis da CEAGESP sugere-se seguir o preenchimento na ordem em que se encontram para facilitar a integração dos cálculos e manutenção das fórmulas
A7: CATEGORIA SINDICAL - Acordos e Convenções Coletivas | B7: A Licitante deverá indicar em campo específico qual o ano, a data base e a convenção coletiva de trabalho que está sendo utilizada para compor salários e benefícios em suas planilhas de custos e formação de preços. Os modelos constantes no Edital e no Portal CEAGESP deverão ser adapatados conforme as caracteristicas e particularidades de cada empresa licitante.
A9: Acordos e Convenções Coletivas | B9: Apresentar cópia dos Acordos e Convenções Coletivas que a Licitante utilizou para compor salários e benefícios na planilha de custos e formação de preços
A10: Acordos e Convenções Coletivas - Mão de Obra | B10: Salários, benefícios e demais itens obrigatórios constantes nos acordos e convenções coletivas utilizadas pela Licitante que se aplicam a mão de obra deverão compor as planilhas de custos e formação de preços.
A11: Acordos e Convenções Coletivas - (Itens não permitidos) | B11: INSTRUÇÃO NORMATINA Nº 05/2017 Art. 6º A Administração não se vincula às disposições contidas em Acordos, Convenções ou Dissídios Coletivos de Trabalho que tratem de pagamento de participação dos trabalhadores nos lucros ou resultados da empresa contratada, de matéria não trabalhista, ou que estabeleçam direitos não previstos em lei, tais como valores ou índices obrigatórios de encargos sociais ou previdenciários, bem como de preços para os insumos relacionados ao exercício da atividade. Parágrafo único. É vedado ao órgão e entidade vincular-se às disposições previstas nos Acordos, Convenções ou Dissídios Coletivos de Trabalho que tratem de obrigações e direitos que somente se aplicam aos contratos com a Administração Pública.
A12: PLANILHA - INSUMOS DIVERSOS | B12: As planilhas constantes no edital são modelos e as empresas licitantes deverão atender aos dispositivos compostos no Edital, como por exemplo no Anexo I - Termo de Referência, Anexo II - Modelo de Planilhas, e demais condições do instrumento convocatório.
A13: MODULO 1 - COMPOSIÇÃO DA REMUNERAÇÃO | B13: Os salários e beneficios utilizados nos modelos de planilhas de custos e formação de preços constantes no Edital tem como base a Convenção Coletiva de Trabalho das referidas categorias dos postos de serviços. Observa-se ainda que funções não definidas em convenção coletiva serão corrigidas de acordo com o percentual de reajuste definido na convenção coletiva de trabalho utilizada pela licitante.
A15: Adicional de Insalubridade e Periculosidade | B15: Prever nas planilhas de custos conforme legislação vigente (se necessário)
A16: IMPORTANTE | B16: As planilhas de custos elaboradas pela CEAGESP tem como base o nosso histórico de contratações, sendo assim, as planilhas de custos da Licitante devem espelhar a sua realidade como por exemplo: sindicatos, percentuais de tributos, SAT, insumos, etc.
A17: Sub módulo 2.2 (Anexar junto com as planilhas) | B17: A Licitante deve anexar junto com as planilhas a memória de cálculo SAT (FAP x RAT) informando o percentual RAT conforme CNAE da empresa, bem como a comprovação do percentual do FAP (Fator Acidentario de Prevenção) através de competente documento o qual pode ser obtido em http://www.previdencia.gov.br/saude-e-seguranca-do-trabalhador/politicas-de-prevencao/fator-acidentario-de-prevencao-fap/ E cópia da página da GFIP-SEFIP onde consta o FAP e o RAT ajustado da empresa.
A18: Módulo 3 Item D (Custos não renováveis) | B18: Aviso Prévio Trabalhado: conforme orientações descritas no Acórdão nº 1.186/2017 TCU-Plenário e reafirmada no Acórdão nº 1.586/2018 TCU-Plenário, a parcela referente à esta rúbrica será excluída após o primeiro ano de contrato, e a cada ano adicional poderá ser incluído a parcela mensal no percentual máximo de até 0,194%.
A19: Submódulos 4.2 e 4.2.1 | B19: Cálculo dos Submódulos 4.2 e 4.2.1 somente se previstos no Instrumento Convocatório
A20: Submódulo 4.2.1 - Cobertura de Feriados, Dias Ponte, e outros (exceto para postos 12 x 36) | B20: Consideramos p/ este cálculo os feriados nacionais e estaduais durante o ano. A Licitante deverá prever em suas planilhas sua realidade e particularidade. OBSERVAÇÃO: O cálculo de dias utilizado pela licitante na fase licitatória referente a esta rubrica permanecerá até o término do contrato, portanto, a licitante deverá prever em seus custos eventuais diferenças quantitativas de dias ocorridas.
... A24: MEMÓRIA DE CÁLCULO | B24: A LICITANTE DEVERÁ APRESENTAR/DESCREVER A MEMÓRIA DE CÁLCULO UTILIZADA NOS DIVERSOS MÓDULOS DE SUAS PLANILHAS DE CUSTOS E JUSTIFICÁ-LAS QUANDO NECESSÁRIO.
A25: OBSERVAÇÕES GERAIS
A27: OBSERVAÇÃO 1: Caso o licitante tenha interesse em utilizar os modelos das planilhas de custo desenvolvidas pela Ceagesp, poderá acessá-la no endereço www.ceagesp.gov.br, opção acesso a informação (licitações e contratos). OBSERVAÇÃO 2: Os modelos disponibilizados encontram-se em Excel e possuem fórmulas que podem ser adaptadas conforme as características, legalmente aceitáveis, de cada licitante. OBSERVAÇÃO 3: A Ceagesp não se responsabilizará pela utilização incorreta das fórmulas disponibilizadas nas planilhas quando essas prejudicarem os preços ofertados pelos licitantes.

Sheet Insumos Gerais
A1: PLANILHA - INSUMOS DIVERSOS DE MÃO-DE-OBRA
A2: PROCESSO Nº 167/2024 | D2: GRUPO I
A3: OBJETO: PRESTAÇÃO DE SERVIÇOS DE VIGILÂNCIA E SEGURANÇA PATRIMONIAL 24 HORAS PARA O ETSP COM MONITORAMENTO ELETRÔNICO
A4: EQUIPAMENTOS COMUNS VIGILANTES | B4: Periodicidade/ meses | C4: Valor Unitário | D4: Estimativa
D5: Quantidade | E5: Média Mensal
A6: Cassetete G de borracha | B6: 60 | C6: 0 | D6: 244 | E6: =ROUND((C6*D6)/B6,2) -> 0
A7: Porta cassetete | B7: 60 | C7: 0 | D7: 244 | E7: =ROUND((C7*D7)/B7,2) -> 0
A8: Apito | B8: 60 | C8: 0 | D8: 244 | E8: =ROUND((C8*D8)/B8,2) -> 0
A9: Cordão de apito | B9: 60 | C9: 0 | D9: 244 | E9: =ROUND((C9*D9)/B9,2) -> 0
A10: Cinturão | B10: 60 | C10: 0 | D10: 244 | E10: =ROUND((C10*D10)/B10,2) -> 0
A11: TOTAL MÉDIA MENSAL | E11: =SUM(E6:E10) -> 0
A12: VALOR MENSAL POR PESSOA | E12: =ROUND((E11/'Estimativa M.O. LICITANTE'!G21),2) -> 0
A13: EQUIPAMENTOS (USO GERAL) | B13: Periodicidade/ meses | C13: Valor Unitário | D13: Estimativa
D14: Quantidade | E14: Média Mensal
A15: Rádio Comunicador Tipo HT | B15: 60 | C15: 0 | D15: 80 | E15: =ROUND((C15*D15)/B15,2) -> 0
A16: Bateria para Rádio Comunicador Tipo HT | B16: 60 | C16: 0 | D16: 180 | E16: =ROUND((C16*D16)/B16,2) -> 0
A17: Botão de Pânico | B17: 60 | C17: 0 | D17: 3 | E17: =ROUND((C17*D17)/B17,2) -> 0
A18: Capacete com selo do INMETRO | B18: 60 | C18: 0 | D18: 20 | E18: =ROUND((C18*D18)/B18,2) -> 0
A19: Luva para Motociclista | B19: 60 | C19: 0 | D19: 30 | E19: =ROUND((C19*D19)/B19,2) -> 0
A20: Conjunto de Chuva para Motociclista | B20: 60 | C20: 0 | D20: 30 | E20: =ROUND((C20*D20)/B20,2) -> 0
A21: Acessórios Ciclistas (capacete, joelheira, cotoveleira, etc.) | B21: 12 | C21: 0 | D21: 6 | E21: =ROUND((C21*D21)/B21,2) -> 0
A22: Cone de sinalização com 75 cm de altura | B22: 60 | C22: 0 | D22: 100 | E22: =ROUND((C22*D22)/B22,2) -> 0
A23: Fita zebrada de filme polietileno 70mm x 200m | B23: 1 | C23: 0 | D23: 30 | E23: =ROUND((C23*D23)/B23,2) -> 0
A24: Banqueta semi sentada | B24: 60 | C24: 0 | D24: 30 | E24: =ROUND((C24*D24)/B24,2) -> 0
A25: Ombrelone de estrutura de madeira | B25: 60 | C25: 0 | D25: 6 | E25: =ROUND((C25*D25)/B25,2) -> 0
A26: TOTAL MÉDIA MENSAL | E26: =SUM(E15:E25) -> 0
A27: VALOR MENSAL POR PESSOA | E27: =ROUND((E26/'Estimativa M.O. LICITANTE'!G21),2) -> 0
A28: EQUIPAMENTOS E EPI'S - POSTOS ARMADOS | B28: Periodicidade/ meses ou Depreciação Anual | C28: Valor Unitário | D28: Estimativa
D29: Quantidade | E29: Média Mensal
A30: Revólver calibre 38 - 6 tiros | B30: 0.1 | C30: 0 | D30: 36 | E30: =ROUND(((C30*B30)*D30)/12,2) -> 0
A31: Baleiro | B31: 60 | C31: 0 | D31: 36 | E31: =ROUND((C31*D31)/B31,2) -> 0
A32: Coldre | B32: 60 | C32: 0 | D32: 244 | E32: =ROUND((C32*D32)/B32,2) -> 0
A33: Fiel Retrátil | B33: 60 | C33: 0 | D33: 244 | E33: =ROUND((C33*D33)/B33,2) -> 0
A34: Colete balístico | B34: 60 | C34: 0 | D34: 36 | E34: =ROUND((C34*D34)/B34,2) -> 0
A35: Capa do colete balístico | B35: 60 | C35: 0 | D35: 244 | E35: =ROUND((C35*D35)/B35,2) -> 0
A36: TOTAL MENSAL | E36: =SUM(E30:E35) -> 0
A37: VALOR MENSAL POR PESSOA | E37: =ROUND((E36/'Estimativa M.O. LICITANTE'!G21),2) -> 0
A38: EQUIPAMENTOS GERAIS - POSTOS NOTURNOS | B38: Periodicidade/ meses | C38: Valor Unitário | D38: Estimativa
D39: Quantidade | E39: Média Mensal
A40: Lanterna com bateria recarregável | B40: 60 | C40: 0 | D40: 30 | E40: =ROUND((C40*D40)/B40,2) -> 0
...

Sheet G-I - Vigia DIU desarm
A1: PLANILHA DE CUSTO E FORMAÇÃO DE PREÇOS
A2: PROCESSO Nº 167/2024 | F2: GRUPO I
A3: OBJETO: PRESTAÇÃO DE SERVIÇOS DE VIGILÂNCIA E SEGURANÇA PATRIMONIAL 24 HORAS PARA O ETSP COM MONITORAMENTO ELETRÔNICO
A5: I - DISCRIMINAÇÃO DOS SERVIÇOS
A6: Data de Apresentação da Proposta:
A7: Município/UF: | F7: SÃO PAULO
A8: Sindicato:
A10: Ano do acordo, convenção ou dissídio coletivo: | F10: 2024
A11: Tipo de serviço: | F11: VIGILÂNCIA
A12: Unidade de Medida: | F12: Posto/Hora
A13: Período contratual: | F13: 12 MESES
A14: DADOS COMPLEMENTARES
A15: Salário mínimo oficial vigente: | F15: 1412
A16: Categoria Profissional: | F16: VIGILANTE DESARMADO
A17: Classificação Brasileira de Ocupações (CBO): | F17: 5173-30
A18: Salário Normativo da Categoria Profissional: | F18: 0
A19: Data Base da Categoria: | F19: 45292
A20: Posto de Trabalho: | F20: 12 HORAS DIURNO
A21: Quantidade de Pessoas por Posto: | F21: 2
A22: Quantidade de Postos: | F22: 31
A23: Outras Informações: | F23: Escala 12 x 36
A24: Posto de trabalho:De 2ª a Domingo, das 6:00 às 18:00 - c/ intervalo regulamentar para refeição
A25: MODULO 1 - COMPOSIÇÃO DA REMUNERAÇÃO
A26: 1 | B26: Composição da Remuneração | F26: Quant/Horas/Perc | G26: Valor Total
A27: A | B27: Salário | F27: 1 | G27: =F18*F27 -> 0
A28: B | B28: Adicional Periculosidade | F28: =30%*0 -> 0 | G28: =ROUND(G27*F28,2) -> 0
A29: C | B29: Adicional Insalubridade | F29: 0 | G29: =ROUND(F15*F29,2) -> 0
A30: D | B30: Adicional Noturno (Hora Noturna/Hora Reduzida) | F30: =ROUND((ROUND((0*15.22),2)/52.5)*60,2) -> 0 | G30: =ROUND(ROUND(ROUND((SUM(G27:G29)+G32)/220,2)*0.2,2)*F30,2) -> 0
A31: E | B31: Gratificação | F31: 0 | G31: =ROUND(G27*F31,2) -> 0
A32: F | B32: Outros (especificar) | G32: =ROUND(F18*F32,2) -> 0
A33: Total da Remuneração/MÓDULO 1 | G33: =SUM(G27:G32) -> 0
A34: MÓDULO 2 - ENCARGOS E BENEFÍCIOS ANUAIS, MENSAIS E DIÁRIOS
A35: Submódulo 2.1 - 13º Salário, Férias e Adicional de Férias
A36: A | B36: 13º Salário | F36: =8.33%*0 -> 0 | G36: =ROUND(G$33*F36,2) -> 0
A37: B | B37: Ferias e terço constitucional | F37: =ROUND((1/11)+(1/11)/3, 3)*0 -> 0 | G37: =ROUND(G$33*F37,2) -> 0
B38: Subtotal | F38: =SUM(F36:F37) -> 0
A39: C | B39: Incidência do Submódulo 2.2 sobre o Submódulo 2.1 | F39: =ROUND((F50*F38),4) -> 0 | G39: =ROUND(G$33*F39,2) -> 0
A40: Total do Submódulo 2.1 | F40: =ROUND(SUM(F38:F39),4) -> 0 | G40: =SUM(G36:G39) -> 0 | H40: =ROUND(G33*F40,2) -> 0
A41: Submódulo 2.2 – Encargos Previdenciários (GPS), FGTS e Outras Contribuições
A42: A | B42: INSS | F42: =20%*0 -> 0 | G42: =ROUND(G$33*F42,2) -> 0
...

Sheet G-I - Vigia DIU Arm BICICLETA
A1: PLANILHA DE CUSTO E FORMAÇÃO DE PREÇOS
A2: PROCESSO Nº 167/2024 | F2: GRUPO I
A3: OBJETO: PRESTAÇÃO DE SERVIÇOS DE VIGILÂNCIA E SEGURANÇA PATRIMONIAL 24 HORAS PARA O ETSP COM MONITORAMENTO ELETRÔNICO
A5: I - DISCRIMINAÇÃO DOS SERVIÇOS
A6: Data de Apresentação da Proposta:
A7: Município/UF: | F7: SÃO PAULO
A8: Sindicato:
A10: Ano do acordo, convenção ou dissídio coletivo: | F10: 2024
A11: Tipo de serviço: | F11: VIGILÂNCIA
A12: Unidade de Medida: | F12: Posto/Hora
A13: Período contratual: | F13: 12 MESES
A14: DADOS COMPLEMENTARES
A15: Salário mínimo oficial vigente: | F15: 1412
A16: Categoria Profissional: | F16: VIGILANTE ARM - BICICLETA
A17: Classificação Brasileira de Ocupações (CBO): | F17: 5173-30
A18: Salário Normativo da Categoria Profissional: | F18: 0
A19: Data Base da Categoria: | F19: 45292
A20: Posto de Trabalho: | F20: 12 HORAS DIURNO
A21: Quantidade de Pessoas por Posto: | F21: 2
A22: Quantidade de Postos: | F22: 2
A23: Outras Informações: | F23: Escala 12 x 36
A24: Posto de trabalho:De 2ª a Domingo, das 6:30 às 18:30 - c/ intervalo regulamentar para refeição
A25: MODULO 1 - COMPOSIÇÃO DA REMUNERAÇÃO
A26: 1 | B26: Composição da Remuneração | F26: Quant/Horas/Perc | G26: Valor Total
A27: A | B27: Salário | F27: 1 | G27: =F18*F27 -> 0
A28: B | B28: Adicional Periculosidade | F28: =30%*0 -> 0 | G28: =ROUND(G27*F28,2) -> 0
A29: C | B29: Adicional Insalubridade | F29: 0 | G29: =ROUND(F15*F29,2) -> 0
A30: D | B30: Adicional Noturno (Hora Noturna/Hora Reduzida) | F30: =ROUND((ROUND((0*15.22),2)/52.5)*60,2) -> 0 | G30: =ROUND(ROUND(ROUND((SUM(G27:G29)+G32)/220,2)*0.2,2)*F30,2) -> 0
A31: E | B31: Gratificação | F31: =ROUND(SUM(F30)/15.22*5,2) -> 0 | G31: =ROUND(G27*F31,2) -> 0
A32: F | B32: Outros (especificar) | G32: =ROUND(F18*F32,2) -> 0
A33: Total da Remuneração/MÓDULO 1 | G33: =SUM(G27:G32) -> 0
A34: MÓDULO 2 - ENCARGOS E BENEFÍCIOS ANUAIS, MENSAIS E DIÁRIOS
A35: Submódulo 2.1 - 13º Salário, Férias e Adicional de Férias
A36: A | B36: 13º Salário | F36: =8.33%*0 -> 0 | G36: =ROUND(G$33*F36,2) -> 0
A37: B | B37: Ferias e terço constitucional | F37: =ROUND((1/11)+(1/11)/3, 3)*0 -> 0 | G37: =ROUND(G$33*F37,2) -> 0
B38: Subtotal | F38: =SUM(F36:F37) -> 0
A39: C | B39: Incidência do Submódulo 2.2 sobre o Submódulo 2.1 | F39: =ROUND((F50*F38),4) -> 0 | G39: =ROUND(G$33*F39,2) -> 0
A40: Total do Submódulo 2.1 | F40: =ROUND(SUM(F38:F39),4) -> 0 | G40: =SUM(G36:G39) -> 0 | H40: =ROUND(G33*F40,2) -> 0
A41: Submódulo 2.2 – Encargos Previdenciários (GPS), FGTS e Outras Contribuições
A42: A | B42: INSS | F42: =20%*0 -> 0 | G42: =ROUND(G$33*F42,2) -> 0
...

Sheet G-I - Vigia DIU arm-cond MOTO
A1: PLANILHA DE CUSTO E FORMAÇÃO DE PREÇOS
A2: PROCESSO Nº 167/2024 | F2: GRUPO I
A3: OBJETO: PRESTAÇÃO DE SERVIÇOS DE VIGILÂNCIA E SEGURANÇA PATRIMONIAL 24 HORAS PARA O ETSP COM MONITORAMENTO ELETRÔNICO
A5: I - DISCRIMINAÇÃO DOS SERVIÇOS
A6: Data de Apresentação da Proposta:
A7: Município/UF: | F7: SÃO PAULO
A8: Sindicato:
A10: Ano do acordo, convenção ou dissídio coletivo: | F10: 2024
A11: Tipo de serviço: | F11: VIGILÂNCIA
A12: Unidade de Medida: | F12: Posto/Hora
A13: Período contratual: | F13: 12 MESES
A14: DADOS COMPLEMENTARES
A15: Salário mínimo oficial vigente: | F15: 1412
A16: Categoria Profissional: | F16: VIGILANTE ARM - Condutor MOTO
A17: Classificação Brasileira de Ocupações (CBO): | F17: 5173-30
A18: Salário Normativo da Categoria Profissional: | F18: 0
A19: Data Base da Categoria: | F19: 45292
A20: Posto de Trabalho: | F20: 12 HORAS DIURNO
A21: Quantidade de Pessoas por Posto: | F21: 2
A22: Quantidade de Postos: | F22: 14
A23: Outras Informações: | F23: Escala 12 x 36
A24: Posto de trabalho:De 2ª a Domingo, das 6:00 às 18:00 - c/ intervalo regulamentar para refeição
A25: MODULO 1 - COMPOSIÇÃO DA REMUNERAÇÃO
A26: 1 | B26: Composição da Remuneração | F26: Quant/Horas/Perc | G26: Valor Total
A27: A | B27: Salário | F27: 1 | G27: =F18*F27 -> 0
A28: B | B28: Adicional Periculosidade | F28: =30%*0 -> 0 | G28: =ROUND(G27*F28,2) -> 0
A29: C | B29: Adicional Insalubridade | F29: 0 | G29: =ROUND(F15*F29,2) -> 0
A30: D | B30: Adicional Noturno (Hora Noturna/Hora Reduzida) | F30: =ROUND((ROUND((0*15.22),2)/52.5)*60,2) -> 0 | G30: =ROUND(ROUND(ROUND((SUM(G27:G29)+G32)/220,2)*0.2,2)*F30,2) -> 0
A31: E | B31: Gratificação | F31: 0.1 | G31: =ROUND(G27*F31,2) -> 0
A32: F | B32: Outros (especificar) | G32: =ROUND(F18*F32,2) -> 0
A33: Total da Remuneração/MÓDULO 1 | G33: =SUM(G27:G32) -> 0
A34: MÓDULO 2 - ENCARGOS E BENEFÍCIOS ANUAIS, MENSAIS E DIÁRIOS
A35: Submódulo 2.1 - 13º Salário, Férias e Adicional de Férias
A36: A | B36: 13º Salário | F36: =8.33%*0 -> 0 | G36: =ROUND(G$33*F36,2) -> 0
A37: B | B37: Ferias e terço constitucional | F37: =ROUND((1/11)+(1/11)/3, 3)*0 -> 0 | G37: =ROUND(G$33*F37,2) -> 0
B38: Subtotal | F38: =SUM(F36:F37) -> 0
A39: C | B39: Incidência do Submódulo 2.2 sobre o Submódulo 2.1 | F39: =ROUND((F50*F38),4) -> 0 | G39: =ROUND(G$33*F39,2) -> 0
A40: Total do Submódulo 2.1 | F40: =ROUND(SUM(F38:F39),4) -> 0 | G40: =SUM(G36:G39) -> 0 | H40: =ROUND(G33*F40,2) -> 0
A41: Submódulo 2.2 – Encargos Previdenciários (GPS), FGTS e Outras Contribuições
A42: A | B42: INSS | F42: =20%*0 -> 0 | G42: =ROUND(G$33*F42,2) -> 0
...

Sheet G-I - Vigia DIU arm-cond CARRO
A1: PLANILHA DE CUSTO E FORMAÇÃO DE PREÇOS
A2: PROCESSO Nº 167/2024 | F2: GRUPO I
A3: OBJETO: PRESTAÇÃO DE SERVIÇOS DE VIGILÂNCIA E SEGURANÇA PATRIMONIAL 24 HORAS PARA O ETSP COM MONITORAMENTO ELETRÔNICO
A5: I - DISCRIMINAÇÃO DOS SERVIÇOS
A6: Data de Apresentação da Proposta:
A7: Município/UF: | F7: SÃO PAULO
A8: Sindicato:
A10: Ano do acordo, convenção ou dissídio coletivo: | F10: 2024
A11: Tipo de serviço: | F11: VIGILÂNCIA
A12: Unidade de Medida: | F12: Posto/Hora
A13: Período contratual: | F13: 12 MESES
A14: DADOS COMPLEMENTARES
A15: Salário mínimo oficial vigente: | F15: 1412
A16: Categoria Profissional: | F16: VIGILANTE ARM - Condutor CARRO
A17: Classificação Brasileira de Ocupações (CBO): | F17: 5173-30
A18: Salário Normativo da Categoria Profissional: | F18: 0
A19: Data Base da Categoria: | F19: 45292
A20: Posto de Trabalho: | F20: 12 HORAS DIURNO
A21: Quantidade de Pessoas por Posto: | F21: 2
A22: Quantidade de Postos: | F22: 3
A23: Outras Informações: | F23: Escala 12 x 36
A24: Posto de trabalho:De 2ª a Domingo, das 6:00 às 18:00 - c/ intervalo regulamentar para refeição
A25: MODULO 1 - COMPOSIÇÃO DA REMUNERAÇÃO
A26: 1 | B26: Composição da Remuneração | F26: Quant/Horas/Perc | G26: Valor Total
A27: A | B27: Salário | F27: 1 | G27: =F18*F27 -> 0
A28: B | B28: Adicional Periculosidade | F28: =30%*0 -> 0 | G28: =ROUND(G27*F28,2) -> 0
A29: C | B29: Adicional Insalubridade | F29: 0 | G29: =ROUND(F15*F29,2) -> 0
A30: D | B30: Adicional Noturno (Hora Noturna/Hora Reduzida) | F30: =ROUND((ROUND((0*15.22),2)/52.5)*60,2) -> 0 | G30: =ROUND(ROUND(ROUND((SUM(G27:G29)+G32)/220,2)*0.2,2)*F30,2) -> 0
A31: E | B31: Gratificação | F31: 0.1 | G31: =ROUND(G27*F31,2) -> 0
A32: F | B32: Outros (especificar) | G32: =ROUND(F18*F32,2) -> 0
A33: Total da Remuneração/MÓDULO 1 | G33: =SUM(G27:G32) -> 0
A34: MÓDULO 2 - ENCARGOS E BENEFÍCIOS ANUAIS, MENSAIS E DIÁRIOS
A35: Submódulo 2.1 - 13º Salário, Férias e Adicional de Férias
A36: A | B36: 13º Salário | F36: =8.33%*0 -> 0 | G36: =ROUND(G$33*F36,2) -> 0
A37: B | B37: Ferias e terço constitucional | F37: =ROUND((1/11)+(1/11)/3, 3)*0 -> 0 | G37: =ROUND(G$33*F37,2) -> 0
B38: Subtotal | F38: =SUM(F36:F37) -> 0
A39: C | B39: Incidência do Submódulo 2.2 sobre o Submódulo 2.1 | F39: =ROUND((F50*F38),4) -> 0 | G39: =ROUND(G$33*F39,2) -> 0
A40: Total do Submódulo 2.1 | F40: =ROUND(SUM(F38:F39),4) -> 0 | G40: =SUM(G36:G39) -> 0 | H40: =ROUND(G33*F40,2) -> 0
A41: Submódulo 2.2 – Encargos Previdenciários (GPS), FGTS e Outras Contribuições
A42: A | B42: INSS | F42: =20%*0 -> 0 | G42: =ROUND(G$33*F42,2) -> 0
...

Sheet G-I - Vigia DIU arm
A1: PLANILHA DE CUSTO E FORMAÇÃO DE PREÇOS
A2: PROCESSO Nº 167/2024 | F2: GRUPO I
A3: OBJETO: PRESTAÇÃO DE SERVIÇOS DE VIGILÂNCIA E SEGURANÇA PATRIMONIAL 24 HORAS PARA O ETSP COM MONITORAMENTO ELETRÔNICO
A5: I - DISCRIMINAÇÃO DOS SERVIÇOS
A6: Data de Apresentação da Proposta:
A7: Município/UF: | F7: SÃO PAULO
A8: Sindicato:
A10: Ano do acordo, convenção ou dissídio coletivo: | F10: 2024
A11: Tipo de serviço: | F11: VIGILÂNCIA
A12: Unidade de Medida: | F12: Posto/Hora
A13: Período contratual: | F13: 12 MESES
A14: DADOS COMPLEMENTARES
A15: Salário mínimo oficial vigente: | F15: 1412
A16: Categoria Profissional: | F16: VIGILANTE ARMADO
A17: Classificação Brasileira de Ocupações (CBO): | F17: 5173-30
A18: Salário Normativo da Categoria Profissional: | F18: 0
A19: Data Base da Categoria: | F19: 45292
A20: Posto de Trabalho: | F20: 12 HORAS DIURNO
A21: Quantidade de Pessoas por Posto: | F21: 2
A22: Quantidade de Postos: | F22: 14
A23: Outras Informações: | F23: Escala 12 x 36
A24: Posto de trabalho:De 2ª a Domingo, das 6:00 às 18:00/ das 6:30 às 18:30 - c/ intervalo regulamentar para refeição
A25: MODULO 1 - COMPOSIÇÃO DA REMUNERAÇÃO
A26: 1 | B26: Composição da Remuneração | F26: Quant/Horas/Perc | G26: Valor Total
A27: A | B27: Salário | F27: 1 | G27: =F18*F27 -> 0
A28: B | B28: Adicional Periculosidade | F28: =30%*0 -> 0 | G28: =ROUND(G27*F28,2) -> 0
A29: C | B29: Adicional Insalubridade | F29: 0 | G29: =ROUND(F15*F29,2) -> 0
A30: D | B30: Adicional Noturno (Hora Noturna/Hora Reduzida) | F30: =ROUND((ROUND((0*15.22),2)/52.5)*60,2) -> 0 | G30: =ROUND(ROUND(ROUND((SUM(G27:G29)+G32)/220,2)*0.2,2)*F30,2) -> 0
A31: E | B31: Gratificação | F31: 0 | G31: =ROUND(G27*F31,2) -> 0
A32: F | B32: Outros (especificar) | G32: =ROUND(F18*F32,2) -> 0
A33: Total da Remuneração/MÓDULO 1 | G33: =SUM(G27:G32) -> 0
A34: MÓDULO 2 - ENCARGOS E BENEFÍCIOS ANUAIS, MENSAIS E DIÁRIOS
A35: Submódulo 2.1 - 13º Salário, Férias e Adicional de Férias
A36: A | B36: 13º Salário | F36: =8.33%*0 -> 0 | G36: =ROUND(G$33*F36,2) -> 0
A37: B | B37: Ferias e terço constitucional | F37: =ROUND((1/11)+(1/11)/3, 3)*0 -> 0 | G37: =ROUND(G$33*F37,2) -> 0
B38: Subtotal | F38: =SUM(F36:F37) -> 0
A39: C | B39: Incidência do Submódulo 2.2 sobre o Submódulo 2.1 | F39: =ROUND((F50*F38),4) -> 0 | G39: =ROUND(G$33*F39,2) -> 0
A40: Total do Submódulo 2.1 | F40: =ROUND(SUM(F38:F39),4) -> 0 | G40: =SUM(G36:G39) -> 0 | H40: =ROUND(G33*F40,2) -> 0
A41: Submódulo 2.2 – Encargos Previdenciários (GPS), FGTS e Outras Contribuições
A42: A | B42: INSS | F42: =20%*0 -> 0 | G42: =ROUND(G$33*F42,2) -> 0
...

Sheet G-I - Vigia DIU Líder arm
A1: PLANILHA DE CUSTO E FORMAÇÃO DE PREÇOS
A2: PROCESSO Nº 167/2024 | F2: GRUPO I
A3: OBJETO: PRESTAÇÃO DE SERVIÇOS DE VIGILÂNCIA E SEGURANÇA PATRIMONIAL 24 HORAS PARA O ETSP COM MONITORAMENTO ELETRÔNICO
A5: I - DISCRIMINAÇÃO DOS SERVIÇOS
A6: Data de Apresentação da Proposta:
A7: Município/UF: | F7: SÃO PAULO
A8: Sindicato:
A10: Ano do acordo, convenção ou dissídio coletivo: | F10: 2024
A11: Tipo de serviço: | F11: VIGILÂNCIA
A12: Unidade de Medida: | F12: Posto/Hora
A13: Período contratual: | F13: 12 MESES
A14: DADOS COMPLEMENTARES
A15: Salário mínimo oficial vigente: | F15: 1412
A16: Categoria Profissional: | F16: VIGILANTE ARMADO - Líder
A17: Classificação Brasileira de Ocupações (CBO): | F17: 5173-30
A18: Salário Normativo da Categoria Profissional: | F18: 0
A19: Data Base da Categoria: | F19: 45292
A20: Posto de Trabalho: | F20: 12 HORAS DIURNO
A21: Quantidade de Pessoas por Posto: | F21: 2
A22: Quantidade de Postos: | F22: 1
A23: Outras Informações: | F23: Escala 12 x 36
A24: Posto de trabalho:De 2ª a Domingo, das 6:00 às 18:00 - c/ intervalo regulamentar para refeição
A25: MODULO 1 - COMPOSIÇÃO DA REMUNERAÇÃO
A26: 1 | B26: Composição da Remuneração | F26: Quant/Horas/Perc | G26: Valor Total
A27: A | B27: Salário | F27: 1 | G27: =F18*F27 -> 0
A28: B | B28: Adicional Periculosidade | F28: =30%*0 -> 0 | G28: =ROUND(G27*F28,2) -> 0
A29: C | B29: Adicional Insalubridade | F29: 0 | G29: =ROUND(F15*F29,2) -> 0
A30: D | B30: Adicional Noturno (Hora Noturna/Hora Reduzida) | F30: =ROUND((ROUND((0*15.22),2)/52.5)*60,2) -> 0 | G30: =ROUND(ROUND(ROUND((SUM(G27:G29)+G32)/220,2)*0.2,2)*F30,2) -> 0
A31: E | B31: Gratificação | F31: 0.12 | G31: =ROUND(G27*F31,2) -> 0
A32: F | B32: Outros (especificar) | G32: =ROUND(F18*F32,2) -> 0
A33: Total da Remuneração/MÓDULO 1 | G33: =SUM(G27:G32) -> 0
A34: MÓDULO 2 - ENCARGOS E BENEFÍCIOS ANUAIS, MENSAIS E DIÁRIOS
A35: Submódulo 2.1 - 13º Salário, Férias e Adicional de Férias
A36: A | B36: 13º Salário | F36: =8.33%*0 -> 0 | G36: =ROUND(G$33*F36,2) -> 0
A37: B | B37: Ferias e terço constitucional | F37: =ROUND((1/11)+(1/11)/3, 3)*0 -> 0 | G37: =ROUND(G$33*F37,2) -> 0
B38: Subtotal | F38: =SUM(F36:F37) -> 0
A39: C | B39: Incidência do Submódulo 2.2 sobre o Submódulo 2.1 | F39: =ROUND((F50*F38),4) -> 0 | G39: =ROUND(G$33*F39,2) -> 0
A40: Total do Submódulo 2.1 | F40: =ROUND(SUM(F38:F39),4) -> 0 | G40: =SUM(G36:G39) -> 0 | H40: =ROUND(G33*F40,2) -> 0
A41: Submódulo 2.2 – Encargos Previdenciários (GPS), FGTS e Outras Contribuições
A42: A | B42: INSS | F42: =20%*0 -> 0 | G42: =ROUND(G$33*F42,2) -> 0
...

Sheet G-I - Supervisor DIU Desarm
A1: PLANILHA DE CUSTO E FORMAÇÃO DE PREÇOS
A2: PROCESSO Nº 167/2024 | F2: GRUPO I
A3: OBJETO: PRESTAÇÃO DE SERVIÇOS DE VIGILÂNCIA E SEGURANÇA PATRIMONIAL 24 HORAS PARA O ETSP COM MONITORAMENTO ELETRÔNICO
A5: I - DISCRIMINAÇÃO DOS SERVIÇOS
A6: Data de Apresentação da Proposta:
A7: Município/UF: | F7: SÃO PAULO
A8: Sindicato:
A10: Ano do acordo, convenção ou dissídio coletivo: | F10: 2024
A11: Tipo de serviço: | F11: VIGILÂNCIA
A12: Unidade de Medida: | F12: Posto/Hora
A13: Período contratual: | F13: 12 MESES
A14: DADOS COMPLEMENTARES
A15: Salário mínimo oficial vigente: | F15: 1412
A16: Categoria Profissional: | F16: SUPERVISOR DESARMADO
A17: Classificação Brasileira de Ocupações (CBO): | F17: 5103-10
A18: Salário Normativo da Categoria Profissional: | F18: 0
A19: Data Base da Categoria: | F19: 45292
A20: Posto de Trabalho: | F20: 12 HORAS DIURNO
A21: Quantidade de Pessoas por Posto: | F21: 2
A22: Quantidade de Postos: | F22: 3
A23: Outras Informações: | F23: Escala 12 x 36
A24: Posto de trabalho:De 2ª a Domingo, das 6:00 às 18:00 - c/ intervalo regulamentar para refeição
A25: MODULO 1 - COMPOSIÇÃO DA REMUNERAÇÃO
A26: 1 | B26: Composição da Remuneração | F26: Quant/Horas/Perc | G26: Valor Total
A27: A | B27: Salário | F27: 1 | G27: =F18*F27 -> 0
A28: B | B28: Adicional Periculosidade | F28: =30%*0 -> 0 | G28: =ROUND(G27*F28,2) -> 0
A29: C | B29: Adicional Insalubridade | F29: 0 | G29: =ROUND(F15*F29,2) -> 0
A30: D | B30: Adicional Noturno (Hora Noturna/Hora Reduzida) | F30: =ROUND((ROUND((0*15.22),2)/52.5)*60,2) -> 0 | G30: =ROUND(ROUND(ROUND((SUM(G27:G29)+G32)/220,2)*0.2,2)*F30,2) -> 0
A31: E | B31: Gratificação | F31: =ROUND(SUM(F30)/15.22*5,2) -> 0 | G31: =ROUND(G27*F31,2) -> 0
A32: F | B32: Outros (especificar) | G32: =ROUND(F18*F32,2) -> 0
A33: Total da Remuneração/MÓDULO 1 | G33: =SUM(G27:G32) -> 0
A34: MÓDULO 2 - ENCARGOS E BENEFÍCIOS ANUAIS, MENSAIS E DIÁRIOS
A35: Submódulo 2.1 - 13º Salário, Férias e Adicional de Férias
A36: A | B36: 13º Salário | F36: =8.33%*0 -> 0 | G36: =ROUND(G$33*F36,2) -> 0
A37: B | B37: Ferias e terço constitucional | F37: =ROUND((1/11)+(1/11)/3, 3)*0 -> 0 | G37: =ROUND(G$33*F37,2) -> 0
B38: Subtotal | F38: =SUM(F36:F37) -> 0
A39: C | B39: Incidência do Submódulo 2.2 sobre o Submódulo 2.1 | F39: =ROUND((F50*F38),4) -> 0 | G39: =ROUND(G$33*F39,2) -> 0
A40: Total do Submódulo 2.1 | F40: =ROUND(SUM(F38:F39),4) -> 0 | G40: =SUM(G36:G39) -> 0 | H40: =ROUND(G33*F40,2) -> 0
A41: Submódulo 2.2 – Encargos Previdenciários (GPS), FGTS e Outras Contribuições
A42: A | B42: INSS | F42: =20%*0 -> 0 | G42: =ROUND(G$33*F42,2) -> 0
...

Sheet G-I - Vigia NOT desarm
A1: PLANILHA DE CUSTO E FORMAÇÃO DE PREÇOS
A2: PROCESSO Nº 167/2024 | F2: GRUPO I
A3: OBJETO: PRESTAÇÃO DE SERVIÇOS DE VIGILÂNCIA E SEGURANÇA PATRIMONIAL 24 HORAS PARA O ETSP COM MONITORAMENTO ELETRÔNICO
A5: I - DISCRIMINAÇÃO DOS SERVIÇOS
A6: Data de Apresentação da Proposta:
A7: Município/UF: | F7: SÃO PAULO
A8: Sindicato:
A10: Ano do acordo, convenção ou dissídio coletivo: | F10: 2024
A11: Tipo de serviço: | F11: VIGILÂNCIA
A12: Unidade de Medida: | F12: Posto/Hora
A13: Período contratual: | F13: 12 MESES
A14: DADOS COMPLEMENTARES
A15: Salário mínimo oficial vigente: | F15: 1412
A16: Categoria Profissional: | F16: VIGILANTE DESARMADO
A17: Classificação Brasileira de Ocupações (CBO): | F17: 5173-30
A18: Salário Normativo da Categoria Profissional: | F18: 0
A19: Data Base da Categoria: | F19: 45292
A20: Posto de Trabalho: | F20: 12 HORAS NOTURNO
A21: Quantidade de Pessoas por Posto: | F21: 2
A22: Quantidade de Postos: | F22: 16
A23: Outras Informações: | F23: Escala 12 x 36
A24: Posto de trabalho:De 2ª a Domingo, das 18:00 às 06:00 - c/ intervalo regulamentar para refeição
A25: MODULO 1 - COMPOSIÇÃO DA REMUNERAÇÃO
A26: 1 | B26: Composição da Remuneração | F26: Quant/Horas/Perc | G26: Valor Total
A27: A | B27: Salário | F27: 1 | G27: =F18*F27 -> 0
A28: B | B28: Adicional Periculosidade | F28: =30%*0 -> 0 | G28: =ROUND(G27*F28,2) -> 0
A29: C | B29: Adicional Insalubridade | F29: 0 | G29: =ROUND(F15*F29,2) -> 0
A30: D | B30: Adicional Noturno (Hora Noturna/Hora Reduzida) | F30: =ROUND((ROUND((7*15.22),2)/52.5)*60,2) -> 121.76 | G30: =ROUND(ROUND(ROUND((SUM(G27:G29)+G32)/220,2)*0.2,2)*F30,2) -> 0
A31: E | B31: Gratificação | F31: 0 | G31: =ROUND(G27*F31,2) -> 0
A32: F | B32: Outros (especificar) | G32: =ROUND(F18*F32,2) -> 0
A33: Total da Remuneração/MÓDULO 1 | G33: =SUM(G27:G32) -> 0
A34: MÓDULO 2 - ENCARGOS E BENEFÍCIOS ANUAIS, MENSAIS E DIÁRIOS
A35: Submódulo 2.1 - 13º Salário, Férias e Adicional de Férias
A36: A | B36: 13º Salário | F36: =8.33%*0 -> 0 | G36: =ROUND(G$33*F36,2) -> 0
A37: B | B37: Ferias e terço constitucional | F37: =ROUND((1/11)+(1/11)/3, 3)*0 -> 0 | G37: =ROUND(G$33*F37,2) -> 0
B38: Subtotal | F38: =SUM(F36:F37) -> 0
A39: C | B39: Incidência do Submódulo 2.2 sobre o Submódulo 2.1 | F39: =ROUND((F50*F38),4) -> 0 | G39: =ROUND(G$33*F39,2) -> 0
A40: Total do Submódulo 2.1 | F40: =ROUND(SUM(F38:F39),4) -> 0 | G40: =SUM(G36:G39) -> 0 | H40: =ROUND(G33*F40,2) -> 0
A41: Submódulo 2.2 – Encargos Previdenciários (GPS), FGTS e Outras Contribuições
A42: A | B42: INSS | F42: =20%*0 -> 0 | G42: =ROUND(G$33*F42,2) -> 0
...

Sheet G-I - Vigia NOT arm-cond MOTO
A1: PLANILHA DE CUSTO E FORMAÇÃO DE PREÇOS
A2: PROCESSO Nº 167/2024 | F2: GRUPO I
A3: OBJETO: PRESTAÇÃO DE SERVIÇOS DE VIGILÂNCIA E SEGURANÇA PATRIMONIAL 24 HORAS PARA O ETSP COM MONITORAMENTO ELETRÔNICO
A5: I - DISCRIMINAÇÃO DOS SERVIÇOS
A6: Data de Apresentação da Proposta:
A7: Município/UF: | F7: SÃO PAULO
A8: Sindicato:
A10: Ano do acordo, convenção ou dissídio coletivo: | F10: 2024
A11: Tipo de serviço: | F11: VIGILÂNCIA
A12: Unidade de Medida: | F12: Posto/Hora
A13: Período contratual: | F13: 12 MESES
A14: DADOS COMPLEMENTARES
A15: Salário mínimo oficial vigente: | F15: 1412
A16: Categoria Profissional: | F16: VIGILANTE ARM - Condutor MOTO
A17: Classificação Brasileira de Ocupações (CBO): | F17: 5173-30
A18: Salário Normativo da Categoria Profissional: | F18: 0
A19: Data Base da Categoria: | F19: 45292
A20: Posto de Trabalho: | F20: 12 HORAS NOTURNO
A21: Quantidade de Pessoas por Posto: | F21: 2
A22: Quantidade de Postos: | F22: 10
A23: Outras Informações: | F23: Escala 12 x 36
A24: Posto de trabalho:De 2ª a Domingo, das 18:00 às 06:00 - c/ intervalo regulamentar para refeição
A25: MODULO 1 - COMPOSIÇÃO DA REMUNERAÇÃO
A26: 1 | B26: Composição da Remuneração | F26: Quant/Horas/Perc | G26: Valor Total
A27: A | B27: Salário | F27: 1 | G27: =F18*F27 -> 0
A28: B | B28: Adicional Periculosidade | F28: =30%*0 -> 0 | G28: =ROUND(G27*F28,2) -> 0
A29: C | B29: Adicional Insalubridade | F29: 0 | G29: =ROUND(F15*F29,2) -> 0
A30: D | B30: Adicional Noturno (Hora Noturna/Hora Reduzida) | F30: =ROUND((ROUND((7*15.22),2)/52.5)*60,2) -> 121.76 | G30: =ROUND(ROUND(ROUND((SUM(G27:G29)+G32)/220,2)*0.2,2)*F30,2) -> 0
A31: E | B31: Gratificação | F31: 0.1 | G31: =ROUND(G27*F31,2) -> 0
A32: F | B32: Outros (especificar) | G32: =ROUND(F18*F32,2) -> 0
A33: Total da Remuneração/MÓDULO 1 | G33: =SUM(G27:G32) -> 0
A34: MÓDULO 2 - ENCARGOS E BENEFÍCIOS ANUAIS, MENSAIS E DIÁRIOS
A35: Submódulo 2.1 - 13º Salário, Férias e Adicional de Férias
A36: A | B36: 13º Salário | F36: =8.33%*0 -> 0 | G36: =ROUND(G$33*F36,2) -> 0
A37: B | B37: Ferias e terço constitucional | F37: =ROUND((1/11)+(1/11)/3, 3)*0 -> 0 | G37: =ROUND(G$33*F37,2) -> 0
B38: Subtotal | F38: =SUM(F36:F37) -> 0
A39: C | B39: Incidência do Submódulo 2.2 sobre o Submódulo 2.1 | F39: =ROUND((F50*F38),4) -> 0 | G39: =ROUND(G$33*F39,2) -> 0
A40: Total do Submódulo 2.1 | F40: =ROUND(SUM(F38:F39),4) -> 0 | G40: =SUM(G36:G39) -> 0 | H40: =ROUND(G33*F40,2) -> 0
A41: Submódulo 2.2 – Encargos Previdenciários (GPS), FGTS e Outras Contribuições
A42: A | B42: INSS | F42: =20%*0 -> 0 | G42: =ROUND(G$33*F42,2) -> 0
...

Sheet G-I - Vigia NOT arm-cond CARRO
A1: PLANILHA DE CUSTO E FORMAÇÃO DE PREÇOS
A2: PROCESSO Nº 167/2024 | F2: GRUPO I
A3: OBJETO: PRESTAÇÃO DE SERVIÇOS DE VIGILÂNCIA E SEGURANÇA PATRIMONIAL 24 HORAS PARA O ETSP COM MONITORAMENTO ELETRÔNICO
A5: I - DISCRIMINAÇÃO DOS SERVIÇOS
A6: Data de Apresentação da Proposta:
A7: Município/UF: | F7: SÃO PAULO
A8: Sindicato:
A10: Ano do acordo, convenção ou dissídio coletivo: | F10: 2024
A11: Tipo de serviço: | F11: VIGILÂNCIA
A12: Unidade de Medida: | F12: Posto/Hora
A13: Período contratual: | F13: 12 MESES
A14: DADOS COMPLEMENTARES
A15: Salário mínimo oficial vigente: | F15: 1412
A16: Categoria Profissional: | F16: VIGILANTE ARM - Condutor CARRO
A17: Classificação Brasileira de Ocupações (CBO): | F17: 5173-30
A18: Salário Normativo da Categoria Profissional: | F18: 0
A19: Data Base da Categoria: | F19: 45292
A20: Posto de Trabalho: | F20: 12 HORAS NOTURNO
A21: Quantidade de Pessoas por Posto: | F21: 2
A22: Quantidade de Postos: | F22: 3
A23: Outras Informações: | F23: Escala 12 x 36
A24: Posto de trabalho:De 2ª a Domingo, das 18:00 às 06:00 - c/ intervalo regulamentar para refeição
A25: MODULO 1 - COMPOSIÇÃO DA REMUNERAÇÃO
A26: 1 | B26: Composição da Remuneração | F26: Quant/Horas/Perc | G26: Valor Total
A27: A | B27: Salário | F27: 1 | G27: =F18*F27 -> 0
A28: B | B28: Adicional Periculosidade | F28: =30%*0 -> 0 | G28: =ROUND(G27*F28,2) -> 0
A29: C | B29: Adicional Insalubridade | F29: 0 | G29: =ROUND(F15*F29,2) -> 0
A30: D | B30: Adicional Noturno (Hora Noturna/Hora Reduzida) | F30: =ROUND((ROUND((7*15.22),2)/52.5)*60,2) -> 121.76 | G30: =ROUND(ROUND(ROUND((SUM(G27:G29)+G32)/220,2)*0.2,2)*F30,2) -> 0
A31: E | B31: Gratificação | F31: 0.1 | G31: =ROUND(G27*F31,2) -> 0
A32: F | B32: Outros (especificar) | G32: =ROUND(F18*F32,2) -> 0
A33: Total da Remuneração/MÓDULO 1 | G33: =SUM(G27:G32) -> 0
A34: MÓDULO 2 - ENCARGOS E BENEFÍCIOS ANUAIS, MENSAIS E DIÁRIOS
A35: Submódulo 2.1 - 13º Salário, Férias e Adicional de Férias
A36: A | B36: 13º Salário | F36: =8.33%*0 -> 0 | G36: =ROUND(G$33*F36,2) -> 0
A37: B | B37: Ferias e terço constitucional | F37: =ROUND((1/11)+(1/11)/3, 3)*0 -> 0 | G37: =ROUND(G$33*F37,2) -> 0
B38: Subtotal | F38: =SUM(F36:F37) -> 0
A39: C | B39: Incidência do Submódulo 2.2 sobre o Submódulo 2.1 | F39: =ROUND((F50*F38),4) -> 0 | G39: =ROUND(G$33*F39,2) -> 0
A40: Total do Submódulo 2.1 | F40: =ROUND(SUM(F38:F39),4) -> 0 | G40: =SUM(G36:G39) -> 0 | H40: =ROUND(G33*F40,2) -> 0
A41: Submódulo 2.2 – Encargos Previdenciários (GPS), FGTS e Outras Contribuições
A42: A | B42: INSS | F42: =20%*0 -> 0 | G42: =ROUND(G$33*F42,2) -> 0
...

Sheet G-I - Vigia NOT arm
A1: PLANILHA DE CUSTO E FORMAÇÃO DE PREÇOS
A2: PROCESSO Nº 167/2024 | F2: GRUPO I
A3: OBJETO: PRESTAÇÃO DE SERVIÇOS DE VIGILÂNCIA E SEGURANÇA PATRIMONIAL 24 HORAS PARA O ETSP COM MONITORAMENTO ELETRÔNICO
A5: I - DISCRIMINAÇÃO DOS SERVIÇOS
A6: Data de Apresentação da Proposta:
A7: Município/UF: | F7: SÃO PAULO
A8: Sindicato:
A10: Ano do acordo, convenção ou dissídio coletivo: | F10: 2024
A11: Tipo de serviço: | F11: VIGILÂNCIA
A12: Unidade de Medida: | F12: Posto/Hora
A13: Período contratual: | F13: 12 MESES
A14: DADOS COMPLEMENTARES
A15: Salário mínimo oficial vigente: | F15: 1412
A16: Categoria Profissional: | F16: VIGILANTE ARMADO
A17: Classificação Brasileira de Ocupações (CBO): | F17: 5173-30
A18: Salário Normativo da Categoria Profissional: | F18: 0
A19: Data Base da Categoria: | F19: 45292
A20: Posto de Trabalho: | F20: 12 HORAS NOTURNO
A21: Quantidade de Pessoas por Posto: | F21: 2
A22: Quantidade de Postos: | F22: 22
A23: Outras Informações: | F23: Escala 12 x 36
A24: Posto de trabalho:De 2ª a Domingo, das 18:00 às 06:00/ das 18:30 às 06:30 - c/ intervalo regulamentar p/ refeição
A25: MODULO 1 - COMPOSIÇÃO DA REMUNERAÇÃO
A26: 1 | B26: Composição da Remuneração | F26: Quant/Horas/Perc | G26: Valor Total
A27: A | B27: Salário | F27: 1 | G27: =F18*F27 -> 0
A28: B | B28: Adicional Periculosidade | F28: =30%*0 -> 0 | G28: =ROUND(G27*F28,2) -> 0
A29: C | B29: Adicional Insalubridade | F29: 0 | G29: =ROUND(F15*F29,2) -> 0
A30: D | B30: Adicional Noturno (Hora Noturna/Hora Reduzida) | F30: =ROUND((ROUND((7*15.22),2)/52.5)*60,2) -> 121.76 | G30: =ROUND(ROUND(ROUND((SUM(G27:G29)+G32)/220,2)*0.2,2)*F30,2) -> 0
A31: E | B31: Gratificação | F31: 0 | G31: =ROUND(G27*F31,2) -> 0
A32: F | B32: Outros (especificar) | G32: =ROUND(F18*F32,2) -> 0
A33: Total da Remuneração/MÓDULO 1 | G33: =SUM(G27:G32) -> 0
A34: MÓDULO 2 - ENCARGOS E BENEFÍCIOS ANUAIS, MENSAIS E DIÁRIOS
A35: Submódulo 2.1 - 13º Salário, Férias e Adicional de Férias
A36: A | B36: 13º Salário | F36: =8.33%*0 -> 0 | G36: =ROUND(G$33*F36,2) -> 0
A37: B | B37: Ferias e terço constitucional | F37: =ROUND((1/11)+(1/11)/3, 3)*0 -> 0 | G37: =ROUND(G$33*F37,2) -> 0
B38: Subtotal | F38: =SUM(F36:F37) -> 0
A39: C | B39: Incidência do Submódulo 2.2 sobre o Submódulo 2.1 | F39: =ROUND((F50*F38),4) -> 0 | G39: =ROUND(G$33*F39,2) -> 0
A40: Total do Submódulo 2.1 | F40: =ROUND(SUM(F38:F39),4) -> 0 | G40: =SUM(G36:G39) -> 0 | H40: =ROUND(G33*F40,2) -> 0
A41: Submódulo 2.2 – Encargos Previdenciários (GPS), FGTS e Outras Contribuições
A42: A | B42: INSS | F42: =20%*0 -> 0 | G42: =ROUND(G$33*F42,2) -> 0
...

Sheet G-I - Vigia NOT Líder arm
A1: PLANILHA DE CUSTO E FORMAÇÃO DE PREÇOS
A2: PROCESSO Nº 167/2024 | F2: GRUPO I
A3: OBJETO: PRESTAÇÃO DE SERVIÇOS DE VIGILÂNCIA E SEGURANÇA PATRIMONIAL 24 HORAS PARA O ETSP COM MONITORAMENTO ELETRÔNICO
A5: I - DISCRIMINAÇÃO DOS SERVIÇOS
A6: Data de Apresentação da Proposta:
A7: Município/UF: | F7: SÃO PAULO
A8: Sindicato:
A10: Ano do acordo, convenção ou dissídio coletivo: | F10: 2024
A11: Tipo de serviço: | F11: VIGILÂNCIA
A12: Unidade de Medida: | F12: Posto/Hora
A13: Período contratual: | F13: 12 MESES
A14: DADOS COMPLEMENTARES
A15: Salário mínimo oficial vigente: | F15: 1412
A16: Categoria Profissional: | F16: VIGILANTE ARMADO - Líder
A17: Classificação Brasileira de Ocupações (CBO): | F17: 5173-30
A18: Salário Normativo da Categoria Profissional: | F18: 0
A19: Data Base da Categoria: | F19: 45292
A20: Posto de Trabalho: | F20: 12 HORAS NOTURNO
A21: Quantidade de Pessoas por Posto: | F21: 2
A22: Quantidade de Postos: | F22: 1
A23: Outras Informações: | F23: Escala 12 x 36
A24: Posto de trabalho:De 2ª a Domingo, das 18:00 às 06:00 - c/ intervalo regulamentar para refeição
A25: MODULO 1 - COMPOSIÇÃO DA REMUNERAÇÃO
A26: 1 | B26: Composição da Remuneração | F26: Quant/Horas/Perc | G26: Valor Total
A27: A | B27: Salário | F27: 1 | G27: =F18*F27 -> 0
A28: B | B28: Adicional Periculosidade | F28: =30%*0 -> 0 | G28: =ROUND(G27*F28,2) -> 0
A29: C | B29: Adicional Insalubridade | F29: 0 | G29: =ROUND(F15*F29,2) -> 0
A30: D | B30: Adicional Noturno (Hora Noturna/Hora Reduzida) | F30: =ROUND((ROUND((7*15.22),2)/52.5)*60,2) -> 121.76 | G30: =ROUND(ROUND(ROUND((SUM(G27:G29)+G32)/220,2)*0.2,2)*F30,2) -> 0
A31: E | B31: Gratificação | F31: 0.1 | G31: =ROUND(G27*F31,2) -> 0
A32: F | B32: Outros (especificar) | G32: =ROUND(F18*F32,2) -> 0
A33: Total da Remuneração/MÓDULO 1 | G33: =SUM(G27:G32) -> 0
A34: MÓDULO 2 - ENCARGOS E BENEFÍCIOS ANUAIS, MENSAIS E DIÁRIOS
A35: Submódulo 2.1 - 13º Salário, Férias e Adicional de Férias
A36: A | B36: 13º Salário | F36: =8.33%*0 -> 0 | G36: =ROUND(G$33*F36,2) -> 0
A37: B | B37: Ferias e terço constitucional | F37: =ROUND((1/11)+(1/11)/3, 3)*0 -> 0 | G37: =ROUND(G$33*F37,2) -> 0
B38: Subtotal | F38: =SUM(F36:F37) -> 0
A39: C | B39: Incidência do Submódulo 2.2 sobre o Submódulo 2.1 | F39: =ROUND((F50*F38),4) -> 0 | G39: =ROUND(G$33*F39,2) -> 0
A40: Total do Submódulo 2.1 | F40: =ROUND(SUM(F38:F39),4) -> 0 | G40: =SUM(G36:G39) -> 0 | H40: =ROUND(G33*F40,2) -> 0
A41: Submódulo 2.2 – Encargos Previdenciários (GPS), FGTS e Outras Contribuições
A42: A | B42: INSS | F42: =20%*0 -> 0 | G42: =ROUND(G$33*F42,2) -> 0
...

Sheet G-I - Supervisor NOT Desarm
A1: PLANILHA DE CUSTO E FORMAÇÃO DE PREÇOS
A2: PROCESSO Nº 167/2024 | F2: GRUPO I
A3: OBJETO: PRESTAÇÃO DE SERVIÇOS DE VIGILÂNCIA E SEGURANÇA PATRIMONIAL 24 HORAS PARA O ETSP COM MONITORAMENTO ELETRÔNICO
A5: I - DISCRIMINAÇÃO DOS SERVIÇOS
A6: Data de Apresentação da Proposta:
A7: Município/UF: | F7: SÃO PAULO
A8: Sindicato:
A10: Ano do acordo, convenção ou dissídio coletivo: | F10: 2024
A11: Tipo de serviço: | F11: VIGILÂNCIA
A12: Unidade de Medida: | F12: Posto/Hora
A13: Período contratual: | F13: 12 MESES
A14: DADOS COMPLEMENTARES
A15: Salário mínimo oficial vigente: | F15: 1412
A16: Categoria Profissional: | F16: SUPERVISOR DESARMADO
A17: Classificação Brasileira de Ocupações (CBO): | F17: 5103-10
A18: Salário Normativo da Categoria Profissional: | F18: 0
A19: Data Base da Categoria: | F19: 45292
A20: Posto de Trabalho: | F20: 12 HORAS NOTURNO
A21: Quantidade de Pessoas por Posto: | F21: 2
A22: Quantidade de Postos: | F22: 2
A23: Outras Informações: | F23: Escala 12 x 36
A24: Posto de trabalho:De 2ª a Domingo, das 18:00 às 06:00 - c/ intervalo regulamentar para refeição
A25: MODULO 1 - COMPOSIÇÃO DA REMUNERAÇÃO
A26: 1 | B26: Composição da Remuneração | F26: Quant/Horas/Perc | G26: Valor Total
A27: A | B27: Salário | F27: 1 | G27: =F18*F27 -> 0
A28: B | B28: Adicional Periculosidade | F28: =30%*0 -> 0 | G28: =ROUND(G27*F28,2) -> 0
A29: C | B29: Adicional Insalubridade | F29: 0 | G29: =ROUND(F15*F29,2) -> 0
A30: D | B30: Adicional Noturno (Hora Noturna/Hora Reduzida) | F30: =ROUND((ROUND((7*15.22),2)/52.5)*60,2) -> 121.76 | G30: =ROUND(ROUND(ROUND((SUM(G27:G29)+G32)/220,2)*0.2,2)*F30,2) -> 0
A31: E | B31: Gratificação | F31: 0 | G31: =ROUND(G27*F31,2) -> 0
A32: F | B32: Outros (especificar) | G32: =ROUND(F18*F32,2) -> 0
A33: Total da Remuneração/MÓDULO 1 | G33: =SUM(G27:G32) -> 0
A34: MÓDULO 2 - ENCARGOS E BENEFÍCIOS ANUAIS, MENSAIS E DIÁRIOS
A35: Submódulo 2.1 - 13º Salário, Férias e Adicional de Férias
A36: A | B36: 13º Salário | F36: =8.33%*0 -> 0 | G36: =ROUND(G$33*F36,2) -> 0
A37: B | B37: Ferias e terço constitucional | F37: =ROUND((1/11)+(1/11)/3, 3)*0 -> 0 | G37: =ROUND(G$33*F37,2) -> 0
B38: Subtotal | F38: =SUM(F36:F37) -> 0
A39: C | B39: Incidência do Submódulo 2.2 sobre o Submódulo 2.1 | F39: =ROUND((F50*F38),4) -> 0 | G39: =ROUND(G$33*F39,2) -> 0
A40: Total do Submódulo 2.1 | F40: =ROUND(SUM(F38:F39),4) -> 0 | G40: =SUM(G36:G39) -> 0 | H40: =ROUND(G33*F40,2) -> 0
A41: Submódulo 2.2 – Encargos Previdenciários (GPS), FGTS e Outras Contribuições
A42: A | B42: INSS | F42: =20%*0 -> 0 | G42: =ROUND(G$33*F42,2) -> 0
...

Sheet G-II - Vigia OP MONITORA DIU
A1: PLANILHA DE CUSTO E FORMAÇÃO DE PREÇOS
A2: PROCESSO Nº 167/2024 | F2: GRUPO II
A3: OBJETO: PRESTAÇÃO DE SERVIÇOS DE VIGILÂNCIA E SEGURANÇA PATRIMONIAL 24 HORAS PARA O ETSP COM MONITORAMENTO ELETRÔNICO
A5: I - DISCRIMINAÇÃO DOS SERVIÇOS
A6: Data de Apresentação da Proposta:
A7: Município/UF: | F7: SÃO PAULO
A8: Sindicato:
A10: Ano do acordo, convenção ou dissídio coletivo: | F10: 2024
A11: Tipo de serviço: | F11: VIGILÂNCIA
A12: Unidade de Medida: | F12: Posto/Hora
A13: Período contratual: | F13: 12 MESES
A14: DADOS COMPLEMENTARES
A15: Salário mínimo oficial vigente: | F15: 1412
A16: Categoria Profissional: | F16: VIGILANTE OP. MONITORAMENTO
A17: Classificação Brasileira de Ocupações (CBO): | F17: 5173-30
A18: Salário Normativo da Categoria Profissional: | F18: 0
A19: Data Base da Categoria: | F19: 45292
A20: Posto de Trabalho: | F20: 12 HORAS DIURNO
A21: Quantidade de Pessoas por Posto: | F21: 2
A22: Quantidade de Postos: | F22: 4
A23: Outras Informações: | F23: Escala 12 x 36
A24: Posto de trabalho:De 2ª a Domingo, das 6:00 às 18:00 - c/ intervalo regulamentar para refeição
A25: MODULO 1 - COMPOSIÇÃO DA REMUNERAÇÃO
A26: 1 | B26: Composição da Remuneração | F26: Quant/Horas/Perc | G26: Valor Total
A27: A | B27: Salário | F27: 1 | G27: =F18*F27 -> 0
A28: B | B28: Adicional Periculosidade | F28: =30%*0 -> 0 | G28: =ROUND(G27*F28,2) -> 0
A29: C | B29: Adicional Insalubridade | F29: 0 | G29: =ROUND(F15*F29,2) -> 0
A30: D | B30: Adicional Noturno (Hora Noturna/Hora Reduzida) | F30: =ROUND((ROUND((0*15.22),2)/52.5)*60,2) -> 0 | G30: =ROUND(ROUND(ROUND((SUM(G27:G29)+G32)/220,2)*0.2,2)*F30,2) -> 0
A31: E | B31: Gratificação | F31: 0.1177 | G31: =ROUND(G27*F31,2) -> 0
A32: F | B32: Outros (especificar) | G32: =ROUND(F18*F32,2) -> 0
A33: Total da Remuneração/MÓDULO 1 | G33: =SUM(G27:G32) -> 0
A34: MÓDULO 2 - ENCARGOS E BENEFÍCIOS ANUAIS, MENSAIS E DIÁRIOS
A35: Submódulo 2.1 - 13º Salário, Férias e Adicional de Férias
A36: A | B36: 13º Salário | F36: =8.33%*0 -> 0 | G36: =ROUND(G$33*F36,2) -> 0
A37: B | B37: Ferias e terço constitucional | F37: =ROUND((1/11)+(1/11)/3, 3)*0 -> 0 | G37: =ROUND(G$33*F37,2) -> 0
B38: Subtotal | F38: =SUM(F36:F37) -> 0
A39: C | B39: Incidência do Submódulo 2.2 sobre o Submódulo 2.1 | F39: =ROUND((F50*F38),4) -> 0 | G39: =ROUND(G$33*F39,2) -> 0
A40: Total do Submódulo 2.1 | F40: =ROUND(SUM(F38:F39),4) -> 0 | G40: =SUM(G36:G39) -> 0 | H40: =ROUND(G33*F40,2) -> 0
A41: Submódulo 2.2 – Encargos Previdenciários (GPS), FGTS e Outras Contribuições
A42: A | B42: INSS | F42: =20%*0 -> 0 | G42: =ROUND(G$33*F42,2) -> 0
...

Sheet G-II - Vigia OP MONITORA NOT
A1: PLANILHA DE CUSTO E FORMAÇÃO DE PREÇOS
A2: PROCESSO Nº 167/2024 | F2: GRUPO II
A3: OBJETO: PRESTAÇÃO DE SERVIÇOS DE VIGILÂNCIA E SEGURANÇA PATRIMONIAL 24 HORAS PARA O ETSP COM MONITORAMENTO ELETRÔNICO
A5: I - DISCRIMINAÇÃO DOS SERVIÇOS
A6: Data de Apresentação da Proposta:
A7: Município/UF: | F7: SÃO PAULO
A8: Sindicato:
A10: Ano do acordo, convenção ou dissídio coletivo: | F10: 2024
A11: Tipo de serviço: | F11: VIGILÂNCIA
A12: Unidade de Medida: | F12: Posto/Hora
A13: Período contratual: | F13: 12 MESES
A14: DADOS COMPLEMENTARES
A15: Salário mínimo oficial vigente: | F15: 1412
A16: Categoria Profissional: | F16: VIGILANTE OP MONITORAMENTO
A17: Classificação Brasileira de Ocupações (CBO): | F17: 5173-30
A18: Salário Normativo da Categoria Profissional: | F18: 0
A19: Data Base da Categoria: | F19: 45292
A20: Posto de Trabalho: | F20: 12 HORAS NOTURNO
A21: Quantidade de Pessoas por Posto: | F21: 2
A22: Quantidade de Postos: | F22: 4
A23: Outras Informações: | F23: Escala 12 x 36
A24: Posto de trabalho:De 2ª a Domingo, das 18:00 às 06:00/ das 18:30 às 06:30 - c/ intervalo regulamentar p/ refeição
A25: MODULO 1 - COMPOSIÇÃO DA REMUNERAÇÃO
A26: 1 | B26: Composição da Remuneração | F26: Quant/Horas/Perc | G26: Valor Total
A27: A | B27: Salário | F27: 1 | G27: =F18*F27 -> 0
A28: B | B28: Adicional Periculosidade | F28: =30%*0 -> 0 | G28: =ROUND(G27*F28,2) -> 0
A29: C | B29: Adicional Insalubridade | F29: 0 | G29: =ROUND(F15*F29,2) -> 0
A30: D | B30: Adicional Noturno (Hora Noturna/Hora Reduzida) | F30: =ROUND((ROUND((7*15.22),2)/52.5)*60,2) -> 121.76 | G30: =ROUND(ROUND(ROUND((SUM(G27:G29)+G32)/220,2)*0.2,2)*F30,2) -> 0
A31: E | B31: Gratificação | F31: 0.1177 | G31: =ROUND(G27*F31,2) -> 0
A32: F | B32: Outros (especificar) | G32: =ROUND(F18*F32,2) -> 0
A33: Total da Remuneração/MÓDULO 1 | G33: =SUM(G27:G32) -> 0
A34: MÓDULO 2 - ENCARGOS E BENEFÍCIOS ANUAIS, MENSAIS E DIÁRIOS
A35: Submódulo 2.1 - 13º Salário, Férias e Adicional de Férias
A36: A | B36: 13º Salário | F36: =8.33%*0 -> 0 | G36: =ROUND(G$33*F36,2) -> 0
A37: B | B37: Ferias e terço constitucional | F37: =ROUND((1/11)+(1/11)/3, 3)*0 -> 0 | G37: =ROUND(G$33*F37,2) -> 0
B38: Subtotal | F38: =SUM(F36:F37) -> 0
A39: C | B39: Incidência do Submódulo 2.2 sobre o Submódulo 2.1 | F39: =ROUND((F50*F38),4) -> 0 | G39: =ROUND(G$33*F39,2) -> 0
A40: Total do Submódulo 2.1 | F40: =ROUND(SUM(F38:F39),4) -> 0 | G40: =SUM(G36:G39) -> 0 | H40: =ROUND(G33*F40,2) -> 0
A41: Submódulo 2.2 – Encargos Previdenciários (GPS), FGTS e Outras Contribuições
A42: A | B42: INSS | F42: =20%*0 -> 0 | G42: =ROUND(G$33*F42,2) -> 0
...

Sheet Estimativa M.O. LICITANTE
B1: PROCESSO Nº 167/2024
B2: QUADRO RESUMO GERAL - GRUPO I e II
B3: OBJETO: PRESTAÇÃO DE SERVIÇOS DE VIGILÂNCIA E SEGURANÇA PATRIMONIAL 24 HORAS PARA O ETSP COM MONITORAMENTO ELETRÔNICO
A4: ITEM | B4: POSTO/UNIDADE | E4: Pessoas p/Posto | F4: Total de Postos | G4: Total de Pessoas | H4: Valor Individual do Posto | I4: Valor Mensal dos Postos | J4: Valor Anual dos Postos
B5: GRUPO I - VIGILANCIA E SEGURANÇA PATRIMONIAL
A6: 1 | B6: ='G-I - Vigia DIU desarm'!F16 -> VIGILANTE DESARMADO | C6: ='G-I - Vigia DIU desarm'!F20 -> 12 HORAS DIURNO | D6: ='G-I - Vigia DIU desarm'!F23 -> Escala 12 x 36 | E6: ='G-I - Vigia DIU desarm'!F21 -> 2 | F6: ='G-I - Vigia DIU desarm'!F22 -> 31 | G6: =F6*E6 -> 62 | H6: ='G-I - Vigia DIU desarm'!G137 -> 0 | I6: =ROUND((H6*F6),2) -> 0 | J6: =I6*12 -> 0
A7: 2 | B7: ='G-I - Vigia DIU Arm BICICLETA'!F16 -> VIGILANTE ARM - BICICLETA | C7: ='G-I - Vigia DIU Arm BICICLETA'!F20 -> 12 HORAS DIURNO | D7: ='G-I - Vigia DIU Arm BICICLETA'!F23 -> Escala 12 x 36 | E7: ='G-I - Vigia DIU Arm BICICLETA'!F21 -> 2 | F7: ='G-I - Vigia DIU Arm BICICLETA'!F22 -> 2 | G7: =F7*E7 -> 4 | H7: ='G-I - Vigia DIU Arm BICICLETA'!G137 -> 0 | I7: =ROUND((H7*F7),2) -> 0 | J7: =I7*12 -> 0
A8: 3 | B8: ='G-I - Vigia DIU arm-cond MOTO'!F16 -> VIGILANTE ARM - Condutor MOTO | C8: ='G-I - Vigia DIU arm-cond MOTO'!F20 -> 12 HORAS DIURNO | D8: ='G-I - Vigia DIU arm-cond MOTO'!F23 -> Escala 12 x 36 | E8: ='G-I - Vigia DIU arm-cond MOTO'!F21 -> 2 | F8: ='G-I - Vigia DIU arm-cond MOTO'!F22 -> 14 | G8: =F8*E8 -> 28 | H8: ='G-I - Vigia DIU arm-cond MOTO'!G137 -> 0 | I8: =ROUND((H8*F8),2) -> 0 | J8: =I8*12 -> 0
A9: 4 | B9: ='G-I - Vigia DIU arm-cond CARRO'!F16 -> VIGILANTE ARM - Condutor CARRO | C9: ='G-I - Vigia DIU arm-cond CARRO'!F20 -> 12 HORAS DIURNO | D9: ='G-I - Vigia DIU arm-cond CARRO'!F23 -> Escala 12 x 36 | E9: ='G-I - Vigia DIU arm-cond CARRO'!F21 -> 2 | F9: ='G-I - Vigia DIU arm-cond CARRO'!F22 -> 3 | G9: =F9*E9 -> 6 | H9: ='G-I - Vigia DIU arm-cond CARRO'!G137 -> 0 | I9: =ROUND((H9*F9),2) -> 0 | J9: =I9*12 -> 0
A10: 5 | B10: ='G-I - Vigia DIU arm'!F16 -> VIGILANTE ARMADO | C10: ='G-I - Vigia DIU arm'!F20 -> 12 HORAS DIURNO | D10: ='G-I - Vigia DIU arm'!F23 -> Escala 12 x 36 | E10: ='G-I - Vigia DIU arm'!F21 -> 2 | F10: ='G-I - Vigia DIU arm'!F22 -> 14 | G10: =F10*E10 -> 28 | H10: ='G-I - Vigia DIU arm'!G137 -> 0 | I10: =ROUND((H10*F10),2) -> 0 | J10: =I10*12 -> 0
A11: 6 | B11: ='G-I - Vigia DIU Líder arm'!F16 -> VIGILANTE ARMADO - Líder | C11: ='G-I - Vigia DIU Líder arm'!F20 -> 12 HORAS DIURNO | D11: ='G-I - Vigia DIU Líder arm'!F23 -> Escala 12 x 36 | E11: ='G-I - Vigia DIU Líder arm'!F21 -> 2 | F11: ='G-I - Vigia DIU Líder arm'!F22 -> 1 | G11: =F11*E11 -> 2 | H11: ='G-I - Vigia DIU Líder arm'!G137 -> 0 | I11: =ROUND((H11*F11),2) -> 0 | J11: =I11*12 -> 0
A12: 7 | B12: ='G-I - Supervisor DIU Desarm'!F16 -> SUPERVISOR DESARMADO | C12: ='G-I - Supervisor DIU Desarm'!F20 -> 12 HORAS DIURNO | D12: ='G-I - Supervisor DIU Desarm'!F23 -> Escala 12 x 36 | E12: ='G-I - Supervisor DIU Desarm'!F21 -> 2 | F12: ='G-I - Supervisor DIU Desarm'!F22 -> 3 | G12: =F12*E12 -> 6 | H12: ='G-I - Supervisor DIU Desarm'!G137 -> 0 | I12: =ROUND((H12*F12),2) -> 0 | J12: =I12*12 -> 0
B13: TOTAL - POSTOS DIURNOS | F13: =SUM(F6:F12) -> 68 | G13: =SUM(G6:G12) -> 136 | I13: =SUM(I6:I12) -> 0 | J13: =I13*12 -> 0
A14: 8 | B14: ='G-I - Vigia NOT desarm'!F16 -> VIGILANTE DESARMADO | C14: ='G-I - Vigia NOT desarm'!F20 -> 12 HORAS NOTURNO | D14: ='G-I - Vigia NOT desarm'!F23 -> Escala 12 x 36 | E14: ='G-I - Vigia NOT desarm'!F21 -> 2 | F14: ='G-I - Vigia NOT desarm'!F22 -> 16 | G14: =F14*E14 -> 32 | H14: ='G-I - Vigia NOT desarm'!G137 -> 0 | I14: =ROUND((H14*F14),2) -> 0 | J14: =I14*12 -> 0
A15: 9 | B15: ='G-I - Vigia NOT arm-cond MOTO'!F16 -> VIGILANTE ARM - Condutor MOTO | C15: ='G-I - Vigia NOT arm-cond MOTO'!F20 -> 12 HORAS NOTURNO | D15: ='G-I - Vigia NOT arm-cond MOTO'!F23 -> Escala 12 x 36 | E15: ='G-I - Vigia NOT arm-cond MOTO'!F21 -> 2 | F15: ='G-I - Vigia NOT arm-cond MOTO'!F22 -> 10 | G15: =F15*E15 -> 20 | H15: ='G-I - Vigia NOT arm-cond MOTO'!G137 -> 0 | I15: =ROUND((H15*F15),2) -> 0 | J15: =I15*12 -> 0
A16: 10 | B16: ='G-I - Vigia NOT arm-cond CARRO'!F16 -> VIGILANTE ARM - Condutor CARRO | C16: ='G-I - Vigia NOT arm-cond CARRO'!F20 -> 12 HORAS NOTURNO | D16: ='G-I - Vigia NOT arm-cond CARRO'!F23 -> Escala 12 x 36 | E16: ='G-I - Vigia NOT arm-cond CARRO'!F21 -> 2 | F16: ='G-I - Vigia NOT arm-cond CARRO'!F22 -> 3 | G16: =F16*E16 -> 6 | H16: ='G-I - Vigia NOT arm-cond CARRO'!G137 -> 0 | I16: =ROUND((H16*F16),2) -> 0 | J16: =I16*12 -> 0
A17: 11 | B17: ='G-I - Vigia NOT arm'!F16 -> VIGILANTE ARMADO | C17: ='G-I - Vigia NOT arm'!F20 -> 12 HORAS NOTURNO | D17: ='G-I - Vigia NOT arm'!F23 -> Escala 12 x 36 | E17: ='G-I - Vigia NOT arm'!F21 -> 2 | F17: ='G-I - Vigia NOT arm'!F22 -> 22 | G17: =F17*E17 -> 44 | H17: ='G-I - Vigia NOT arm'!G137 -> 0 | I17: =ROUND((H17*F17),2) -> 0 | J17: =I17*12 -> 0
A18: 12 | B18: ='G-I - Vigia NOT Líder arm'!F16 -> VIGILANTE ARMADO - Líder | C18: ='G-I - Vigia NOT Líder arm'!F20 -> 12 HORAS NOTURNO | D18: ='G-I - Vigia NOT Líder arm'!F23 -> Escala 12 x 36 | E18: ='G-I - Vigia NOT Líder arm'!F21 -> 2 | F18: ='G-I - Vigia NOT Líder arm'!F22 -> 1 | G18: =F18*E18 -> 2 | H18: ='G-I - Vigia NOT Líder arm'!G137 -> 0 | I18: =ROUND((H18*F18),2) -> 0 | J18: =I18*12 -> 0
A19: 13 | B19: ='G-I - Supervisor NOT Desarm'!F16 -> SUPERVISOR DESARMADO | C19: ='G-I - Supervisor NOT Desarm'!F20 -> 12 HORAS NOTURNO | D19: ='G-I - Supervisor NOT Desarm'!F23 -> Escala 12 x 36 | E19: ='G-I - Supervisor NOT Desarm'!F21 -> 2 | F19: ='G-I - Supervisor NOT Desarm'!F22 -> 2 | G19: =F19*E19 -> 4 | H19: ='G-I - Supervisor NOT Desarm'!G137 -> 0 | I19: =ROUND((H19*F19),2) -> 0 | J19: =I19*12 -> 0
B20: TOTAL - POSTOS NOTURNOS | F20: =SUM(F14:F19) -> 54 | G20: =SUM(G14:G19) -> 108 | I20: =SUM(I14:I19) -> 0 | J20: =I20*12 -> 0
B21: TOTAL DE POSTOS DE VIGILANTES | F21: =SUM(F20,F13) -> 122 | G21: =SUM(G20,G13) -> 244 | I21: =SUM(I13+I20) -> 0 | J21: =I21*12 -> 0
B22: GRUPO II - MONITORAMENTO
A23: 14 | B23: ='G-II - Vigia OP MONITORA DIU'!F16 -> VIGILANTE OP. MONITORAMENTO | C23: ='G-II - Vigia OP MONITORA DIU'!F20 -> 12 HORAS DIURNO | D23: ='G-II - Vigia OP MONITORA DIU'!F23 -> Escala 12 x 36 | E23: ='G-II - Vigia OP MONITORA DIU'!F21 -> 2 | F23: ='G-II - Vigia OP MONITORA DIU'!F22:G22 -> 4 | G23: =F23*E23 -> 8 | H23: ='G-II - Vigia OP MONITORA DIU'!G137 -> 0 | I23: =ROUND((H23*F23),2) -> 0 | J23: =I23*12 -> 0
A24: 15 | B24: ='G-II - Vigia OP MONITORA NOT'!F16 -> VIGILANTE OP MONITORAMENTO | C24: ='G-II - Vigia OP MONITORA NOT'!F20 -> 12 HORAS NOTURNO | D24: ='G-II - Vigia OP MONITORA NOT'!F23 -> Escala 12 x 36 | E24: ='G-II - Vigia OP MONITORA NOT'!F21 -> 2 | F24: ='G-II - Vigia OP MONITORA NOT'!F22:G22 -> 4 | G24: =F24*E24 -> 8 | H24: ='G-II - Vigia OP MONITORA NOT'!G137 -> 0 | I24: =ROUND((H24*F24),2) -> 0 | J24: =I24*12 -> 0
B25: TOTAL - POSTOS MONITORAMENTO | F25: =SUM(F23:F24) -> 8 | G25: =SUM(G23:G24) -> 16 | I25: =SUM(I23:I24) -> 0 | J25: =I25*12 -> 0
B26: VALOR TOTAL DOS POSTOS DE MÃO DE OBRA | F26: =SUM(F21+F25) -> 130 | G26: =SUM(G21+G25) -> 260 | I26: =SUM(I25+I21) -> 0 | J26: =I26*12 -> 0
B28: TOTAL GERAL | F28: =SUM(F13,F20,F25) -> 130 | G28: =SUM(G13,G20,G25) -> 260 | I28: =SUM(I13,I20,I25) -> 0 | J28: =I28*12 -> 0

Sheet G-III - SIST VIG ELETRÔNICA
B1: GRUPO III - SISTEMA DE VIGILANCIA ELETRONICA (LOCAÇÃO) - ESTIMATIVA LICITANTE
B2: PROCESSO Nº 167/2024 | F2: LOCAÇÃO DE EQUIPAMENTOS - GRUPO III
B3: OBJETO: PRESTAÇÃO DE SERVIÇOS DE VIGILÂNCIA E SEGURANÇA PATRIMONIAL 24 HORAS PARA O ETSP COM MONITORAMENTO ELETRÔNICO
B4: Item | C4: Descrição | G4: Unid. | H4: Quantidade
B5: 1 | C5: CÂMERA BULLET | G5: PÇ | H5: 90
B6: 2 | C6: CÂMARA PARA OCR | G6: PÇ | H6: 37
B7: 3 | C7: CÂMERA SPEED DOME | G7: PÇ | H7: 33
B8: 4 | C8: CÂMERA PANORÂMICA PTZ | G8: PÇ | H8: 1
B9: 5 | C9: RACK DE PAREDE | G9: PÇ | H9: 14
B10: 6 | C10: SWITCH 24 PORTAS POE | G10: PÇ | H10: 15
B11: 7 | C11: NOBREAK 1500 VA | G11: PÇ | H11: 14
B12: 8 | C12: CONVERSOR DE MÍDIA | G12: PÇ | H12: 28
B13: 9 | C13: POSTE | G13: PÇ | H13: 8
B14: 10 | C14: SISTEMA DE VÍDEOMONITORAMENTO | G14: PÇ | H14: 1
B15: 11 | C15: SISTEMA ANALÍTICO PARA RECONHECIMENTO FACIAL | G15: PÇ | H15: 3
B16: 12 | C16: ESTAÇÃO DE MONITORAMENTO DE IMAGENS | G16: PÇ | H16: 4
... B30: 26 | C30: SERVIDOR PARA O SISTEMA DE LEITURA DE PLACAS | G30: PÇ | H30: 3
B31: INFRAESTRUTURA ESTIMADA (MATERIAIS SOB EXPENSAS DA CONTRATADA)
B32: Item | C32: Descrição | G32: Unid. | H32: Quantidade
B33: 1 | C33: SUPORTE EXTENSOR "BRAÇO" P/ SPEED DOME | G33: PÇS | H33: 51
B34: 2 | C34: Adaptador para Fixação em Parede / Canto Externo | G34: PÇS | H34: 175
B35: 3 | C35: Adaptador para Fixação em Poste | G35: PÇS | H35: 25
B36: 4 | C36: CAIXA DE PASSAGEM ALUMÍNIO 10x10 - COM TAMPA | G36: PÇS | H36: 200
B37: 5 | C37: CINTA DE AÇO PARA POSTE | G37: PÇS | H37: 25
B38: 6 | C38: PATCH PANEL CAT 6 - 16 P | G38: PÇS | H38: 15
B39: 7 | C39: PATCH CORD CAT 6 - 1,0 MTS | G39: PÇS | H39: 225
B40: 8 | C40: DIO FIBRA ÓPTICA | G40: PÇS | H40: 15
B41: 9 | C41: PIGTAIL | G41: PÇS | H41: 60
B42: 10 | C42: CORDÃO ÓPTICO DUPLEX | G42: PÇS | H42: 30
B43: 11 | C43: FIBRA ÓPTICA MONOMODO - 04 F.O. | G43: MTS | H43: 16000
B44: 12 | C44: CINTA DE AÇO PARA POSTE | G44: PÇS | H44: 650
... B53: 21 | C53: ACESSÓRIOS PARA CONECTORIZAÇÃO | G53: VB | H53: 1
B54: TOTAL GERAL | G54: Valor Mensal | H54: R$ (Período 12 meses)
G55: 0 | H55: =G55*12 -> 0 | I55: =G55*12 -> 0
