Workbook

Sheet OBSERVAÇÃO
A1: OBSERVAÇÕES RELATIVAS AS PLANILHAS DE CUSTOS E FORMAÇÃO DE PREÇOS
B3: 1 - DEVERÃO ser utilizadas as planilhas de custos e formação de preços conforme modelo do ANEXO II do edital.
B4: 2 - Solicita-se utilizar sistemática de arredondamento nas fórmulas, tanto para valores quanto para percentuais, utilizando sempre duas casas decimais para cálculo dos custos e valores: =ARRED(...;2), e nove casas decimais para o cálculo da produtividade: =ARRED(...;9)
B5: 3 - Sugere-se, ainda, habilitar nas planilhas do Excel a opção "Habilitar Cálculo Interativo", esta ação contribui para o cálculo integrado dos diversos módulos da planilha, segue caminho: (ARQUIVO/Opções/Fórmulas/Habilitar cálculo interativo).
B6: 4 - Nas planilhas de insumos a periodicidade/mês e o quantitativo devem ser preenchidos com as informações constantes no Edital.
B7: 5 - Algumas células apresentam fórmulas multiplicadas por 0 (zero) destacadas na cor verde para manter a integridade dos cálculos, caso o conteúdo da célula seja aplicável a licitante sugere-se apagar o zero e manter a integridade do cálculo e/ou adaptar conforme a característica e particularidade da Licitante.
B8: 6 - Ao utilizar as planilhas Modelo editáveis da CEAGESP sugere-se seguir o preenchimento na ordem em que se encontram para facilitar a integração dos cálculos e manutenção das fórmulas.
A9: CATEGORIA SINDICAL - Acordos e Convenções Coletivas | B9: A Licitante deverá indicar em campo especifico qual o ano, a data-base e a convenção coletiva de trabalho que está sendo utilizada para compor salários e beneficios em suas planilhas de custos e formação de preços. Os modelos constantes no Edital e no Portal CEAGESP deverão ser adaptados conforme as caracteristicas e particularidades de cada empresa licitante.
A10: Acordos e Convenções Coletivas | B10: Apresentar cópia dos Acordos e Convenções Coletivas que a Licitante utilizou para compor salários e benefícios na planilha de custos e formação de preços
A11: Acordos e Convenções Coletivas - Mão de Obra | B11: Salários, benefícios e demais itens obrigatórios constantes nos acordos e convenções coletivas utilizadas pela Licitante que se aplicam à mão de obra deverão compor as planilhas de custos e formação de preços.
A12: Acordos e Convenções Coletivas - (Itens não permitidos) | B12: INSTRUÇÃO NORMATINA Nº 05/2017 Art. 6º A Administração não se vincula às disposições contidas em Acordos, Convenções ou Dissidios Coletivos de Trabalho que tratem de pagamento de participação dos trabalhadores nos lucros ou resultados da empresa contratada, de matéria não trabalhista, ou que estabeleçam direitos não previstos em lei, tais como valores ou índices obrigatórios de encargos sociais ou previdenciários, bem como de preços para os insumos relacionados ao exercício da atividade. Parágrafo único. É vedado ao órgão e entidade vincular-se às disposições previstas nos Acordos, Convenções ou Dissídios Coletivos de Trabalho que tratem de obrigações e direitos que somente se aplicam aos contratos com a Administração Pública.
A13: PLANILHA - INSUMOS DIVERSOS | B13: As planilhas constantes no edital são modelos e as empresas licitantes deverão atender aos dispositivos compostos no Edital, como por exemplo no Anexo I - Termo de Referência, Anexo II - Modelo de Planilhas, e demais condições do instrumento convocatório.
A14: MODULO 1 - COMPOSIÇÃO DA REMUNERAÇÃO | B14: Os salários e beneficios utilizados nos modelos de planilhas de custos e formação de preços constantes no Edital têm como base a Convenção Coletiva de Trabalho SINDPD de 2024/2025 das referidas categorias dos postos de serviços. Observa-se, ainda, que funções não definidas em convenção coletiva serão corrigidas de acordo com o percentual de reajuste definido na convenção coletiva de trabalho utilizada pela licitante.
A15: Adicional de Insalubridade e Periculosidade | B15: Prever nas planilhas de custos, conforme legislação vigente (se necessário).
A16: IMPORTANTE | B16: As planilhas de custos elaboradas pela CEAGESP têm como base o nosso histórico de contratações, sendo assim, as planilhas de custos da Licitante devem espelhar a sua realidade, como por exemplo: sindicatos, percentuais de tributos, SAT, insumos, etc.
A17: Sub módulo 2.2 (Anexar junto com as planilhas) | B17: A Licitante deve anexar, junto com as planilhas, a memória de cálculo SAT (FAP x RAT), informando o percentual RAT conforme CNAE da empresa, bem como a comprovação do percentual do FAP (Fator Acidentario de Prevenção) através de competente documento o qual pode ser obtido em http://www.previdencia.gov.br/saude-e-seguranca-do-trabalhador/politicas-de-prevencao/fator-acidentario-de-prevencao-fap/ E cópia da página da GFIP-SEFIP onde consta o FAP e o RAT ajustado da empresa.
A18: Módulo 3 Item D (Custos não renováveis) | B18: Aviso Prévio Trabalhado: conforme orientações descritas no Acórdão nº 1.186/2017 TCU-Plenário e reafirmada no Acórdão nº 1.586/2018 TCU-Plenário, a parcela referente a esta rúbrica será excluída após o primeiro ano de contrato, e a cada ano adicional poderá ser incluído a parcela mensal no percentual máximo de até 0,194%.
A19: Submódulos 4.2 e 4.2.1 | B19: Cálculo dos Submódulos 4.2 e 4.2.1 somente se previstos no Instrumento Convocatório
A20: Submódulo 4.2.1 - Cobertura de Feriados, Dias Ponte e outros (exceto para postos 12 x 36) | B20: Consideramos para este cálculo os feriados nacionais e estaduais durante o ano. A Licitante deverá prever em suas planilhas sua realidade e particularidade. OBSERVAÇÃO: O cálculo de dias utilizado pela licitante na fase licitatória referente a esta rubrica permanecerá até o término do contrato, portanto, a licitante deverá prever em seus custos eventuais diferenças quantitativas de dias ocorridas.
... A24: MEMÓRIA DE CÁLCULO | B24: A LICITANTE DEVERÁ APRESENTAR/DESCREVER A MEMÓRIA DE CÁLCULO UTILIZADA NOS DIVERSOS MÓDULOS DE SUAS PLANILHAS DE CUSTOS E JUSTIFICÁ-LAS QUANDO NECESSÁRIO.
A25: OBSERVAÇÕES GERAIS
A27: OBSERVAÇÃO 1: Caso o licitante tenha interesse em utilizar os modelos das planilhas de custo desenvolvidas pela CEAGESP, poderá acessá-la no endereço www.ceagesp.gov.br, opção acesso a informação (licitações e contratos). OBSERVAÇÃO 2: Os modelos disponibilizados encontram-se em Excel e possuem fórmulas que podem ser adaptadas conforme as características, legalmente aceitáveis, de cada licitante. OBSERVAÇÃO 3: A CEAGESP não se responsabilizará pela utilização incorreta das fórmulas disponibilizadas nas planilhas quando essas prejudicarem os preços ofertados pelos licitantes. Observa se ainda que a mesma pode ser adaptada pela licitante.

Sheet Insumos Diversos
A1: PROCESSO 055/2025
A2: INSUMOS DIVERSOS DE MÃO-DE-OBRA
A3: ='TÉCNICO DE IMPRESSORA'!A3:G4 -> OBJETO: SERVIÇOS DE IMPRESSÃO
A4: UNIFORMES E OUTROS | B4: Periodicidade / Meses | C4: Valor Unitário | D4: Estimativa
A5: (Especificações conforme Edital) | D5: Quantidade | E5: Média Mensal
A6: Calça | B6: 6 | C6: 0 | D6: 2 | E6: =ROUND((C6*D6)/B6,2) -> 0
A7: Camisa | B7: 6 | C7: 0 | D7: 5 | E7: =ROUND((C7*D7)/B7,2) -> 0
A8: Jaqueta | B8: 6 | C8: 0 | D8: 1 | E8: =ROUND((C8*D8)/B8,2) -> 0
A9: Crachá | B9: 6 | C9: 0 | D9: 1 | E9: =ROUND((C9*D9)/B9,2) -> 0
A10: TOTAL MÉDIA MENSAL POR PESSOA | E10: =SUM(E6:E8) -> 0

Sheet TÉCNICO DE IMPRESSORA
A1: PLANILHA DE CUSTO E FORMAÇÃO DE PREÇOS
A2: PROCESSO Nº 055/2025
A3: OBJETO: SERVIÇOS DE IMPRESSÃO
A5: I - DISCRIMINAÇÃO DOS SERVIÇOS
A6: Data de Apresentação da Proposta:
A7: Município/UF: | F7: SÃO PAULO/SP
A8: Sindicato: SINDPD/SP - SINDICATO DOS EMPREGADOS EM EMPRESAS DE PROCESSAMENTO DE DADOS, DE SERVIÇOS DE COMPUTAÇÃO, DE INFORMÁTICA E DE TECNOLOGIA DA INFORMAÇÃO E DOS TRABALHADORES EM PROCESSAMENTO DE DADOS, SERVIÇOS DE COMPUTAÇÃO, INFORMÁTICA E TECNOLOGIA DA INFORMAÇÃO DO ESTADO DE SÃO PAULO
A10: Ano do acordo, convenção ou dissídio coletivo: | F10: 2025
A11: Tipo de serviço: | F11: SERVIÇOS DE IMPRESSÃO
A12: Unidade de Medida: | F12: Posto/Hora
A13: Período contratual: | F13: 12 MESES
A14: DADOS COMPLEMENTARES
A15: Salário mínimo oficial vigente: | F15: 1518
A16: Categoria Profissional: | F16: TÉCNICO DE IMPRESSORA
A17: Classificação Brasileira de Ocupações (CBO): | F17: 3132-20
A18: Salário Normativo da Categoria Profissional: | F18: 2352.09
A19: Data Base da Categoria: | F19: 45658
A20: Posto de Trabalho: | F20: 8 HORAS DIURNO
A21: Quantidade de Pessoas por Posto: | F21: 1
A22: Quantidade de Postos: | F22: 1
A23: Outras Informações: | F23: 40 HORAS SEMANAIS
A24: Posto de trabalho:De 2ª a Sexta das 08:00 às 17:00
A25: MODULO 1 - COMPOSIÇÃO DA REMUNERAÇÃO
A26: 1 | B26: Composição da Remuneração | F26: Quant/Horas/Perc | G26: Valor Total
A27: A | B27: Salário | F27: 1 | G27: =F18*F27 -> 2352.09
A28: B | B28: Adicional Periculosidade | F28: 0 | G28: =ROUND(G27*F28,2) -> 0
A29: C | B29: Adicional Insalubridade | F29: 0 | G29: =ROUND(F15*F29,2) -> 0
A30: D | B30: Adicional Noturno (Hora Noturna/Hora Reduzida) | F30: =ROUND((ROUND((0*15.22),2)/52.5)*60,2) -> 0 | G30: =ROUND(ROUND(ROUND((SUM(G27:G29)+G32)/220,2)*0.2,2)*F30,2) -> 0
A31: E | B31: Outros | F31: =ROUND(SUM(F30)/15.22*5,2) -> 0 | G31: =ROUND(ROUND(ROUND((SUM(G27:G29)+G32)/220,2)*0.2,2)*F31,2) -> 0
A32: F | B32: Outros | F32: 0 | G32: =ROUND(F18*F32,2) -> 0
A33: Total da Remuneração/MÓDULO 1 | G33: =SUM(G27:G32) -> 2352.09
A34: MÓDULO 2 - ENCARGOS E BENEFÍCIOS ANUAIS, MENSAIS E DIÁRIOS
A35: Submódulo 2.1 - 13º Salário, Férias e Adicional de Férias
A36: A | B36: 13º Salário | F36: 0.0833 | G36: =ROUND(G$33*F36,2)*0 -> 0
A37: B | B37: Ferias e terço constitucional | F37: =ROUND((1/11)+(1/11)/3, 3) -> 0.121 | G37: =ROUND(G$33*F37,2)*0 -> 0
B38: Subtotal | F38: =SUM(F36:F37) -> 0.2043
A39: C | B39: Incidência do Submódulo 2.2 sobre o Submódulo 2.1 | F39: =ROUND((F50*F38),4) -> 0 | G39: =ROUND(G$33*F39,2) -> 0
A40: Total do Submódulo 2.1 | F40: =ROUND(SUM(F38:F39),4) -> 0.2043 | G40: =SUM(G36:G39) -> 0 | H40: =ROUND(G33*F40,2) -> 480.53
A41: Submódulo 2.2 – Encargos Previdenciários (GPS), FGTS e Outras Contribuições
A42: A | B42: INSS | F42: 0 | G42: =ROUND(G$33*F42,2) -> 0
...

Sheet Resumo Geral
A1: ='TÉCNICO DE IMPRESSORA'!A2:C2 -> PROCESSO Nº 055/2025
A2: QUADRO RESUMO GERAL
A3: ='TÉCNICO DE IMPRESSORA'!A3:G4 -> OBJETO: SERVIÇOS DE IMPRESSÃO
A4: POSTO/UNIDADE | D4: Pessoas p/Posto | E4: Total de Postos | F4: Total de Pessoas | G4: Valor Individual do Posto | H4: Valor Mensal dos Postos | I4: Valor Anual dos Postos
A5: ='TÉCNICO DE IMPRESSORA'!F16 -> TÉCNICO DE IMPRESSORA | B5: ='TÉCNICO DE IMPRESSORA'!F20 -> 8 HORAS DIURNO | C5: ='TÉCNICO DE IMPRESSORA'!F23 -> 40 HORAS SEMANAIS | D5: ='TÉCNICO DE IMPRESSORA'!F21 -> 1 | E5: ='TÉCNICO DE IMPRESSORA'!F22 -> 1 | F5: =E5*D5 -> 1 | G5: ='TÉCNICO DE IMPRESSORA'!G134 -> 0 | H5: =ROUND((G5*E5),2) -> 0 | I5: =H5*12 -> 0
A6: TOTAL - MÃO DE OBRA | E6: =SUM(E5:E5) -> 1 | F6: =SUM(F5:F5) -> 1 | H6: =SUM(H5:H5) -> 0 | I6: =SUM(I5:I5) -> 0
