Workbook
Name EQUIPTOS: '[1]Equipamentos e material'!#REF!
Name EQUIPTOS: '[1]Equipamentos e material'!#REF!
Name EQUIPTOS: '[1]Equipamentos e material'!#REF!
Name EQUIPTOS: '[1]Equipamentos e material'!#REF!
Name EQUIPTOS: '[1]Equipamentos e material'!#REF!
Name EQUIPTOS: '[1]Equipamentos e material'!#REF!
Name EQUIPTOS: '[1]Equipamentos e material'!#REF!
Name EQUIPTOS: '[1]Equipamentos e material'!#REF!
Name EQUIPTOS: '[1]Equipamentos e material'!#REF!
Name EQUIPTOS: '[1]Equipamentos e material'!#REF!
Name EQUIPTOS: '[1]Equipamentos e material'!#REF!
Name EQUIPTOS: '[1]Equipamentos e material'!#REF!
Name EQUIPTOS: '[1]Equipamentos e material'!#REF!
Name EQUIPTOS: '[1]Equipamentos e material'!#REF!
Name EQUIPTOS: '[1]Equipamentos e material'!#REF!
Name EQUIPTOS: '[1]Equipamentos e material'!#REF!
Name EQUIPTOS: '[1]Equipamentos e material'!#REF!
Name EQUIPTOS: '[1]Equipamentos e material'!#REF!
Name Excel_BuiltIn_Print_Area_1: #REF!
Name Excel_BuiltIn_Print_Area_1: #REF!
Name Excel_BuiltIn_Print_Area_1: #REF!
Name Excel_BuiltIn_Print_Area_1: #REF!
Name Excel_BuiltIn_Print_Area_1: #REF!
Name Excel_BuiltIn_Print_Area_1: #REF!
Name Excel_BuiltIn_Print_Area_1: #REF!
Name Excel_BuiltIn_Print_Area_1: #REF!
Name Excel_BuiltIn_Print_Area_1: #REF!
Name Excel_BuiltIn_Print_Area_1: #REF!
Name Excel_BuiltIn_Print_Area_1: #REF!
Name Excel_BuiltIn_Print_Area_1: #REF!
Name Excel_BuiltIn_Print_Area_1: #REF!
Name Excel_BuiltIn_Print_Area_1: #REF!
Name Excel_BuiltIn_Print_Area_1: #REF!
Name Excel_BuiltIn_Print_Area_1: #REF!
Name Excel_BuiltIn_Print_Area_1: #REF!
Name Excel_BuiltIn_Print_Area_1: #REF!
Name Excel_BuiltIn_Print_Area_2: #REF!
Name Excel_BuiltIn_Print_Area_2: #REF!
Name Excel_BuiltIn_Print_Area_2: #REF!
Name Excel_BuiltIn_Print_Area_2: #REF!
Name Excel_BuiltIn_Print_Area_2: #REF!
Name Excel_BuiltIn_Print_Area_2: #REF!
Name Excel_BuiltIn_Print_Area_2: #REF!
Name Excel_BuiltIn_Print_Area_2: #REF!
Name Excel_BuiltIn_Print_Area_2: #REF!
Name Excel_BuiltIn_Print_Area_2: #REF!
Name Excel_BuiltIn_Print_Area_2: #REF!
Name Excel_BuiltIn_Print_Area_2: #REF!
Name Excel_BuiltIn_Print_Area_2: #REF!
Name Excel_BuiltIn_Print_Area_2: #REF!
Name Excel_BuiltIn_Print_Area_2: #REF!
Name Excel_BuiltIn_Print_Area_2: #REF!
Name Excel_BuiltIn_Print_Area_2: #REF!
Name Excel_BuiltIn_Print_Area_2: #REF!

Sheet Observações
A1: OBSERVAÇÕES RELATIVAS AS PLANILHAS DE CUSTOS E FORMAÇÃO DE PREÇOS
A3: Planilhas Modelo | B3: 1 - DEVERÃO ser utilizadas as planilhas de custos e formação de preços conforme modelo do anexo II do edital; 2 - Solicita-se usar sistemática de arredondamento nas fórmulas, tanto para valores quanto para percentuais, utilizando sempre duas casas decimais para cálculo dos postos e valores: =ARRED(...;2), e nove casas decimais para o cálculo da produtividade: =ARRED(...;9) 3 - Sugere-se ainda, habilitar nas planilhas do Excel a opção "Habilitar cálculo interativo", esta ação contribui para o cálculo integrado dos diversos módulos da planilha, segue caminho: (ARQUIVO/Opções/Fórmulas/Habilitar cálculo interativo).
B4: 4 - Nas planilhas de insumos a periodicidade/mês e o quantitativo devem ser preenchidos conforme informações constantes no Edital
B5: 5 - Algumas células apresentam fórmulas multiplicadas por 0 (zero) destacadas na cor verde para manter a integridade dos cálculos, caso o conteúdo da célula seja aplicável a licitante sugere-se apagar o zero e manter a integridade do cálculo e/ou adaptar conforme a característica e particularidade da Licitante.
B6: 6 - Ao utilizar utilizar as planilhas Modelo editáveis da CEAGESP sugere-se seguir o preenchimento na ordem em que se encontram para facilitar a integração dos cálculos e manutenção das fórmulas
A7: CATEGORIA SINDICAL - Acordos e Convenções Coletivas | B7: A Licitante deverá indicar em campo específico qual o ano, a data base e a convenção coletiva de trabalho que está sendo utilizada para compor salários e benefícios em suas planilhas de custos e formação de preços. Os modelos constantes no Edital e no Portal CEAGESP deverão ser adaptados conforme as caracteristicas e particularidades de cada empresa licitante.
A9: Acordos e Convenções Coletivas | B9: Apresentar cópia dos Acordos e Convenções Coletivas que a Licitante utilizou para compor salários e benefícios na planilha de custos e formaão de preços
A10: Acordos e Convenções Coletivas - Mão de Obra | B10: Salários, benefícios e demais itens obrigatórios constantes nos acordos e convenções coletivas utilizadas pela Licitante que se aplicam a mão de obra deverão compor as planilhas de custos e formação de preços.
A11: Acordos e Convenções Coletivas - (Itens não permitidos) | B11: INSTRUÇÃO NORMATINA Nº 05/2017 Art. 6º A Administração não se vincula às disposições contidas em Acordos, Convenções ou Dissídios Coletivos de Trabalho que tratem de pagamento de participação dos trabalhadores nos lucros ou resultados da empresa contratada, de matéria não trabalhista, ou que estabeleçam direitos não previstos em lei, tais como valores ou índices obrigatórios de encargos sociais ou previdenciários, bem como de preços para os insumos relacionados ao exercício da atividade. Parágrafo único. É vedado ao órgão e entidade vincular-se às disposições previstas nos Acordos, Convenções ou Dissídios Coletivos de Trabalho que tratem de obrigações e direitos que somente se aplicam aos contratos com a Administração Pública.
A12: PLANILHA - INSUMOS DIVERSOS | B12: As planilhas constantes no edital são modelos e as empresas licitantes deverão atender aos dispositivos compostos no Edital, como por exemplo no Anexo I - Termo de Referência, Anexo II - Modelo de Planilhas, e demais condições do instrumento convocatório.
A13: MODULO 1 - COMPOSIÇÃO DA REMUNERAÇÃO | B13: Os salários e beneficios utilizados nos modelos de planilhas de custos e formação de preços constantes no Edital tem como base a Convenção Coletiva de Trabalho 2023 das referidas categorias dos postos de serviços. Observa-se ainda que funções não definidas em convenção coletiva serão corrigidas de acordo com o percentual de reajuste definido na convenção coletiva de trabalho utilizada pela licitante.
A15: Adicional de Insalubridade e Periculosidade | B15: Prever nas planilhas de custos conforme legislação vigente (se necessário)
A16: IMPORTANTE | B16: As planilhas de custos elaboradas pela CEAGESP tem como base o nosso histórico de contratações, sendo assim, as planilhas de custos da Licitante devem espelhar a sua realidade como por exemplo: sindicatos, percentuais de tributos, SAT, insumos, etc.
A17: Sub módulo 2.2 (Anexar junto com as planilhas) | B17: A Licitante deve anexar junto com as planilhas a memória de cálculo SAT (FAP x RAT) informando o percentual RAT conforme CNAE da empresa, bem como a comprovação do percentual do FAP (Fator Acidentario de Prevenção) através de competente documento o qual pode ser obtido em http://www.previdencia.gov.br/saude-e-seguranca-do-trabalhador/politicas-de-prevencao/fator-acidentario-de-prevencao-fap/ E cópia da página da GFIP-SEFIP onde consta o FAP e o RAT ajustado da empresa.
A18: Módulo 3 Item D (Custos não renováveis) | B18: Aviso Prévio Trabalhado: conforme orientações descritas no Acórdão nº 1.186/2017 TCU-Plenário e reafirmada no Acórdão nº 1.586/2018 TCU-Plenário, a parcela referente à esta rúbrica será excluída após o primeiro ano de contrato, e a cada ano adicional poderá ser incluído a parcela mensal no percentual máximo de até 0,194%.
A19: Submódulos 4.2 e 4.2.1 | B19: Cálculo dos Submódulos 4.2 e 4.2.1 somente se previstos no Instrumento Convocatório
A20: Submódulo 4.2.1 - Cobertura de Feriados, Dias Ponte, e outros (exceto para postos 12 x 36) | B20: Consideramos p/ este cálculo os feriados nacionais e estaduais durante o ano. A Licitante deverá prever em suas planilhas sua realidade e particularidade. OBSERVAÇÃO: O cálculo de dias utilizado pela licitante na fase licitatória referente a esta rubrica permanecerá até o término do contrato, portanto, a licitante deverá prever em seus custos eventuais diferenças quantitativas de dias ocorridas.
... A24: MEMÓRIA DE CÁLCULO | B24: A LICITANTE DEVERÁ APRESENTAR/DESCREVER A MEMÓRIA DE CÁLCULO UTILIZADA NOS DIVERSOS MÓDULOS DE SUAS PLANILHAS DE CUSTOS E JUSTIFICÁ-LAS QUANDO NECESSÁRIO.
A25: OBSERVAÇÕES GERAIS
A27: OBSERVAÇÃO 1: Caso o licitante tenha interesse em utilizar os modelos das planilhas de custo desenvolvidas pela Ceagesp, poderá acessá-la no endereço www.ceagesp.gov.br, opção acesso a informação (licitações e contratos). OBSERVAÇÃO 2: Os modelos disponibilizados encontram-se em Excel e possuem fórmulas que podem ser adaptadas conforme as características, legalmente aceitáveis, de cada licitante. OBSERVAÇÃO 3: A Ceagesp não se responsabilizará pela utilização incorreta das fórmulas disponibilizadas nas planilhas quando essas prejudicarem os preços ofertados pelos licitantes. Observa se ainda que a mesma pode ser adaptada pela licitante.

Sheet Uniformes e EPI's
A1: PROCESSO Nº 125/2025 (Lote 01)
A2: INSUMOS DIVERSOS DE MÃO-DE-OBRA
A3: OBJETO: PRESTAÇÃO DE SERVIÇOS DE LIMPEZA, CONSERVAÇÃO E APOIO OPERACIONAL PARA ENTREPOSTOS DO INTERIOR
A5: UNIFORMES | B5: Periodicidade / Meses | C5: Valor Unitário | D5: CEARA | F5: CEBAU | H5: CERIB
D6: Quantidade | E6: Valor | F6: Quantidade | G6: Valor | H6: Quantidade | I6: Valor
A7: Camiseta de malha de algodão manga curta c/ emblema da empresa | B7: 6 | C7: 0 | D7: 4 | E7: =ROUND((C7*D7)/B7,2) -> 0 | F7: 2 | G7: =ROUND((C7*F7)/B7,2) -> 0 | H7: 4 | I7: =ROUND((C7*H7)/B7,2) -> 0
A8: Camiseta de malha de algodão manga longa c/ emblema da empresa | B8: 6 | C8: 0 | D8: 2 | E8: =ROUND((C8*D8)/B8,2) -> 0 | F8: 4 | G8: =ROUND((C8*F8)/B8,2) -> 0 | H8: 2 | I8: =ROUND((C8*H8)/B8,2) -> 0
A9: Calça comprida em tecido brim ou poliéster, com elástico, cordão e bolso (cargo) | B9: 6 | C9: 0 | D9: 3 | E9: =ROUND((C9*D9)/B9,2) -> 0 | F9: 3 | G9: =ROUND((C9*F9)/B9,2) -> 0 | H9: 3 | I9: =ROUND((C9*H9)/B9,2) -> 0
A10: Boné de brim com proteção de pescoço removível | B10: 6 | C10: 0 | D10: 1 | E10: =ROUND((C10*D10)/B10,2) -> 0 | F10: 0 | G10: =ROUND((C10*F10)/B10,2) -> 0 | H10: 1 | I10: =ROUND((C10*H10)/B10,2) -> 0
A11: Chapéu de aba larga | B11: 6 | C11: 0 | D11: 0 | E11: =ROUND((C11*D11)/B11,2) -> 0 | F11: 1 | G11: =ROUND((C11*F11)/B11,2) -> 0 | H11: 0 | I11: =ROUND((C11*H11)/B11,2) -> 0
A12: Meia de algodão | B12: 6 | C12: 0 | D12: 4 | E12: =ROUND((C12*D12)/B12,2) -> 0 | F12: 2 | G12: =ROUND((C12*F12)/B12,2) -> 0 | H12: 2 | I12: =ROUND((C12*H12)/B12,2) -> 0
A13: Agasalho/Jaqueta em moletom | B13: 6 | C13: 0 | D13: 2 | E13: =ROUND((C13*D13)/B13,2) -> 0 | F13: 2 | G13: =ROUND((C13*F13)/B13,2) -> 0 | H13: 2 | I13: =ROUND((C13*H13)/B13,2) -> 0
A14: Botina de couro com solado de borracha, palmilha de fibra não metálica resistente à perfuração e biqueira de composite | B14: 6 | C14: 0 | D14: 1 | E14: =ROUND((C14*D14)/B14,2) -> 0 | F14: 1 | G14: =ROUND((C14*F14)/B14,2) -> 0 | H14: 1 | I14: =ROUND((C14*H14)/B14,2) -> 0
A15: Botina de borracha impermeável de cano longo | B15: 6 | C15: 0 | D15: 1 | E15: =ROUND((C15*D15)/B15,2) -> 0 | F15: 1 | G15: =ROUND((C15*F15)/B15,2) -> 0 | H15: 1 | I15: =ROUND((C15*H15)/B15,2) -> 0
A16: Crachá de Identificação | B16: 12 | C16: 0 | D16: 1 | E16: =ROUND((C16*D16)/B16,2) -> 0 | F16: 1 | G16: =ROUND((C16*F16)/B16,2) -> 0 | H16: 1 | I16: =ROUND((C16*H16)/B16,2) -> 0
A17: TOTAL MENSAL | E17: =SUM(E7:E16) -> 0 | G17: =SUM(G7:G16) -> 0 | I17: =SUM(I7:I16) -> 0
A19: EPI's | B19: =B5 -> Periodicidade / Meses | C19: =C5 -> Valor Unitário | D19: =D5 -> CEARA | F19: =F5 -> CEBAU | H19: =H5 -> CERIB
D20: =D6 -> Quantidade | E20: =E6 -> Valor | F20: =F6 -> Quantidade | G20: =G6 -> Valor | H20: =H6 -> Quantidade | I20: =I6 -> Valor
A21: Caneleira/perneira de proteção para roçadeira (par) | B21: 12 | C21: 0 | D21: 1 | E21: =ROUND((C21*D21)/B21,2) -> 0 | F21: 1 | G21: =ROUND((C21*F21)/B21,2) -> 0 | H21: 2 | I21: =ROUND((C21*H21)/B21,2) -> 0
A22: Capa Longa Impermeável com Capuz (amarela) | B22: 6 | C22: 0 | D22: 4 | E22: =ROUND((C22*D22)/B22,2) -> 0 | F22: 15 | G22: =ROUND((C22*F22)/B22,2) -> 0 | H22: 25 | I22: =ROUND((C22*H22)/B22,2) -> 0
A23: Colete de Proteção Refletivo | B23: 12 | C23: 0 | D23: 2 | E23: =ROUND((C23*D23)/B23,2) -> 0 | F23: 0 | G23: =ROUND((C23*F23)/B23,2) -> 0 | H23: 0 | I23: =ROUND((C23*H23)/B23,2) -> 0
A24: Luvas de Borracha para limpeza com Cano Longo (par) | B24: 3 | C24: 0 | D24: 4 | E24: =ROUND((C24*D24)/B24,2) -> 0 | F24: 15 | G24: =ROUND((C24*F24)/B24,2) -> 0 | H24: 10 | I24: =ROUND((C24*H24)/B24,2) -> 0
A25: Luvas de Vaqueta com Cano Curto (par) | B25: 12 | C25: 0 | D25: 3 | E25: =ROUND((C25*D25)/B25,2) -> 0 | F25: 30 | G25: =ROUND((C25*F25)/B25,2) -> 0 | H25: 2 | I25: =ROUND((C25*H25)/B25,2) -> 0
A26: Luvas para Operador de Motosserra (par) | B26: 12 | C26: 0 | D26: 0 | E26: =ROUND((C26*D26)/B26,2) -> 0 | F26: 0 | G26: =ROUND((C26*F26)/B26,2) -> 0 | H26: 0 | I26: =ROUND((C26*H26)/B26,2) -> 0
A27: Macacão ou Jardineira Impermeável | B27: 12 | C27: 0 | D27: 0 | E27: =ROUND((C27*D27)/B27,2) -> 0 | F27: 1 | G27: =ROUND((C27*F27)/B27,2) -> 0 | H27: 1 | I27: =ROUND((C27*H27)/B27,2) -> 0
A28: Óculos de Proteção com Armação de ampla visão e ventilação | B28: 6 | C28: 0 | D28: 4 | E28: =ROUND((C28*D28)/B28,2) -> 0 | F28: 15 | G28: =ROUND((C28*F28)/B28,2) -> 0 | H28: 2 | I28: =ROUND((C28*H28)/B28,2) -> 0
A29: Protetor solar hipoalergênico - FPS 60 | B29: 3 | C29: 0 | D29: 12 | E29: =ROUND((C29*D29)/B29,2) -> 0 | F29: 15 | G29: =ROUND((C29*F29)/B29,2) -> 0 | H29: 25 | I29: =ROUND((C29*H29)/B29,2) -> 0
A30: Repelente | B30: 3 | C30: 0 | D30: 12 | E30: =ROUND((C30*D30)/B30,2) -> 0 | F30: 15 | G30: =ROUND((C30*F30)/B30,2) -> 0 | H30: 25 | I30: =ROUND((C30*H30)/B30,2) -> 0
A31: Respirador descartável para poeira e gases (P2) | B31: 3 | C31: 0 | D31: 8 | E31: =ROUND((C31*D31)/B31,2) -> 0 | F31: 15 | G31: =ROUND((C31*F31)/B31,2) -> 0 | H31: 10 | I31: =ROUND((C31*H31)/B31,2) -> 0
A32: Abafador de Ruído Tipo Concha | B32: 12 | C32: 0 | D32: 0 | E32: =ROUND((C32*D32)/B32,2) -> 0 | F32: 6 | G32: =ROUND((C32*F32)/B32,2) -> 0 | H32: 2 | I32: =ROUND((C32*H32)/B32,2) -> 0
... A37: Protetor auricular | B37: 3 | C37: 0 | D37: 2 | E37: =ROUND((C37*D37)/B37,2) -> 0 | F37: 15 | G37: =ROUND((C37*F37)/B37,2) -> 0 | H37: 2 | I37: =ROUND((C37*H37)/B37,2) -> 0
A38: TOTAL MENSAL | E38: =SUM(E21:E37) -> 0 | G38: =SUM(G21:G37) -> 0 | I38: =SUM(I21:I37) -> 0
A39: TOTAL MENSAL POR POSTO | D39: =ROUND((E38/'Quadro Resumo M² - CEARA'!F17),2) -> 0 | F39: =ROUND((G38/'Quadro Resumo M² - CEBAU'!F19),2) -> 0 | H39: =ROUND((I38/'Quadro Resumo M² - CERIB'!F21),2) -> 0
E109: ='Uniformes e EPI''s'!G38 -> 0

Sheet Insumos Diversos
A1: PROCESSO Nº 125/2025 (LOTE 01)
A2: INSUMOS DIVERSOS DE MÃO-DE-OBRA
A3: OBJETO: PRESTAÇÃO DE SERVIÇOS DE LIMPEZA, CONSERVAÇÃO E APOIO OPERACIONAL PARA ENTREPOSTOS DO INTERIOR
A4: MATERIAIS E UTENSÍLIOS - Limpeza e Conservação | B4: Periodicidade / Meses | C4: Valor Unitário | D4: CEARA | F4: CEBAU | H4: CERIB
D5: Quantidade | E5: Valor | F5: Quantidade | G5: Valor | H5: Quantidade | I5: Valor
A6: Balde plástico com alças – 20 litros | B6: 6 | C6: 0 | D6: 2 | E6: =ROUND((C6*D6)/B6,2) -> 0 | F6: 6 | G6: =ROUND((C6*F6)/B6,2) -> 0 | H6: 10 | I6: =ROUND((C6*H6)/B6,2) -> 0
A7: Colher de Pedreiro - 8 polegadas | B7: 12 | C7: 0 | D7: 1 | E7: =ROUND((C7*D7)/B7,2) -> 0 | F7: 1 | G7: =ROUND((C7*F7)/B7,2) -> 0 | H7: 1 | I7: =ROUND((C7*H7)/B7,2) -> 0
A8: Cone de sinalização com 75 cm de altura, 2 faixas refletivas e orifício na parte supeior | B8: 6 | C8: 0 | D8: 2 | E8: =ROUND((C8*D8)/B8,2) -> 0 | F8: 8 | G8: =ROUND((C8*F8)/B8,2) -> 0 | H8: 6 | I8: =ROUND((C8*H8)/B8,2) -> 0
A9: Conjunto MOP úmido profissional (ou similar) | B9: 12 | C9: 0 | D9: 2 | E9: =ROUND((C9*D9)/B9,2) -> 0 | F9: 4 | G9: =ROUND((C9*F9)/B9,2) -> 0 | H9: 5 | I9: =ROUND((C9*H9)/B9,2) -> 0
A10: Refil do Conjunto MOP úmido profissional (ou similar) | B10: 3 | C10: 0 | D10: 1 | E10: =ROUND((C10*D10)/B10,2) -> 0 | F10: 4 | G10: =ROUND((C10*F10)/B10,2) -> 0 | H10: 0 | I10: =ROUND((C10*H10)/B10,2) -> 0
A11: Escova de Limpeza Oval - Base Plástica | B11: 3 | C11: 0 | D11: 1 | E11: =ROUND((C11*D11)/B11,2) -> 0 | F11: 2 | G11: =ROUND((C11*F11)/B11,2) -> 0 | H11: 5 | I11: =ROUND((C11*H11)/B11,2) -> 0
A12: Escova para higienização de vaso sanitário | B12: 3 | C12: 0 | D12: 1 | E12: =ROUND((C12*D12)/B12,2) -> 0 | F12: 10 | G12: =ROUND((C12*F12)/B12,2) -> 0 | H12: 5 | I12: =ROUND((C12*H12)/B12,2) -> 0
A13: Espanador | B13: 6 | C13: 0 | D13: 1 | E13: =ROUND((C13*D13)/B13,2) -> 0 | F13: 3 | G13: =ROUND((C13*F13)/B13,2) -> 0 | H13: 1 | I13: =ROUND((C13*H13)/B13,2) -> 0
A14: Espátula | B14: 12 | C14: 0 | D14: 1 | E14: =ROUND((C14*D14)/B14,2) -> 0 | F14: 1 | G14: =ROUND((C14*F14)/B14,2) -> 0 | H14: 1 | I14: =ROUND((C14*H14)/B14,2) -> 0
A15: Esponja Dupla Face | B15: 1 | C15: 0 | D15: 4 | E15: =ROUND((C15*D15)/B15,2) -> 0 | F15: 20 | G15: =ROUND((C15*F15)/B15,2) -> 0 | H15: 15 | I15: =ROUND((C15*H15)/B15,2) -> 0
A16: Extensão elétrica 20m | B16: 12 | C16: 0 | D16: 2 | E16: =ROUND((C16*D16)/B16,2) -> 0 | F16: 3 | G16: =ROUND((C16*F16)/B16,2) -> 0 | H16: 1 | I16: =ROUND((C16*H16)/B16,2) -> 0
A17: Fita zebrada de filme polietileno 70mm x 200m | B17: 12 | C17: 0 | D17: 1 | E17: =ROUND((C17*D17)/B17,2) -> 0 | F17: 100 | G17: =ROUND((C17*F17)/B17,2) -> 0 | H17: 6 | I17: =ROUND((C17*H17)/B17,2) -> 0
... A68: Tambor de plástico - 200 litros | B68: 24 | C68: 0 | D68: 10 | E68: =ROUND((C68*D68)/B68,2) -> 0 | F68: 0 | G68: =ROUND((C68*F68)/B68,2) -> 0 | H68: 0 | I68: =ROUND((C68*H68)/B68,2) -> 0
A69: TOTAL MENSAL | E69: =SUM(E6:E68) -> 0 | G69: =SUM(G6:G68) -> 0 | I69: =SUM(I6:I68) -> 0
A71: MATERIAIS E UTENSÍLIOS - Jardinagem | B71: =B4 -> Periodicidade / Meses | C71: =C4 -> Valor Unitário | D71: =D4 -> CEARA | F71: =F4 -> CEBAU | H71: =H4 -> CERIB
D72: =D5 -> Quantidade | E72: =E5 -> Valor | F72: =F5 -> Quantidade | G72: =G5 -> Valor | H72: =H5 -> Quantidade | I72: =I5 -> Valor
A73: Enxada com Cabo Longo | B73: 24 | C73: 0 | D73: 1 | E73: =ROUND((C73*D73)/B73,2) -> 0 | F73: 3 | G73: =ROUND((C73*F73)/B73,2) -> 0 | H73: 3 | I73: =ROUND((C73*H73)/B73,2) -> 0
A74: Enxadão com Cabo Longo | B74: 24 | C74: 0 | D74: 1 | E74: =ROUND((C74*D74)/B74,2) -> 0 | F74: 1 | G74: =ROUND((C74*F74)/B74,2) -> 0 | H74: 2 | I74: =ROUND((C74*H74)/B74,2) -> 0
A75: Escova de aço | B75: 12 | C75: 0 | D75: 1 | E75: =ROUND((C75*D75)/B75,2) -> 0 | F75: 2 | G75: =ROUND((C75*F75)/B75,2) -> 0 | H75: 3 | I75: =ROUND((C75*H75)/B75,2) -> 0
A76: Facão de corte - 18 polegadas | B76: 24 | C76: 0 | D76: 1 | E76: =ROUND((C76*D76)/B76,2) -> 0 | F76: 3 | G76: =ROUND((C76*F76)/B76,2) -> 0 | H76: 1 | I76: =ROUND((C76*H76)/B76,2) -> 0
A77: Cavadeira Articulada com Cabo Longo | B77: 24 | C77: 0 | D77: 1 | E77: =ROUND((C77*D77)/B77,2) -> 0 | F77: 4 | G77: =ROUND((C77*F77)/B77,2) -> 0 | H77: 1 | I77: =ROUND((C77*H77)/B77,2) -> 0
A78: Carrinho de mão pneu maciço (50 litros) | B78: 60 | C78: 0 | D78: 2 | E78: =ROUND((C78*D78)/B78,2) -> 0 | F78: 0 | G78: =ROUND((C78*F78)/B78,2) -> 0 | H78: 0 | I78: =ROUND((C78*H78)/B78,2) -> 0
A79: Girica com duas rodas e pneu automotivo 165 x 60 x 13 | B79: 60 | C79: 0 | D79: 0 | E79: =ROUND((C79*D79)/B79,2) -> 0 | F79: 0 | G79: =ROUND((C79*F79)/B79,2) -> 0 | H79: 0 | I79: =ROUND((C79*H79)/B79,2) -> 0
A80: Carrinho de mão tipo baleia com caçamba de polietileno e pneu maciço (200 litros) | B80: 60 | C80: 0 | D80: 0 | E80: =ROUND((C80*D80)/B80,2) -> 0 | F80: 0 | G80: =ROUND((C80*F80)/B80,2) -> 0 | H80: 0 | I80: =ROUND((C80*H80)/B80,2) -> 0
A81: Vanga com ponta e Cabo Longo | B81: 24 | C81: 0 | D81: 1 | E81: =ROUND((C81*D81)/B81,2) -> 0 | F81: 2 | G81: =ROUND((C81*F81)/B81,2) -> 0 | H81: 1 | I81: =ROUND((C81*H81)/B81,2) -> 0
A82: Garfo de 4 dentes com Cabo Longo | B82: 36 | C82: 0 | D82: 1 | E82: =ROUND((C82*D82)/B82,2) -> 0 | F82: 0 | G82: =ROUND((C82*F82)/B82,2) -> 0 | H82: 0 | I82: =ROUND((C82*H82)/B82,2) -> 0
A83: Foice | B83: 36 | C83: 0 | D83: 1 | E83: =ROUND((C83*D83)/B83,2) -> 0 | F83: 1 | G83: =ROUND((C83*F83)/B83,2) -> 0 | H83: 1 | I83: =ROUND((C83*H83)/B83,2) -> 0
A84: Rastelo Plástico de 22 dentes com Cabo Longo | B84: 36 | C84: 0 | D84: 0 | E84: =ROUND((C84*D84)/B84,2) -> 0 | F84: 6 | G84: =ROUND((C84*F84)/B84,2) -> 0 | H84: 2 | I84: =ROUND((C84*H84)/B84,2) -> 0
... A93: Vassoura de Metal de Jardinagem com Cabo Longo | B93: 12 | C93: 0 | D93: 0 | E93: =ROUND((C93*D93)/B93,2) -> 0 | F93: 6 | G93: =ROUND((C93*F93)/B93,2) -> 0 | H93: 5 | I93: =ROUND((C93*H93)/B93,2) -> 0
A94: TOTAL MÉDIA MENSAL | E94: =SUM(E73:E93) -> 0 | G94: =SUM(G73:G93) -> 0 | I94: =SUM(I73:I93) -> 0
A96: UTENSÍLIOS (Uso Geral) | B96: =B71 -> Periodicidade / Meses | C96: =C71 -> Valor Unitário | D96: =D71 -> CEARA | F96: =F71 -> CEBAU | H96: =H71 -> CERIB
D97: =D72 -> Quantidade | E97: =E72 -> Valor | F97: =F72 -> Quantidade | G97: =G72 -> Valor | H97: =H72 -> Quantidade | I97: =I72 -> Valor
A98: Cone de sinalização - polietileno, base quadrada com 110x60x60 e faixas refletivas | B98: 6 | C98: 0 | D98: 2 | E98: =ROUND((C98*D98)/B98,2) -> 0 | F98: 50 | G98: =ROUND((C98*F98)/B98,2) -> 0 | H98: 6 | I98: =ROUND((H98*C98)/B98,2) -> 0
A99: Escada doméstica 5 degraus | B99: 36 | C99: 0 | D99: 1 | E99: =ROUND((C99*D99)/B99,2) -> 0 | F99: 1 | G99: =ROUND((C99*F99)/B99,2) -> 0 | H99: 1 | I99: =ROUND((H99*C99)/B99,2) -> 0
A100: Escada grande externa | B100: 36 | C100: 0 | D100: 1 | E100: =ROUND((C100*D100)/B100,2) -> 0 | F100: 1 | G100: =ROUND((C100*F100)/B100,2) -> 0 | H100: 1 | I100: =ROUND((H100*C100)/B100,2) -> 0
...

Sheet Agente de Higienização_CEARA
A1: PLANILHA DE CUSTO E FORMAÇÃO DE PREÇOS
A2: PROCESSO Nº 125/2025 | F2: LOTE 01
A3: OBJETO: PRESTAÇÃO DE SERVIÇOS DE LIMPEZA, CONSERVAÇÃO E HIGIENIZAÇÃO EM DIVERSOS ENTREPOSTO DO INTERIOR
A5: I - DISCRIMINAÇÃO DOS SERVIÇOS
A6: Data de Apresentação da Proposta:
A7: Município/UF: | F7: ARARAQUARA/SP
A8: Sindicato: SEAC/SP SINDICATO DAS EMPRESAS DE ASSEIO E CONSERVAÇÃO NO ESTADO DE SAO PAULO e SIEMACO-SP - SINDICATO TRABALHADORES EMPRESAS PRESTACAO DE SERVICOS DE ASSEIO E CONSERVACAO E LIMPEZA URBANA DE SP
A10: Ano do acordo, convenção ou dissídio coletivo: | F10: 2025
A11: Tipo de serviço: | F11: LIMPEZA
A12: Unidade de Medida: | F12: Posto/Hora
A13: Período contratual: | F13: 12 MESES
A14: DADOS COMPLEMENTARES
A15: Salário mínimo oficial vigente: | F15: 1518
A16: Categoria Profissional: | F16: Agente de Higienização
A17: Classificação Brasileira de Ocupações (CBO): | F17: 5143-20
A18: Salário Normativo da Categoria Profissional: | F18: 1717.2
A19: Data Base da Categoria: | F19: 45658
A20: Posto de Trabalho: | F20: 44 HORAS SEMANAIS
A21: Quantidade de Pessoas por Posto: | F21: 1
A22: Quantidade de Postos: | F22: ='Quadro Resumo M² - CEARA'!F8 -> 2
A23: Outras Informações: | F23: DIURNO
A24: Posto de Trabalho: 2ª, 4ª e 6ª início às 06:00 / 3ª e 5ª início às 08:00 / Sábado (4h) início às 08:00 - (com intervalo para refeição)
A25: MODULO 1 - COMPOSIÇÃO DA REMUNERAÇÃO
A26: 1 | B26: Composição da Remuneração | F26: Quant/Horas/Perc | G26: Valor Total
A27: A | B27: Salário Base | F27: 1 | G27: =F18*F27 -> 1717.2
A28: B | B28: Adicional Periculosidade | G28: =ROUND(F18*F28,2) -> 0
A29: C | B29: Adicional Insalubridade | F29: 0.4 | G29: =ROUND(F15*F29,2) -> 607.2
A30: D | B30: Adicional de Liderança | G30: =ROUND(F18*F30,2) -> 0
A31: E | B31: Adicional Noturno (Hora Noturna/Hora Reduzida) | F31: =ROUND((ROUND((0*15.22),2)/52.5)*60,2) -> 0 | G31: =ROUND((F18/192*0.2)*F31,2) -> 0
A32: F | B32: DSR Sobre Adicional Noturno | F32: =ROUND(SUM(F31)/25*5,2) -> 0 | G32: =ROUND((F18/192*0.2)*F32,2) -> 0
A33: G | B33: Outrros (especificar) | G33: 0
A34: Total da Remuneração/MÓDULO 1 | G34: =SUM(G27:G33) -> 2324.4
A35: MÓDULO 2 - ENCARGOS E BENEFÍCIOS ANUAIS, MENSAIS E DIÁRIOS
A36: Submódulo 2.1 - 13º Salário, Férias e Adicional de Férias
A37: A | B37: 13º Salário | F37: =ROUND((1/12),6) -> 0.0833 | G37: =ROUND(G$34*F37,2) -> 193.62
A38: B | B38: Ferias e terço constitucional | F38: =ROUND((1/11)+(1/11)/3, 3) -> 0.121 | G38: =ROUND(G$34*F38,2) -> 281.25
B39: Subtotal | F39: =SUM(F37:F38) -> 0.2043
A40: C | B40: Incidência do Submódulo 2.2 sobre o Submódulo 2.1 | F40: =ROUND((F51*F39),4) -> 0.0691 | G40: =ROUND(G$34*F40,2) -> 160.62
A41: Total do Submódulo 2.1 | F41: =ROUND(SUM(F39:F40),4) -> 0.2734 | G41: =SUM(G37:G40) -> 635.49 | H41: =ROUND(G34*F41,2) -> 635.49
A42: Submódulo 2.2 – Encargos Previdenciários (GPS), FGTS e Outras Contribuições | H42: =SUM(G41,G34) -> 2959.89
...

Sheet Jardineiro_CEARA
A1: PLANILHA DE CUSTO E FORMAÇÃO DE PREÇOS
A2: PROCESSO Nº 125/2025 | F2: LOTE 01
A3: OBJETO: PRESTAÇÃO DE SERVIÇOS DE LIMPEZA, CONSERVAÇÃO E HIGIENIZAÇÃO EM DIVERSOS ENTREPOSTO DO INTERIOR
A5: I - DISCRIMINAÇÃO DOS SERVIÇOS
A6: Data de Apresentação da Proposta:
A7: Município/UF: | F7: ARARAQUARA/SP
A8: Sindicato: SINDVERDE - SINDICATO DAS EMPRESAS DE MANUTENCAO E EXECUCAO DE AREAS VERDES PÚBLICAS E PRIVADAS DO ESTADO DE SÃO PAULO
A10: Ano do acordo, convenção ou dissídio coletivo: | F10: 2025/2026
A11: Tipo de serviço: | F11: LIMPEZA
A12: Unidade de Medida: | F12: Posto/Hora
A13: Período contratual: | F13: 12 MESES
A14: DADOS COMPLEMENTARES
A15: Salário mínimo oficial vigente: | F15: 1518
A16: Categoria Profissional: | F16: Jardineiro
A17: Classificação Brasileira de Ocupações (CBO): | F17: 6220-10
A18: Salário Normativo da Categoria Profissional: | F18: 1732.39
A19: Data Base da Categoria: | F19: 45717
A20: Posto de Trabalho: | F20: 44 HORAS SEMANAIS
A21: Quantidade de Pessoas por Posto: | F21: 1
A22: Quantidade de Postos: | F22: 1
A23: Outras Informações: | F23: DIURNO
A24: Posto de trabalho: 2ª à 6ª início às 08:00 / Sábado (4h) início às 08:00 (com intervalo para refeição)
A25: MODULO 1 - COMPOSIÇÃO DA REMUNERAÇÃO
A26: 1 | B26: Composição da Remuneração | F26: Quant/Horas/Perc | G26: Valor Total
A27: A | B27: Salário Base | F27: 1 | G27: =F18*F27 -> 1732.39
A28: B | B28: Adicional Periculosidade | G28: =ROUND(F18*F28,2) -> 0
A29: C | B29: Adicional Insalubridade | F29: 0.2 | G29: =ROUND(F15*F29,2) -> 303.6
A30: D | B30: Adicional de Liderança | G30: =ROUND(F18*F30,2) -> 0
A31: E | B31: Adicional Noturno (Hora Noturna/Hora Reduzida) | F31: =ROUND((ROUND((0*15.22),2)/52.5)*60,2) -> 0 | G31: =ROUND((F18/192*0.2)*F31,2) -> 0
A32: F | B32: DSR Sobre Adicional Noturno | F32: =ROUND(SUM(F31)/25*5,2) -> 0 | G32: =ROUND((F18/192*0.2)*F32,2) -> 0
A33: G | B33: Outrros (especificar) | G33: 0
A34: Total da Remuneração/MÓDULO 1 | G34: =SUM(G27:G33) -> 2035.99
A35: MÓDULO 2 - ENCARGOS E BENEFÍCIOS ANUAIS, MENSAIS E DIÁRIOS
A36: Submódulo 2.1 - 13º Salário, Férias e Adicional de Férias
A37: A | B37: 13º Salário | F37: =ROUND((1/12),6) -> 0.0833 | G37: =ROUND(G$34*F37,2) -> 169.6
A38: B | B38: Ferias e terço constitucional | F38: =ROUND((1/11)+(1/11)/3, 3) -> 0.121 | G38: =ROUND(G$34*F38,2) -> 246.35
B39: Subtotal | F39: =SUM(F37:F38) -> 0.2043
A40: C | B40: Incidência do Submódulo 2.2 sobre o Submódulo 2.1 | F40: =ROUND((F51*F39),4) -> 0.0691 | G40: =ROUND(G$34*F40,2) -> 140.69
A41: Total do Submódulo 2.1 | F41: =ROUND(SUM(F39:F40),4) -> 0.2734 | G41: =SUM(G37:G40) -> 556.64 | H41: =ROUND(G34*F41,2) -> 556.64
A42: Submódulo 2.2 – Encargos Previdenciários (GPS), FGTS e Outras Contribuições | H42: =SUM(G41,G34) -> 2592.63
...

Sheet Ajud. de Serv. Diversos_CEARA
A1: PLANILHA DE CUSTO E FORMAÇÃO DE PREÇOS
A2: PROCESSO Nº 125/2025 | F2: LOTE 01
A3: OBJETO: PRESTAÇÃO DE SERVIÇOS DE LIMPEZA, CONSERVAÇÃO E HIGIENIZAÇÃO EM DIVERSOS ENTREPOSTO DO INTERIOR
A5: I - DISCRIMINAÇÃO DOS SERVIÇOS
A6: Data de Apresentação da Proposta:
A7: Município/UF: | F7: ARARAQUARA/SP
A8: Sindicato: SEAC/SP SINDICATO DAS EMPRESAS DE ASSEIO E CONSERVAÇÃO NO ESTADO DE SAO PAULO e SIEMACO-SP - SINDICATO TRABALHADORES EMPRESAS PRESTACAO DE SERVICOS DE ASSEIO E CONSERVACAO E LIMPEZA URBANA DE SP
A10: Ano do acordo, convenção ou dissídio coletivo: | F10: 2025
A11: Tipo de serviço: | F11: Limpeza e Conservação
A12: Unidade de Medida: | F12: Posto/Hora
A13: Período contratual: | F13: 12 MESES
A14: DADOS COMPLEMENTARES
A15: Salário mínimo oficial vigente: | F15: 1518
A16: Categoria Profissional: | F16: Ajudante de Serviços Diversos
A17: Classificação Brasileira de Ocupações (CBO): | F17: 5143-25
A18: Salário Normativo da Categoria Profissional: | F18: 1766.58
A19: Data Base da Categoria: | F19: 45658
A20: Posto de Trabalho: | F20: 44 HORAS SEMANAIS
A21: Quantidade de Pessoas por Posto: | F21: 1
A22: Quantidade de Postos: | F22: 1
A23: Outras Informações: | F23: DIURNO
A24: Posto de trabalho: De 2ª à 6ª início às 07:00 e Domingo (2h) início às 15:00 - (com intervalo para refeição)
A25: MODULO 1 - COMPOSIÇÃO DA REMUNERAÇÃO
A26: 1 | B26: Composição da Remuneração | F26: Quant/Horas/Perc | G26: Valor Total
A27: A | B27: Salário | F27: 1 | G27: =F18*F27 -> 1766.58
A28: B | B28: Adicional Periculosidade | F28: 0 | G28: =ROUND(G27*F28,2) -> 0
A29: C | B29: Adicional Insalubridade | F29: 0.2 | G29: =ROUND(F15*F29,2) -> 303.6
A30: D | B30: Adicional de Liderança | G30: =ROUND(ROUND(ROUND((SUM(G27:G29)+G33)/220,2)*0.2,2)*F30,2) -> 0
A31: E | B31: Adicional Noturno (Hora Noturna/Hora Reduzida) | F31: =ROUND((ROUND((0*15.22),2)/52.5)*60,2) -> 0 | G31: =ROUND(ROUND(ROUND((SUM(G27:G29)+G33)/220,2)*0.2,2)*F31,2) -> 0
A32: F | B32: DSR Sobre Adicional Noturno | F32: =ROUND(SUM(F31)/25*5,2) -> 0
A33: G | B33: Outrros (especificar) | G33: =ROUND(F18*F33,2) -> 0
A34: Total da Remuneração/MÓDULO 1 | G34: =SUM(G27:G33) -> 2070.18
A35: MÓDULO 2 - ENCARGOS E BENEFÍCIOS ANUAIS, MENSAIS E DIÁRIOS
A36: Submódulo 2.1 - 13º Salário, Férias e Adicional de Férias
A37: A | B37: 13º Salário | F37: 0.0833 | G37: =ROUND(G$34*F37,2) -> 172.45
A38: B | B38: Ferias e terço constitucional | F38: =ROUND((1/11)+(1/11)/3, 3) -> 0.121 | G38: =ROUND(G$34*F38,2) -> 250.49
B39: Subtotal | F39: =SUM(F37:F38) -> 0.2043
A40: C | B40: Incidência do Submódulo 2.2 sobre o Submódulo 2.1 | F40: =ROUND((F51*F39),4) -> 0.0691 | G40: =ROUND(G$34*F40,2) -> 143.05
A41: Total do Submódulo 2.1 | F41: =ROUND(SUM(F39:F40),4) -> 0.2734 | G41: =SUM(G37:G40) -> 565.99 | H41: =ROUND(G34*F41,2) -> 565.99
A42: Submódulo 2.2 – Encargos Previdenciários (GPS), FGTS e Outras Contribuições
...

Sheet Quadro Resumo M² - CEARA
B1: PROCESSO Nº 125/2025 - LOTE 01
B2: QUADRO RESUMO LICITANTE - CÁLCULO VALOR M²
B3: OBJETO: PRESTAÇÃO DE SERVIÇOS DE LIMPEZA, CONSERVAÇÃO E HIGIENIZAÇÃO EM DIVERSOS ENTREPOSTO DO INTERIOR
B4: ENTRADA DE DADOS
B6: Áreas reais da unidade (em M²) | C6: ARARAQUARA/SP
B7: Tipos de Áreas (1) | C7: TOTAL (M²) | D7: Produtividade/ M² | E7: Dimensionamento de Pessoas | F7: Quant. Mínimo conforme Termo de Referência
B8: ÁREAS INTERNAS | C8: 545.99 | D8: 800 | E8: =C8/D8 -> 0.68 | F8: =ROUNDDOWN(SUM(E8:E12),0) -> 2
B9: AREAS EXTERNAS | C9: 9223.76 | D9: 9000 | E9: =C9/D9 -> 1.02
B10: ÁREAS ENVIDRAÇADAS | C10: 80.31 | D10: 300 | E10: =C10/D10 -> 0.27
B11: SANITÁRIOS | C11: 43.56 | D11: 200 | E11: =C11/D11 -> 0.22
B12: SANITÁRIOS (Diuturno) | C12: 0 | D12: 200 | E12: =C12/D12 -> 0
B13: AREAS VERDES | C13: 10000 | D13: 10000 | E13: =C13/D13 -> 1 | F13: =ROUNDUP(E13,0) -> 1
B14: Agente de Higienização | F14: ='Agente de Higienização_CEARA'!F22 -> 2
B15: Jardineiro | F15: =Jardineiro_CEARA!F22 -> 1
B16: ='Ajud. de Serv. Diversos_CEARA'!F16 -> Ajudante de Serviços Diversos | F16: ='Ajud. de Serv. Diversos_CEARA'!F22 -> 1
B17: Quantidade mínimo de pessoas conforme Termo de Referência | F17: =SUM(F14:F16) -> 4
B19: Preço do homem-mês (2) : | C19: Valor m.o./ mês
B20: ='Agente de Higienização_CEARA'!F16 -> Agente de Higienização | C20: ='Agente de Higienização_CEARA'!G140 -> 4893.67
B21: Jardineiro | C21: =Jardineiro_CEARA!G140 -> 3876.41
B22: ='Ajud. de Serv. Diversos_CEARA'!F16 -> Ajudante de Serviços Diversos | C22: ='Ajud. de Serv. Diversos_CEARA'!G140 -> 4545
B24: Tipo de área | C24: Produtividade ( I ) (1/M²) (1) | D24: Preço do homem-mês ( II ) | E24: Subtotal (R$/M²) ( I ) x ( II )
B25: área interna
B26: =B20 -> Agente de Higienização | C26: =ROUND(1/(26*D8),9) -> 4.8077e-05 | D26: =C20 -> 4893.67 | E26: =ROUND(D26*C26,2) -> 0.24
C27: preço por m² total - área interna | E27: =SUM(E26:E26) -> 0.24
B28: Tipo de área | C28: Produtividade ( I ) (1/M²) (1) | D28: Preço do homem-mês ( II ) | E28: Subtotal (R$/M²) ( I ) x ( II )
B29: área externa | I29: CONSIDERAR LIMPEZA DA ÁREA EXTERNA SEMANALMENTE
B30: =B20 -> Agente de Higienização | C30: =ROUND(1/(D9),9) -> 0.000111111 | D30: =C20 -> 4893.67 | E30: =ROUND(D30*C30,2) -> 0.54
C31: preço por m² total - área externa | E31: =SUM(E30:E30) -> 0.54
B32: sanitários
B33: =B20 -> Agente de Higienização | C33: =ROUND(1/(D11),9) -> 0.005 | D33: =C20 -> 4893.67 | E33: =ROUND(D33*C33,2) -> 24.47
C34: preço por m² total - sanitários | E34: =SUM(E33) -> 24.47
B35: sanitários (diuturno)
B36: =B20 -> Agente de Higienização | C36: =ROUND(1/(D12),9) -> 0.005 | D36: =C20 -> 4893.67 | E36: =ROUND(D36*C36,2) -> 24.47
C37: preço por m² total - sanitários | E37: =SUM(E36) -> 24.47
B39: Tipo de área | C39: Produtividade ( I ) (1/M²) (1) | D39: Frequência mês (II) (em horas) | E39: Jornada no mês (III) (em horas) | F39: Coeficiente (ki) ( I )x( II )x( III )=( IV ) | G39: Preço do homem-mês ( V ) | H39: Subtotal(R$/M²) ( IV )x( V )
B41: vidros- fachada interna e externa (3)
B42: =B20 -> Agente de Higienização | C42: =ROUND(1/D10,9) -> 0.003333333 | D42: =((C10/D10)*8) -> 2 | E42: =ROUND(1/188.76,9) -> 0.005297733 | F42: =ROUND(((C42)*(E42)*(D42)),9) -> 3.5318e-05 | G42: =C20 -> 4893.67 | H42: =ROUND(G42*F42,2) -> 0.17
G43: preço por m² total - esquadria interna e externa | H43: =ROUND(SUM(H42:H42),2) -> 0.17
B45: Tipo de área | C45: Produtividade ( I ) (1/M²) (1) | D45: Preço do homem-mês ( II ) | E45: Subtotal (R$/M²) ( I ) x ( II )
B46: área verde
...

Sheet Agente de Higienização_CEBAU
A1: PLANILHA DE CUSTO E FORMAÇÃO DE PREÇOS
A2: PROCESSO Nº 125/2025 | F2: LOTE 01
A3: OBJETO: PRESTAÇÃO DE SERVIÇOS DE LIMPEZA, CONSERVAÇÃO E HIGIENIZAÇÃO EM DIVERSOS ENTREPOSTO DO INTERIOR
A5: I - DISCRIMINAÇÃO DOS SERVIÇOS
A6: Data de Apresentação da Proposta:
A7: Município/UF: | F7: BAURU/SP
A8: Sindicato: SEAC/SP SINDICATO DAS EMPRESAS DE ASSEIO E CONSERVAÇÃO NO ESTADO DE SAO PAULO e SIEMACO-SP - SINDICATO TRABALHADORES EMPRESAS PRESTACAO DE SERVICOS DE ASSEIO E CONSERVACAO E LIMPEZA URBANA DE SP
A10: Ano do acordo, convenção ou dissídio coletivo: | F10: 2025
A11: Tipo de serviço: | F11: LIMPEZA
A12: Unidade de Medida: | F12: Posto/Hora
A13: Período contratual: | F13: 12 MESES
A14: DADOS COMPLEMENTARES
A15: Salário mínimo oficial vigente: | F15: 1518
A16: Categoria Profissional: | F16: Agente de Higienização
A17: Classificação Brasileira de Ocupações (CBO): | F17: 5143-20
A18: Salário Normativo da Categoria Profissional: | F18: 1717.2
A19: Data Base da Categoria: | F19: 45658
A20: Posto de Trabalho: | F20: 44 HORAS SEMANAIS
A21: Quantidade de Pessoas por Posto: | F21: 1
A22: Quantidade de Postos: | F22: 9
A23: Outras Informações: | F23: DIURNO
A24: Posto de trabalho: 2ª a 6ª feira (Diversos Turnos) e Sábado (4h) início às 08:00 - (com intervalo para refeição)
A25: MODULO 1 - COMPOSIÇÃO DA REMUNERAÇÃO
A26: 1 | B26: Composição da Remuneração | F26: Quant/Horas/Perc | G26: Valor Total
A27: A | B27: Salário Base | F27: 1 | G27: =F18*F27 -> 1717.2
A28: B | B28: Adicional Periculosidade | G28: =ROUND(F18*F28,2) -> 0
A29: C | B29: Adicional Insalubridade | F29: 0.4 | G29: =ROUND(F15*F29,2) -> 607.2
A30: D | B30: Adicional de Liderança | G30: =ROUND(F18*F30,2) -> 0
A31: E | B31: Adicional Noturno (Hora Noturna/Hora Reduzida) | F31: =ROUND((ROUND((0*15.22),2)/52.5)*60,2) -> 0 | G31: =ROUND((F18/192*0.2)*F31,2) -> 0
A32: F | B32: DSR Sobre Adicional Noturno | F32: =ROUND(SUM(F31)/25*5,2) -> 0 | G32: =ROUND((F18/192*0.2)*F32,2) -> 0
A33: G | B33: Outrros (especificar) | G33: 0
A34: Total da Remuneração/MÓDULO 1 | G34: =SUM(G27:G33) -> 2324.4
A35: MÓDULO 2 - ENCARGOS E BENEFÍCIOS ANUAIS, MENSAIS E DIÁRIOS
A36: Submódulo 2.1 - 13º Salário, Férias e Adicional de Férias
A37: A | B37: 13º Salário | F37: =ROUND((1/12),6) -> 0.0833 | G37: =ROUND(G$34*F37,2) -> 193.62
A38: B | B38: Ferias e terço constitucional | F38: =ROUND((1/11)+(1/11)/3, 3) -> 0.121 | G38: =ROUND(G$34*F38,2) -> 281.25
B39: Subtotal | F39: =SUM(F37:F38) -> 0.2043
A40: C | B40: Incidência do Submódulo 2.2 sobre o Submódulo 2.1 | F40: =ROUND((F51*F39),4) -> 0.0691 | G40: =ROUND(G$34*F40,2) -> 160.62
A41: Total do Submódulo 2.1 | F41: =ROUND(SUM(F39:F40),4) -> 0.2734 | G41: =SUM(G37:G40) -> 635.49 | H41: =ROUND(G34*F41,2) -> 635.49
A42: Submódulo 2.2 – Encargos Previdenciários (GPS), FGTS e Outras Contribuições | H42: =SUM(G41,G34) -> 2959.89
...

Sheet Jardineiro_CEBAU
A1: PLANILHA DE CUSTO E FORMAÇÃO DE PREÇOS
A2: PROCESSO Nº 125/2025 | F2: LOTE 01
A3: OBJETO: PRESTAÇÃO DE SERVIÇOS DE LIMPEZA, CONSERVAÇÃO E HIGIENIZAÇÃO EM DIVERSOS ENTREPOSTO DO INTERIOR
A5: I - DISCRIMINAÇÃO DOS SERVIÇOS
A6: Data de Apresentação da Proposta:
A7: Município/UF: | F7: BAURU/SP
A8: Sindicato: SINDVERDE - SINDICATO DAS EMPRESAS DE MANUTENCAO E EXECUCAO DE AREAS VERDES PÚBLICAS E PRIVADAS DO ESTADO DE SÃO PAULO
A10: Ano do acordo, convenção ou dissídio coletivo: | F10: 2025 / 2026
A11: Tipo de serviço: | F11: LIMPEZA
A12: Unidade de Medida: | F12: Posto/Hora
A13: Período contratual: | F13: 12 MESES
A14: DADOS COMPLEMENTARES
A15: Salário mínimo oficial vigente: | F15: 1518
A16: Categoria Profissional: | F16: Jardineiro
A17: Classificação Brasileira de Ocupações (CBO): | F17: 6220-10
A18: Salário Normativo da Categoria Profissional: | F18: 1732.39
A19: Data Base da Categoria: | F19: 45717
A20: Posto de Trabalho: | F20: 44 HORAS SEMANAIS
A21: Quantidade de Pessoas por Posto: | F21: 1
A22: Quantidade de Postos: | F22: 1
A23: Outras Informações: | F23: DIURNO
A24: Posto de trabalho: 2ª à 6ª início às 08:00 / Sábado (4h) início às 08:00 (com intervalo para refeição)
A25: MODULO 1 - COMPOSIÇÃO DA REMUNERAÇÃO
A26: 1 | B26: Composição da Remuneração | F26: Quant/Horas/Perc | G26: Valor Total
A27: A | B27: Salário Base | F27: 1 | G27: =F18*F27 -> 1732.39
A28: B | B28: Adicional Periculosidade | G28: =ROUND(F18*F28,2) -> 0
A29: C | B29: Adicional Insalubridade | F29: 0.2 | G29: =ROUND(F15*F29,2) -> 303.6
A30: D | B30: Adicional de Liderança | G30: =ROUND(F18*F30,2) -> 0
A31: E | B31: Adicional Noturno (Hora Noturna/Hora Reduzida) | F31: =ROUND((ROUND((0*15.22),2)/52.5)*60,2) -> 0 | G31: =ROUND((F18/192*0.2)*F31,2) -> 0
A32: F | B32: DSR Sobre Adicional Noturno | F32: =ROUND(SUM(F31)/25*5,2) -> 0 | G32: =ROUND((F18/192*0.2)*F32,2) -> 0
A33: G | B33: Outrros (especificar) | G33: 0
A34: Total da Remuneração/MÓDULO 1 | G34: =SUM(G27:G33) -> 2035.99
A35: MÓDULO 2 - ENCARGOS E BENEFÍCIOS ANUAIS, MENSAIS E DIÁRIOS
A36: Submódulo 2.1 - 13º Salário, Férias e Adicional de Férias
A37: A | B37: 13º Salário | F37: =ROUND((1/12),6) -> 0.0833 | G37: =ROUND(G$34*F37,2) -> 169.6
A38: B | B38: Ferias e terço constitucional | F38: =ROUND((1/11)+(1/11)/3, 3) -> 0.121 | G38: =ROUND(G$34*F38,2) -> 246.35
B39: Subtotal | F39: =SUM(F37:F38) -> 0.2043
A40: C | B40: Incidência do Submódulo 2.2 sobre o Submódulo 2.1 | F40: =ROUND((F51*F39),4) -> 0.0691 | G40: =ROUND(G$34*F40,2) -> 140.69
A41: Total do Submódulo 2.1 | F41: =ROUND(SUM(F39:F40),4) -> 0.2734 | G41: =SUM(G37:G40) -> 556.64 | H41: =ROUND(G34*F41,2) -> 556.64
A42: Submódulo 2.2 – Encargos Previdenciários (GPS), FGTS e Outras Contribuições | H42: =SUM(G41,G34) -> 2592.63
...

Sheet Tratorista_CEBAU
A1: PLANILHA DE CUSTO E FORMAÇÃO DE PREÇOS
A2: PROCESSO Nº 125/2025 | F2: LOTE 01
A3: OBJETO: PRESTAÇÃO DE SERVIÇOS DE LIMPEZA, CONSERVAÇÃO E HIGIENIZAÇÃO EM DIVERSOS ENTREPOSTO DO INTERIOR
A5: I - DISCRIMINAÇÃO DOS SERVIÇOS
A6: Data de Apresentação da Proposta:
A7: Município/UF: | F7: BAURU/SP
A8: Sindicato: SINDVERDE - SINDICATO DAS EMPRESAS DE MANUTENCAO E EXECUCAO DE AREAS VERDES PÚBLICAS E PRIVADAS DO ESTADO DE SÃO PAULO
A10: Ano do acordo, convenção ou dissídio coletivo: | F10: 2025 / 2026
A11: Tipo de serviço: | F11: LIMPEZA
A12: Unidade de Medida: | F12: Posto/Hora
A13: Período contratual: | F13: 12 MESES
A14: DADOS COMPLEMENTARES
A15: Salário mínimo oficial vigente: | F15: 1518
A16: Categoria Profissional: | F16: Tratorista
A17: Classificação Brasileira de Ocupações (CBO): | F17: 6410-15
A18: Salário Normativo da Categoria Profissional: | F18: 1951.37
A19: Data Base da Categoria: | F19: 45717
A20: Posto de Trabalho: | F20: 44 HORAS SEMANAIS
A21: Quantidade de Pessoas por Posto: | F21: 1
A22: Quantidade de Postos: | F22: 1
A23: Outras Informações: | F23: DIURNO
A24: Posto de trabalho: 2ª à 6ª início às 08:00 / Sábado (4h) início às 08:00 (com intervalo para refeição)
A25: MODULO 1 - COMPOSIÇÃO DA REMUNERAÇÃO
A26: 1 | B26: Composição da Remuneração | F26: Quant/Horas/Perc | G26: Valor Total
A27: A | B27: Salário Base | F27: 1 | G27: =F18*F27 -> 1951.37
A28: B | B28: Adicional Periculosidade | G28: =ROUND(F18*F28,2) -> 0
A29: C | B29: Adicional Insalubridade | F29: 0.2 | G29: =ROUND(F15*F29,2) -> 303.6
A30: D | B30: Adicional de Liderança | G30: =ROUND(F18*F30,2) -> 0
A31: E | B31: Adicional Noturno (Hora Noturna/Hora Reduzida) | F31: =ROUND((ROUND((0*15.22),2)/52.5)*60,2) -> 0 | G31: =ROUND((F18/192*0.2)*F31,2) -> 0
A32: F | B32: DSR Sobre Adicional Noturno | F32: =ROUND(SUM(F31)/25*5,2) -> 0 | G32: =ROUND((F18/192*0.2)*F32,2) -> 0
A33: G | B33: Outrros (especificar) | G33: 0
A34: Total da Remuneração/MÓDULO 1 | G34: =SUM(G27:G33) -> 2254.97
A35: MÓDULO 2 - ENCARGOS E BENEFÍCIOS ANUAIS, MENSAIS E DIÁRIOS
A36: Submódulo 2.1 - 13º Salário, Férias e Adicional de Férias
A37: A | B37: 13º Salário | F37: =ROUND((1/12),6) -> 0.0833 | G37: =ROUND(G$34*F37,2) -> 187.84
A38: B | B38: Ferias e terço constitucional | F38: =ROUND((1/11)+(1/11)/3, 3) -> 0.121 | G38: =ROUND(G$34*F38,2) -> 272.85
B39: Subtotal | F39: =SUM(F37:F38) -> 0.2043
A40: C | B40: Incidência do Submódulo 2.2 sobre o Submódulo 2.1 | F40: =ROUND((F51*F39),4) -> 0.0691 | G40: =ROUND(G$34*F40,2) -> 155.82
A41: Total do Submódulo 2.1 | F41: =ROUND(SUM(F39:F40),4) -> 0.2734 | G41: =SUM(G37:G40) -> 616.51 | H41: =ROUND(G34*F41,2) -> 616.51
A42: Submódulo 2.2 – Encargos Previdenciários (GPS), FGTS e Outras Contribuições | H42: =SUM(G41,G34) -> 2871.48
...

Sheet Ajud. de Serv. Diversos_CEBAU
A1: PLANILHA DE CUSTO E FORMAÇÃO DE PREÇOS
A2: PROCESSO Nº 125/2025 | F2: LOTE 01
A3: OBJETO: PRESTAÇÃO DE SERVIÇOS DE LIMPEZA, CONSERVAÇÃO E HIGIENIZAÇÃO EM DIVERSOS ENTREPOSTO DO INTERIOR
A5: I - DISCRIMINAÇÃO DOS SERVIÇOS
A6: Data de Apresentação da Proposta:
A7: Município/UF: | F7: BAURU/SP
A8: Sindicato: SEAC/SP SINDICATO DAS EMPRESAS DE ASSEIO E CONSERVAÇÃO NO ESTADO DE SAO PAULO e SIEMACO-SP - SINDICATO TRABALHADORES EMPRESAS PRESTACAO DE SERVICOS DE ASSEIO E CONSERVACAO E LIMPEZA URBANA DE SP
A10: Ano do acordo, convenção ou dissídio coletivo: | F10: 2025
A11: Tipo de serviço: | F11: Limpeza e Conservação
A12: Unidade de Medida: | F12: Posto/Hora
A13: Período contratual: | F13: 12 MESES
A14: DADOS COMPLEMENTARES
A15: Salário mínimo oficial vigente: | F15: 1518
A16: Categoria Profissional: | F16: Ajudante de Serviços Diversos
A17: Classificação Brasileira de Ocupações (CBO): | F17: 5143-25
A18: Salário Normativo da Categoria Profissional: | F18: 1766.58
A19: Data Base da Categoria: | F19: 45658
A20: Posto de Trabalho: | F20: 44 HORAS SEMANAIS
A21: Quantidade de Pessoas por Posto: | F21: 1
A22: Quantidade de Postos: | F22: 3
A23: Outras Informações: | F23: DIURNO
A24: Posto de trabalho: De 2ª à 6ª início às 08:00 - (com intervalo para refeição)
A25: MODULO 1 - COMPOSIÇÃO DA REMUNERAÇÃO
A26: 1 | B26: Composição da Remuneração | F26: Quant/Horas/Perc | G26: Valor Total
A27: A | B27: Salário | F27: 1 | G27: =F18*F27 -> 1766.58
A28: B | B28: Adicional Periculosidade | F28: 0 | G28: =ROUND(G27*F28,2) -> 0
A29: C | B29: Adicional Insalubridade | F29: 0.2 | G29: =ROUND(F15*F29,2) -> 303.6
A30: D | B30: Adicional de Liderança | F30: =ROUND((ROUND((0*15.22),2)/52.5)*60,2) -> 0 | G30: =ROUND(ROUND(ROUND((SUM(G27:G29)+G33)/220,2)*0.2,2)*F30,2) -> 0
A31: E | B31: Adicional Noturno (Hora Noturna/Hora Reduzida) | F31: 0
A32: F | B32: DSR Sobre Adicional Noturno | F32: =ROUND(SUM(F30)/15.22*5,2) -> 0 | G32: =ROUND(ROUND(ROUND((SUM(G27:G29)+G33)/220,2)*0.2,2)*F32,2) -> 0
A33: G | B33: Outrros (especificar) | F33: 0 | G33: =ROUND(F18*F33,2) -> 0
A34: Total da Remuneração/MÓDULO 1 | G34: =SUM(G27:G33) -> 2070.18
A35: MÓDULO 2 - ENCARGOS E BENEFÍCIOS ANUAIS, MENSAIS E DIÁRIOS
A36: Submódulo 2.1 - 13º Salário, Férias e Adicional de Férias
A37: A | B37: 13º Salário | F37: 0.0833 | G37: =ROUND(G$34*F37,2) -> 172.45
A38: B | B38: Ferias e terço constitucional | F38: =ROUND((1/11)+(1/11)/3, 3) -> 0.121 | G38: =ROUND(G$34*F38,2) -> 250.49
B39: Subtotal | F39: =SUM(F37:F38) -> 0.2043
A40: C | B40: Incidência do Submódulo 2.2 sobre o Submódulo 2.1 | F40: =ROUND((F51*F39),4) -> 0.0691 | G40: =ROUND(G$34*F40,2) -> 143.05
A41: Total do Submódulo 2.1 | F41: =ROUND(SUM(F39:F40),4) -> 0.2734 | G41: =SUM(G37:G40) -> 565.99 | H41: =ROUND(G34*F41,2) -> 565.99
A42: Submódulo 2.2 – Encargos Previdenciários (GPS), FGTS e Outras Contribuições
...

Sheet Encarregado_CEBAU
A1: PLANILHA DE CUSTO E FORMAÇÃO DE PREÇOS
A2: PROCESSO Nº 125/2025 | F2: LOTE 01
A3: OBJETO: PRESTAÇÃO DE SERVIÇOS DE LIMPEZA, CONSERVAÇÃO E HIGIENIZAÇÃO EM DIVERSOS ENTREPOSTO DO INTERIOR
A5: I - DISCRIMINAÇÃO DOS SERVIÇOS
A6: Data de Apresentação da Proposta:
A7: Município/UF: | F7: BAURU/SP
A8: Sindicato: SEAC/SP SINDICATO DAS EMPRESAS DE ASSEIO E CONSERVAÇÃO NO ESTADO DE SAO PAULO e SIEMACO-SP - SINDICATO TRABALHADORES EMPRESAS PRESTACAO DE SERVICOS DE ASSEIO E CONSERVACAO E LIMPEZA URBANA DE SP
A10: Ano do acordo, convenção ou dissídio coletivo: | F10: 2025
A11: Tipo de serviço: | F11: LIMPEZA
A12: Unidade de Medida: | F12: Posto/Hora
A13: Período contratual: | F13: 12 MESES
A14: DADOS COMPLEMENTARES
A15: Salário mínimo oficial vigente: | F15: 1518
A16: Categoria Profissional: | F16: Encarregado
A17: Classificação Brasileira de Ocupações (CBO): | F17: 4101-05
A18: Salário Normativo da Categoria Profissional: | F18: 2247.37
A19: Data Base da Categoria: | F19: 45658
A20: Posto de Trabalho: | F20: 44 HORAS SEMANAIS
A21: Quantidade de Pessoas por Posto: | F21: 1
A22: Quantidade de Postos: | F22: 1
A23: Outras Informações: | F23: DIURNO
A24: Posto de Trabalho: 2ª à 6ª início às 08:00 / Sábado (4h) início às 08:00 - (com intervalo para refeição)
A25: MODULO 1 - COMPOSIÇÃO DA REMUNERAÇÃO
A26: 1 | B26: Composição da Remuneração | F26: Quant/Horas/Perc | G26: Valor Total
A27: A | B27: Salário Base | F27: 1 | G27: =F18*F27 -> 2247.37
A28: B | B28: Adicional Periculosidade | G28: =ROUND(F18*F28,2) -> 0
A29: C | B29: Adicional Insalubridade | F29: 0.4 | G29: =ROUND(F15*F29,2) -> 607.2
A30: D | B30: Adicional de Liderança | F30: 0 | G30: =ROUND(F18*F30,2) -> 0
A31: E | B31: Adicional Noturno (Hora Noturna/Hora Reduzida) | F31: =ROUND((ROUND((0*15.22),2)/52.5)*60,2) -> 0 | G31: =ROUND((F18/192*0.2)*F31,2) -> 0
A32: F | B32: DSR Sobre Adicional Noturno | F32: =ROUND(SUM(F31)/25*5,2) -> 0 | G32: =ROUND((F18/192*0.2)*F32,2) -> 0
A33: G | B33: Outrros (especificar) | G33: 0
A34: Total da Remuneração/MÓDULO 1 | G34: =SUM(G27:G33) -> 2854.57
A35: MÓDULO 2 - ENCARGOS E BENEFÍCIOS ANUAIS, MENSAIS E DIÁRIOS
A36: Submódulo 2.1 - 13º Salário, Férias e Adicional de Férias
A37: A | B37: 13º Salário | F37: =ROUND((1/12),6) -> 0.0833 | G37: =ROUND(G$34*F37,2) -> 237.79
A38: B | B38: Ferias e terço constitucional | F38: =ROUND((1/11)+(1/11)/3, 3) -> 0.121 | G38: =ROUND(G$34*F38,2) -> 345.4
B39: Subtotal | F39: =SUM(F37:F38) -> 0.2043
A40: C | B40: Incidência do Submódulo 2.2 sobre o Submódulo 2.1 | F40: =ROUND((F51*F39),4) -> 0.0691 | G40: =ROUND(G$34*F40,2) -> 197.25
A41: Total do Submódulo 2.1 | F41: =ROUND(SUM(F39:F40),4) -> 0.2734 | G41: =SUM(G37:G40) -> 780.44 | H41: =ROUND(G34*F41,2) -> 780.44
A42: Submódulo 2.2 – Encargos Previdenciários (GPS), FGTS e Outras Contribuições | H42: =SUM(G41,G34) -> 3635.01
...

Sheet Quadro Resumo M² - CEBAU
B1: PROCESSO Nº 125/2025 - LOTE 01
B2: QUADRO RESUMO LICITANTE - CÁLCULO VALOR M²
B3: OBJETO: PRESTAÇÃO DE SERVIÇOS DE LIMPEZA, CONSERVAÇÃO E HIGIENIZAÇÃO EM DIVERSOS ENTREPOSTO DO INTERIOR
B4: ENTRADA DE DADOS
B6: Áreas reais da unidade (em M²) | C6: BAURU/SP
B7: Tipos de Áreas (1) | C7: TOTAL | D7: Produtividade/ m² | E7: Dimensionamento de Pessoas | F7: Quant. Mínimo conforme Termo de Referência
B8: ÁREAS INTERNAS | C8: 659.73 | D8: 800 | E8: =C8/D8 -> 0.82 | F8: =ROUNDDOWN(SUM(E8:E12),0) -> 10
B9: AREAS EXTERNAS | C9: 51518.09 | D9: 6000 | E9: =C9/D9 -> 8.59
B10: ÁREAS ENVIDRAÇADAS | C10: 165.42 | D10: 300 | E10: =C10/D10 -> 0.55
B11: SANITÁRIOS | C11: 117.49 | D11: 200 | E11: =C11/D11 -> 0.59
B12: SANITÁRIOS (Diuturno) | C12: 0 | D12: 200 | E12: =C12/D12 -> 0
B13: AREAS VERDES | C13: 30896 | D13: 15000 | E13: =C13/D13 -> 2.06 | F13: =ROUND((E13),0) -> 2
B14: Agente de Higienização | F14: ='Agente de Higienização_CEBAU'!F22 -> 9
B15: Jardineiro | F15: =Jardineiro_CEBAU!F22 -> 1
B16: Tratorista | F16: =Tratorista_CEBAU!F22 -> 1
B17: ='Ajud. de Serv. Diversos_CEARA'!F16 -> Ajudante de Serviços Diversos | F17: ='Ajud. de Serv. Diversos_CEBAU'!F22 -> 3
B18: Encarregado | F18: =Encarregado_CEBAU!F22 -> 1
B19: Quantidade mínimo de pessoas conforme Termo de Referência | F19: =SUM(F14:F18) -> 15
B21: Preço do homem-mês (2) : | C21: Valor m.o./ mês
B22: ='Agente de Higienização_CEBAU'!F16 -> Agente de Higienização | C22: ='Agente de Higienização_CEBAU'!G140 -> 4843.73
B23: =Jardineiro_CEBAU!F16 -> Jardineiro | C23: =Jardineiro_CEBAU!G140 -> 3836.86
B24: =Tratorista_CEBAU!F16 -> Tratorista | C24: =Tratorista_CEBAU!G140 -> 4197.93
B25: ='Ajud. de Serv. Diversos_CEBAU'!F16 -> Ajudante de Serviços Diversos | C25: ='Ajud. de Serv. Diversos_CEBAU'!G142 -> 13199.4
B26: =Encarregado_CEBAU!F16 -> Encarregado | C26: =Encarregado_CEBAU!G140 -> 5715.49
B28: Tipo de área | C28: Produtividade ( I ) (1/m²) (1) | D28: Preço do homem-mês ( II ) | E28: Subtotal (R$/m²) ( I ) x ( II )
B29: área interna
B30: =B22 -> Agente de Higienização | C30: =ROUND(1/(26*D8),9) -> 4.8077e-05 | D30: =C22 -> 4843.73 | E30: =ROUND(D30*C30,2) -> 0.23
B31: =B26 -> Encarregado | C31: =ROUND(1/(26*D8),9) -> 4.8077e-05 | D31: =C26 -> 5715.49 | E31: =ROUND(D31*C31,2) -> 0.27
C32: preço por m² total - área interna | E32: =SUM(E30:E31) -> 0.5
B33: Tipo de área | C33: Produtividade ( I ) (1/m²) (1) | D33: Preço do homem-mês ( II ) | E33: Subtotal (R$/m²) ( I ) x ( II )
B34: área externa
B35: =B22 -> Agente de Higienização | C35: =ROUND(1/(4*D$9),9) -> 4.1667e-05 | D35: =C22 -> 4843.73 | E35: =ROUND(D35*C35,2) -> 0.2
B36: =B26 -> Encarregado | C36: =ROUND(1/(26*D$9),9) -> 6.41e-06 | D36: =C26 -> 5715.49 | E36: =ROUND(D36*C36,2) -> 0.04
C37: preço por m² total - área externa | E37: =SUM(E35:E36) -> 0.24
B38: sanitários
B39: =B22 -> Agente de Higienização | C39: =ROUND(1/(26*D11),9) -> 0.000192308 | D39: =C22 -> 4843.73 | E39: =ROUND(D39*C39,2) -> 0.93
B40: =B26 -> Encarregado | C40: =ROUND(1/(26*D11),9) -> 0.000192308 | D40: =C26 -> 5715.49 | E40: =ROUND(D40*C40,2) -> 1.1
C41: preço por m² total - sanitários | E41: =SUM(E39:E40) -> 2.03
B42: sanitários (diuturno)
B43: =B22 -> Agente de Higienização | C43: =ROUND(1/(26*D12),9)*0 -> 0 | D43: =C22 -> 4843.73 | E43: =ROUND(D43*C43,2) -> 0
...

Sheet Agente de Higienização_CERIB
A1: PLANILHA DE CUSTO E FORMAÇÃO DE PREÇOS
A2: PROCESSO Nº 125/2025 | F2: LOTE 01
A3: OBJETO: PRESTAÇÃO DE SERVIÇOS DE LIMPEZA, CONSERVAÇÃO E HIGIENIZAÇÃO EM DIVERSOS ENTREPOSTO DO INTERIOR
A5: I - DISCRIMINAÇÃO DOS SERVIÇOS
A6: Data de Apresentação da Proposta:
A7: Município/UF: | F7: RIBEIRÃO PRETO/SP
A8: Sindicato: SEAC/SP SINDICATO DAS EMPRESAS DE ASSEIO E CONSERVAÇÃO NO ESTADO DE SAO PAULO e SIEMACO-SP - SINDICATO TRABALHADORES EMPRESAS PRESTACAO DE SERVICOS DE ASSEIO E CONSERVACAO E LIMPEZA URBANA DE SP
A10: Ano do acordo, convenção ou dissídio coletivo: | F10: 2025
A11: Tipo de serviço: | F11: LIMPEZA
A12: Unidade de Medida: | F12: Posto/Hora
A13: Período contratual: | F13: 12 MESES
A14: DADOS COMPLEMENTARES
A15: Salário mínimo oficial vigente: | F15: 1518
A16: Categoria Profissional: | F16: Agente de Higienização
A17: Classificação Brasileira de Ocupações (CBO): | F17: 5143-20
A18: Salário Normativo da Categoria Profissional: | F18: 1717.2
A19: Data Base da Categoria: | F19: 45658
A20: Posto de Trabalho: | F20: 44 HORAS SEMANAIS
A21: Quantidade de Pessoas por Posto: | F21: 1
A22: Quantidade de Postos: | F22: 18
A23: Outras Informações: | F23: DIURNO
A24: Posto de Trabalho: 2ª a 6ª feira (Diversos Turnos) - (com intervalo para refeição)
A25: MODULO 1 - COMPOSIÇÃO DA REMUNERAÇÃO
A26: 1 | B26: Composição da Remuneração | F26: Quant/Horas/Perc | G26: Valor Total
A27: A | B27: Salário Base | F27: 1 | G27: =F18*F27 -> 1717.2
A28: B | B28: Adicional Periculosidade | G28: =ROUND(F18*F28,2) -> 0
A29: C | B29: Adicional Insalubridade | F29: 0.4 | G29: =ROUND(F15*F29,2) -> 607.2
A30: D | B30: Adicional de Liderança | G30: =ROUND(F18*F30,2) -> 0
A31: E | B31: Adicional Noturno (Hora Noturna/Hora Reduzida) | F31: =ROUND((ROUND((0*15.22),2)/52.5)*60,2) -> 0 | G31: =ROUND((F18/192*0.2)*F31,2) -> 0
A32: F | B32: DSR Sobre Adicional Noturno | F32: =ROUND(SUM(F31)/25*5,2) -> 0 | G32: =ROUND((F18/192*0.2)*F32,2) -> 0
A33: G | B33: Outrros (especificar) | G33: 0
A34: Total da Remuneração/MÓDULO 1 | G34: =SUM(G27:G33) -> 2324.4
A35: MÓDULO 2 - ENCARGOS E BENEFÍCIOS ANUAIS, MENSAIS E DIÁRIOS
A36: Submódulo 2.1 - 13º Salário, Férias e Adicional de Férias
A37: A | B37: 13º Salário | F37: =ROUND((1/12),6) -> 0.0833 | G37: =ROUND(G$34*F37,2) -> 193.62
A38: B | B38: Ferias e terço constitucional | F38: =ROUND((1/11)+(1/11)/3, 3) -> 0.121 | G38: =ROUND(G$34*F38,2) -> 281.25
B39: Subtotal | F39: =SUM(F37:F38) -> 0.2043
A40: C | B40: Incidência do Submódulo 2.2 sobre o Submódulo 2.1 | F40: =ROUND((F51*F39),4) -> 0.0691 | G40: =ROUND(G$34*F40,2) -> 160.62
A41: Total do Submódulo 2.1 | F41: =ROUND(SUM(F39:F40),4) -> 0.2734 | G41: =SUM(G37:G40) -> 635.49 | H41: =ROUND(G34*F41,2) -> 635.49
A42: Submódulo 2.2 – Encargos Previdenciários (GPS), FGTS e Outras Contribuições | H42: =SUM(G41,G34) -> 2959.89
...

Sheet Jardineiro_CERIB
A1: PLANILHA DE CUSTO E FORMAÇÃO DE PREÇOS
A2: PROCESSO Nº 125/2025 | F2: LOTE 01
A3: OBJETO: PRESTAÇÃO DE SERVIÇOS DE LIMPEZA, CONSERVAÇÃO E HIGIENIZAÇÃO EM DIVERSOS ENTREPOSTO DO INTERIOR
A5: I - DISCRIMINAÇÃO DOS SERVIÇOS
A6: Data de Apresentação da Proposta:
A7: Município/UF: | F7: RIBEIRÃO PRETO/SP
A8: Sindicato: SINDVERDE - SINDICATO DAS EMPRESAS DE MANUTENCAO E EXECUCAO DE AREAS VERDES PÚBLICAS E PRIVADAS DO ESTADO DE SÃO PAULO
A10: Ano do acordo, convenção ou dissídio coletivo: | F10: 2025 / 2026
A11: Tipo de serviço: | F11: LIMPEZA
A12: Unidade de Medida: | F12: Posto/Hora
A13: Período contratual: | F13: 12 MESES
A14: DADOS COMPLEMENTARES
A15: Salário mínimo oficial vigente: | F15: 1518
A16: Categoria Profissional: | F16: Jardineiro
A17: Classificação Brasileira de Ocupações (CBO): | F17: 6220-10
A18: Salário Normativo da Categoria Profissional: | F18: 1732.39
A19: Data Base da Categoria: | F19: 45717
A20: Posto de Trabalho: | F20: 44 HORAS SEMANAIS
A21: Quantidade de Pessoas por Posto: | F21: 1
A22: Quantidade de Postos: | F22: 1
A23: Outras Informações: | F23: DIURNO
A24: Posto de trabalho: 2ª à 6ª início às 08:00 (com intervalo para refeição)
A25: MODULO 1 - COMPOSIÇÃO DA REMUNERAÇÃO
A26: 1 | B26: Composição da Remuneração | F26: Quant/Horas/Perc | G26: Valor Total
A27: A | B27: Salário Base | F27: 1 | G27: =F18*F27 -> 1732.39
A28: B | B28: Adicional Periculosidade | G28: =ROUND(F18*F28,2) -> 0
A29: C | B29: Adicional Insalubridade | F29: 0.2 | G29: =ROUND(F15*F29,2) -> 303.6
A30: D | B30: Adicional de Liderança | G30: =ROUND(F18*F30,2) -> 0
A31: E | B31: Adicional Noturno (Hora Noturna/Hora Reduzida) | F31: =ROUND((ROUND((0*15.22),2)/52.5)*60,2) -> 0 | G31: =ROUND((F18/192*0.2)*F31,2) -> 0
A32: F | B32: DSR Sobre Adicional Noturno | F32: =ROUND(SUM(F31)/25*5,2) -> 0 | G32: =ROUND((F18/192*0.2)*F32,2) -> 0
A33: G | B33: Outrros (especificar) | G33: 0
A34: Total da Remuneração/MÓDULO 1 | G34: =SUM(G27:G33) -> 2035.99
A35: MÓDULO 2 - ENCARGOS E BENEFÍCIOS ANUAIS, MENSAIS E DIÁRIOS
A36: Submódulo 2.1 - 13º Salário, Férias e Adicional de Férias
A37: A | B37: 13º Salário | F37: =ROUND((1/12),6) -> 0.0833 | G37: =ROUND(G$34*F37,2) -> 169.6
A38: B | B38: Ferias e terço constitucional | F38: =ROUND((1/11)+(1/11)/3, 3) -> 0.121 | G38: =ROUND(G$34*F38,2) -> 246.35
B39: Subtotal | F39: =SUM(F37:F38) -> 0.2043
A40: C | B40: Incidência do Submódulo 2.2 sobre o Submódulo 2.1 | F40: =ROUND((F51*F39),4) -> 0.0691 | G40: =ROUND(G$34*F40,2) -> 140.69
A41: Total do Submódulo 2.1 | F41: =ROUND(SUM(F39:F40),4) -> 0.2734 | G41: =SUM(G37:G40) -> 556.64 | H41: =ROUND(G34*F41,2) -> 556.64
A42: Submódulo 2.2 – Encargos Previdenciários (GPS), FGTS e Outras Contribuições | H42: =SUM(G41,G34) -> 2592.63
...

Sheet Tratorista_CERIB
A1: PLANILHA DE CUSTO E FORMAÇÃO DE PREÇOS
A2: PROCESSO Nº 125/2025 | F2: LOTE 01
A3: OBJETO: PRESTAÇÃO DE SERVIÇOS DE LIMPEZA, CONSERVAÇÃO E HIGIENIZAÇÃO EM DIVERSOS ENTREPOSTO DO INTERIOR
A5: I - DISCRIMINAÇÃO DOS SERVIÇOS
A6: Data de Apresentação da Proposta:
A7: Município/UF: | F7: RIBEIRÃO PRETO/SP
A8: Sindicato: SINDVERDE - SINDICATO DAS EMPRESAS DE MANUTENCAO E EXECUCAO DE AREAS VERDES PÚBLICAS E PRIVADAS DO ESTADO DE SÃO PAULO
A10: Ano do acordo, convenção ou dissídio coletivo: | F10: 2025 / 2026
A11: Tipo de serviço: | F11: LIMPEZA
A12: Unidade de Medida: | F12: Posto/Hora
A13: Período contratual: | F13: 12 MESES
A14: DADOS COMPLEMENTARES
A15: Salário mínimo oficial vigente: | F15: 1518
A16: Categoria Profissional: | F16: Tratorista
A17: Classificação Brasileira de Ocupações (CBO): | F17: 6410-15
A18: Salário Normativo da Categoria Profissional: | F18: 1951.37
A19: Data Base da Categoria: | F19: 45717
A20: Posto de Trabalho: | F20: 44 HORAS SEMANAIS
A21: Quantidade de Pessoas por Posto: | F21: 1
A22: Quantidade de Postos: | F22: 1
A23: Outras Informações: | F23: DIURNO
A24: Posto de trabalho: 2ª à 6ª início às 08:00 (com intervalo para refeição)
A25: MODULO 1 - COMPOSIÇÃO DA REMUNERAÇÃO
A26: 1 | B26: Composição da Remuneração | F26: Quant/Horas/Perc | G26: Valor Total
A27: A | B27: Salário Base | F27: 1 | G27: =F18*F27 -> 1951.37
A28: B | B28: Adicional Periculosidade | G28: =ROUND(F18*F28,2) -> 0
A29: C | B29: Adicional Insalubridade | F29: 0.2 | G29: =ROUND(F15*F29,2) -> 303.6
A30: D | B30: Adicional de Liderança | G30: =ROUND(F18*F30,2) -> 0
A31: E | B31: Adicional Noturno (Hora Noturna/Hora Reduzida) | F31: =ROUND((ROUND((0*15.22),2)/52.5)*60,2) -> 0 | G31: =ROUND((F18/192*0.2)*F31,2) -> 0
A32: F | B32: DSR Sobre Adicional Noturno | F32: =ROUND(SUM(F31)/25*5,2) -> 0 | G32: =ROUND((F18/192*0.2)*F32,2) -> 0
A33: G | B33: Outrros (especificar) | G33: 0
A34: Total da Remuneração/MÓDULO 1 | G34: =SUM(G27:G33) -> 2254.97
A35: MÓDULO 2 - ENCARGOS E BENEFÍCIOS ANUAIS, MENSAIS E DIÁRIOS
A36: Submódulo 2.1 - 13º Salário, Férias e Adicional de Férias
A37: A | B37: 13º Salário | F37: =ROUND((1/12),6) -> 0.0833 | G37: =ROUND(G$34*F37,2) -> 187.84
A38: B | B38: Ferias e terço constitucional | F38: =ROUND((1/11)+(1/11)/3, 3) -> 0.121 | G38: =ROUND(G$34*F38,2) -> 272.85
B39: Subtotal | F39: =SUM(F37:F38) -> 0.2043
A40: C | B40: Incidência do Submódulo 2.2 sobre o Submódulo 2.1 | F40: =ROUND((F51*F39),4) -> 0.0691 | G40: =ROUND(G$34*F40,2) -> 155.82
A41: Total do Submódulo 2.1 | F41: =ROUND(SUM(F39:F40),4) -> 0.2734 | G41: =SUM(G37:G40) -> 616.51 | H41: =ROUND(G34*F41,2) -> 616.51
A42: Submódulo 2.2 – Encargos Previdenciários (GPS), FGTS e Outras Contribuições | H42: =SUM(G41,G34) -> 2871.48
...

Sheet Ajudante de Tratorista_CERIB
A1: PLANILHA DE CUSTO E FORMAÇÃO DE PREÇOS
A2: PROCESSO Nº 125/2025 | F2: LOTE 01
A3: OBJETO: PRESTAÇÃO DE SERVIÇOS DE LIMPEZA, CONSERVAÇÃO E HIGIENIZAÇÃO EM DIVERSOS ENTREPOSTO DO INTERIOR
A5: I - DISCRIMINAÇÃO DOS SERVIÇOS
A6: Data de Apresentação da Proposta:
A7: Município/UF: | F7: RIBEIRÃO PRETO/SP
