Workbook

Sheet Observações
A1: OBSERVAÇÕES RELATIVAS AS PLANILHAS DE CUSTOS E FORMAÇÃO DE PREÇOS
A3: Planilhas Modelo | B3: 1 - DEVERÃO ser utilizadas as planilhas de custos e formação de preços conforme modelo do anexo II do edital; 2 - Solicita-se usar sistemática de arredondamento nas fórmulas, tanto para valores quanto para percentuais, utilizando sempre duas casas decimais para cálculo dos postos e valores: =ARRED(...;2), e nove casas decimais para o cálculo da produtividade: =ARRED(...;9) 3 - Sugere-se ainda, habilitar nas planilhas do Excel a opção "Habilitar cálculo interativo", esta ação contribui para o cálculo integrado dos diversos módulos da planilha, segue caminho: (ARQUIVO/Opções/Fórmulas/Habilitar cálculo interativo).
B4: 4 - Nas planilhas de insumos a periodicidade/mês e o quantitativo devem ser preenchidos conforme informações constantes no Edital
B5: 5 - Algumas células apresentam fórmulas multiplicadas por 0 (zero) destacadas na cor verde para manter a integridade dos cálculos, caso o conteúdo da célula seja aplicável a licitante sugere-se apagar o zero e manter a integridade do cálculo e/ou adaptar conforme a característica e particularidade da Licitante.
B6: 6 - Ao utilizar utilizar as planilhas Modelo editáveis da CEAGESP sugere-se seguir o preenchimento na ordem em que se encontram para facilitar a integração dos cálculos e manutenção das fórmulas
A7: CATEGORIA SINDICAL - Acordos e Convenções Coletivas | B7: A Licitante deverá indicar em campo específico qual o ano, a data base e a convenção coletiva de trabalho que está sendo utilizada para compor salários e benefícios em suas planilhas de custos e formação de preços. Os modelos constantes no Edital e no Portal CEAGESP deverão ser adaptados conforme as caracteristicas e particularidades de cada empresa licitante.
A8: Acordos e Convenções Coletivas | B8: Apresentar cópia dos Acordos e Convenções Coletivas que a Licitante utilizou para compor salários e benefícios na planilha de custos e formação de preços
A9: Acordos e Convenções Coletivas - Mão de Obra | B9: Salários, benefícios e demais itens obrigatórios constantes nos acordos e convenções coletivas utilizadas pela Licitante que se aplicam a mão de obra deverão compor as planilhas de custos e formação de preços.
A10: Acordos e Convenções Coletivas - (Itens não permitidos) | B10: INSTRUÇÃO NORMATINA Nº 05/2017 Art. 6º A Administração não se vincula às disposições contidas em Acordos, Convenções ou Dissídios Coletivos de Trabalho que tratem de pagamento de participação dos trabalhadores nos lucros ou resultados da empresa contratada, de matéria não trabalhista, ou que estabeleçam direitos não previstos em lei, tais como valores ou índices obrigatórios de encargos sociais ou previdenciários, bem como de preços para os insumos relacionados ao exercício da atividade. Parágrafo único. É vedado ao órgão e entidade vincular-se às disposições previstas nos Acordos, Convenções ou Dissídios Coletivos de Trabalho que tratem de obrigações e direitos que somente se aplicam aos contratos com a Administração Pública.
A11: PLANILHA - INSUMOS DIVERSOS | B11: As planilhas constantes no edital são modelos e as empresas licitantes deverão atender aos dispositivos compostos no Edital, como por exemplo no Anexo I - Termo de Referência, Anexo II - Modelo de Planilhas, e demais condições do instrumento convocatório.
A12: MODULO 1 - COMPOSIÇÃO DA REMUNERAÇÃO | B12: Os salários e beneficios utilizados nos modelos de planilhas de custos e formação de preços constantes no Edital tem como base a Convenção Coletiva de Trabalho 2025 das referidas categorias dos postos de serviços. Observa-se ainda que funções não definidas em convenção coletiva serão corrigidas de acordo com o percentual de reajuste definido na convenção coletiva de trabalho utilizada pela licitante.
A13: Adicional de Insalubridade e Periculosidade | B13: Prever nas planilhas de custos conforme legislação vigente (se necessário)
A14: IMPORTANTE | B14: As planilhas de custos elaboradas pela CEAGESP tem como base o nosso histórico de contratações, sendo assim, as planilhas de custos da Licitante devem espelhar a sua realidade como por exemplo: sindicatos, percentuais de tributos, SAT, insumos, etc.
A15: Sub módulo 2.2 (Anexar junto com as planilhas) | B15: A Licitante deve anexar junto com as planilhas a memória de cálculo SAT (FAP x RAT) informando o percentual RAT conforme CNAE da empresa, bem como a comprovação do percentual do FAP (Fator Acidentario de Prevenção) através de competente documento o qual pode ser obtido em http://www.previdencia.gov.br/saude-e-seguranca-do-trabalhador/politicas-de-prevencao/fator-acidentario-de-prevencao-fap/ E cópia da página da GFIP-SEFIP onde consta o FAP e o RAT ajustado da empresa.
A16: Módulo 3 Item D (Custos não renováveis) | B16: Aviso Prévio Trabalhado: conforme orientações descritas no Acórdão nº 1.186/2017 TCU-Plenário e reafirmada no Acórdão nº 1.586/2018 TCU-Plenário, a parcela referente à esta rúbrica será excluída após o primeiro ano de contrato, e a cada ano adicional poderá ser incluído a parcela mensal no percentual máximo de até 0,194%.
A17: Submódulos 4.2 e 4.2.1 | B17: Cálculo dos Submódulos 4.2 e 4.2.1 somente se previstos no Instrumento Convocatório
A18: Submódulo 4.2.1 - Cobertura de Feriados, Dias Ponte, e outros (exceto para postos 12 x 36) | B18: Consideramos p/ este cálculo os feriados nacionais e estaduais durante o ano. A Licitante deverá prever em suas planilhas sua realidade e particularidade. OBSERVAÇÃO: O cálculo de dias utilizado pela licitante na fase licitatória referente a esta rubrica permanecerá até o término do contrato, portanto, a licitante deverá prever em seus custos eventuais diferenças quantitativas de dias ocorridas.
... A22: MEMÓRIA DE CÁLCULO | B22: A LICITANTE DEVERÁ APRESENTAR/DESCREVER A MEMÓRIA DE CÁLCULO UTILIZADA NOS DIVERSOS MÓDULOS DE SUAS PLANILHAS DE CUSTOS E JUSTIFICÁ-LAS QUANDO NECESSÁRIO.
A23: OBSERVAÇÕES GERAIS
A25: OBSERVAÇÃO 1: Caso o licitante tenha interesse em utilizar os modelos das planilhas de custo desenvolvidas pela CEAGESP, poderá acessá-la no endereço www.ceagesp.gov.br, opção acesso a informação (licitações e contratos). OBSERVAÇÃO 2: Os modelos disponibilizados encontram-se em Excel e possuem fórmulas que podem ser adaptadas conforme as características, legalmente aceitáveis, de cada licitante. OBSERVAÇÃO 3: A CEAGESP não se responsabilizará pela utilização incorreta das fórmulas disponibilizadas nas planilhas quando essas prejudicarem os preços ofertados pelos licitantes. Observa se ainda que a mesma pode ser adaptada pela licitante.

Sheet INSUMOS DIVERSOS
B1: PROCESSO Nº 122/2025
B2: OBJETO: PRESTAÇÃO DE SERVIÇOS DE LIMPEZA DOS SANITÁRIOS PÚBLICOS DO ENTREPOSTO TERMINAL DE SÃO PAULO
B3: INSUMOS DIVERSOS
B4: UNIDADE | C4: Materiais de Limpeza e Outros | D4: Periodicidade/ meses | E4: Valor Unitário | F4: Estimativa
F5: Quantidade | G5: Média Mensal
B6: GL/5L | C6: Desinfetante Bactericida | D6: 1 | E6: 0 | F6: 200 | G6: =ROUND((E6*F6)/D6,2) -> 0
B7: GL/5L | C7: Água Sanitária | D7: 1 | E7: 0 | F7: 100 | G7: =ROUND((E7*F7)/D7,2) -> 0
B8: GL/5L | C8: Detergente Liquido Neutro Biodegradável | D8: 1 | E8: 0 | F8: 100 | G8: =ROUND((E8*F8)/D8,2) -> 0
B9: GL/5L | C9: Detergente Desincrustante | D9: 1 | E9: 0 | F9: 5 | G9: =ROUND((E9*F9)/D9,2) -> 0
B10: PÇ | C10: Pano de Limpeza | D10: 1 | E10: 0 | F10: 500 | G10: =ROUND((E10*F10)/D10,2) -> 0
B11: PÇ | C11: Vassoura de Nylon | D11: 1 | E11: 0 | F11: 50 | G11: =ROUND((E11*F11)/D11,2) -> 0
B12: PÇ | C12: Pá Coletora de Lixo | D12: 1 | E12: 0 | F12: 50 | G12: =ROUND((E12*F12)/D12,2) -> 0
B13: PÇ | C13: Rodo de Plástico | D13: 1 | E13: 0 | F13: 50 | G13: =ROUND((E13*F13)/D13,2) -> 0
B14: FD/100 | C14: Saco p/ Lixo 100 litros | D14: 1 | E14: 0 | F14: 100 | G14: =ROUND((E14*F14)/D14,2) -> 0
B15: FD/100 | C15: Saco p/ Lixo 20 litros | D15: 1 | E15: 0 | F15: 60 | G15: =ROUND((E15*F15)/D15,2) -> 0
B16: FD/8 | C16: Papel Higiênico Branco | D16: 1 | E16: 0 | F16: 1050 | G16: =ROUND((E16*F16)/D16,2) -> 0
B17: PCT/6 | C17: Toalha de Papel em Bobinas | D17: 1 | E17: 0 | F17: 1050 | G17: =ROUND((E17*F17)/D17,2) -> 0
... B25: PÇ | C25: Suporte de LT com Cabo Extensor 1,40m | D25: 1 | E25: 0 | F25: 10 | G25: =ROUND((E25*F25)/D25,2) -> 0
B26: TOTAL MENSAL - MATERIAIS | F26: =SUM(G6:G25) -> 0
B27: UNIDADE | C27: Equipamentos e Acessórios de Uso Geral | D27: Periodicidade/ meses | E27: Valor Unitário | F27: Estimativa
F28: Quantidade | G28: Média Mensal
B29: PÇ | C29: Dispenser p/ Papel Higiênico para Rolo de até 600m | D29: 12 | E29: 0 | F29: 52 | G29: =ROUND((E29*F29)/D29,2) -> 0
B30: PÇ | C30: Dispenser p/ Papel Toalha | D30: 12 | E30: 0 | F30: 52 | G30: =ROUND((E30*F30)/D30,2) -> 0
B31: PÇ | C31: Saboneteira c/ Suporte Reforçado | D31: 12 | E31: 0 | F31: 90 | G31: =ROUND((E31*F31)/D31,2) -> 0
B32: PÇ | C32: Mangueiras Tipo Jardim de 3/4 com 10m de Comprimento | D32: 60 | E32: 0 | F32: 1 | G32: =ROUND((E32*F32)/D32,2) -> 0
B33: PÇ | C33: Lixeira Plástica c/ Tampa 100L | D33: 60 | E33: 0 | F33: 20 | G33: =ROUND((E33*F33)/D33,2) -> 0
B34: PÇ | C34: Cesto de Lixo Aramado, capacidade 20L | D34: 60 | E34: 0 | F34: 160 | G34: =ROUND((E34*F34)/D34,2) -> 0
B35: PÇ | C35: Certo de Lixo Aramado, capacidade 100L | D35: 60 | E35: 0 | F35: 50 | G35: =ROUND((E35*F35)/D35,2) -> 0
B36: PÇ | C36: Placa de Advertência - Piso Molhado | D36: 60 | E36: 0 | F36: 50 | G36: =ROUND((E36*F36)/D36,2) -> 0
B37: TOTAL MENSAL - EPI's /ACESSÓRIOS | F37: =SUM(G29:G36) -> 0
B38: UNIDADE | C38: Veículos / Máquinas e Equipamentos / Outros | D38: Preço Médio | E38: Depreciação Anual | F38: Estimativa
F39: Quantidade | G39: Média Mensal
B40: PÇ | C40: Celular Corporativo c/ Aplicativo de Conversação | D40: 0 | E40: 0.1 | F40: 3 | G40: =ROUND(((D40*E40)*F40)/12,2) -> 0
B41: PÇ | C41: Carrinho de Mão Dobrável p/ Transporte de Carga 75kg | D41: 0 | E41: 0.1 | F41: 30 | G41: =ROUND(((D41*E41)*F41)/12,2) -> 0
B42: TOTAL MENSAL - MÁQUINAS E EQUIPAMENTOS | F42: =SUM(G40:G41) -> 0
B43: TOTAL MENSAL INSUMOS DIVERSOS | F43: =SUM(F26,F37,F42) -> 0
B44: MÓDULO 6 - CUSTOS INDIRETOS E TRIBUTOS
B45: 3 | C45: Custos Indiretos e Tributos
B46: A | C46: Custos Indiretos | D46: 0 | F46: =ROUND((F43*D46),4) -> 0
B47: B
...

Sheet UNIFORMES e EPI's
B1: PROCESSO Nº 122/2025
B2: OBJETO: PRESTAÇÃO DE SERVIÇOS DE LIMPEZA DOS SANITÁRIOS PÚBLICOS DO ENTREPOSTO TERMINAL DE SÃO PAULO
B3: UNIFORMES E EPI'S
B4: QUANT. | C4: UN. | D4: UNIFORMES | E4: PREÇO MÉDIO UNITÁRIO | F4: PERIODICIDADE/ Meses | G4: PREÇO MÉDIO TOTAL
B6: 800 | C6: PAR | D6: Luva de Segurança | E6: 0 | F6: 6 | G6: =ROUND((B6*E6/('ESTIMATIVA MODELO'!F17-1))/F6,2) -> 0
B7: 128 | C7: PAR | D7: Botina de Couro | E7: 0 | F7: 6 | G7: =ROUND((B7*E7/('ESTIMATIVA MODELO'!F17-1))/F7,2) -> 0
B8: 128 | C8: PAR | D8: Botina de PVC | E8: 0 | F8: 6 | G8: =ROUND((B8*E8/('ESTIMATIVA MODELO'!F17-1))/F8,2) -> 0
B9: 400 | C9: PÇ | D9: Respirador Semifacial Descartável | E9: 0 | F9: 6 | G9: =ROUND((B9*E9/('ESTIMATIVA MODELO'!F17-1))/F9,2) -> 0
B10: 384 | C10: PÇ | D10: Camiseta | E10: 0 | F10: 6 | G10: =ROUND((B10*E10/('ESTIMATIVA MODELO'!F17-1))/F10,2) -> 0
B11: 384 | C11: PÇ | D11: Calça de Brim | E11: 0 | F11: 6 | G11: =ROUND((B11*E11/('ESTIMATIVA MODELO'!F17-1))/F11,2) -> 0
B12: 384 | C12: PAR | D12: Meia Cano Longo | E12: 0 | F12: 6 | G12: =ROUND((B12*E12/('ESTIMATIVA MODELO'!F17-1))/F12,2) -> 0
B13: 256 | C13: PÇ | D13: Blusa de Moletom | E13: 0 | F13: 12 | G13: =ROUND((B13*E13/('ESTIMATIVA MODELO'!F17-1))/F13,2) -> 0
B14: 128 | C14: PÇ | D14: Capa de Chuva | E14: 0 | F14: 12 | G14: =ROUND((B14*E14/('ESTIMATIVA MODELO'!F17-1))/F14,2) -> 0
B15: Total Mensal | E15: =SUM(G6:G14) -> 0

Sheet Ag. Higienização MATUTINO
A1: PLANILHA DE CUSTO E FORMAÇÃO DE PREÇOS
A2: PROCESSO Nº 122/2025 | F2: PREGÃO ELETRÔNICO
A3: OBJETO: PRESTAÇÃO DE SERVIÇOS DE LIMPEZA, CONSERVAÇÃO E HIGIENIZAÇÃO EM DIVERSOS ENTREPOSTO DO INTERIOR
A5: I - DISCRIMINAÇÃO DOS SERVIÇOS
A6: Data de Apresentação da Proposta:
A7: Município/UF: | F7: SÃO PAULO/SP
A8: Sindicato: SEAC/SP SINDICATO DAS EMPRESAS DE ASSEIO E CONSERVAÇÃO NO ESTADO DE SAO PAULO e SIEMACO-SP - SINDICATO TRABALHADORES EMPRESAS PRESTACAO DE SERVICOS DE ASSEIO E CONSERVACAO E LIMPEZA URBANA DE SP
A10: Ano do acordo, convenção ou dissídio coletivo: | F10: 2025
A11: Tipo de serviço: | F11: LIMPEZA
A12: Unidade de Medida: | F12: Posto/Hora
A13: Período contratual: | F13: 12 MESES
A14: DADOS COMPLEMENTARES
A15: Salário mínimo oficial vigente: | F15: 0
A16: Categoria Profissional: | F16: Agente de Higienização
A17: Classificação Brasileira de Ocupações (CBO): | F17: 5143-20
A18: Salário Normativo da Categoria Profissional: | F18: 1717.2
A19: Data Base da Categoria: | F19: 45658
A20: Posto de Trabalho: | F20: 44 HORAS SEMANAIS
A21: Quantidade de Pessoas por Posto: | F21: 1
A22: Quantidade de Postos: | F22: 20
A23: Outras Informações: | F23: MATUTINO
A24: Escala 6x1 / Posto de Trabalho sendo 13 Homens e 07 Mulheres / De Segunda à Sábado
A25: MODULO 1 - COMPOSIÇÃO DA REMUNERAÇÃO
A26: 1 | B26: Composição da Remuneração | F26: Quant/Horas/Perc | G26: Valor Total
A27: A | B27: Salário Base | F27: 1 | G27: =F18*F27 -> 1717.2
A28: B | B28: Adicional Periculosidade | G28: =ROUND(F18*F28,2) -> 0
A29: C | B29: Adicional Insalubridade | F29: 0.4 | G29: =ROUND(F15*F29,2) -> 0
A30: D | B30: Adicional de Liderança | G30: =ROUND(F18*F30,2) -> 0
A31: E | B31: Adicional Noturno (Hora Noturna/Hora Reduzida) | F31: =ROUND((ROUND((7*26),2)/52.5)*60,2)*0 -> 0 | G31: =ROUND((F18/220*0.2)*F31,2) -> 0
A32: F | B32: DSR Sobre Adicional Noturno | F32: =ROUND(SUM(F31)/25*5,2) -> 0 | G32: =ROUND((F18/220*0.2)*F32,2) -> 0
A33: G | B33: Outrros (especificar) | G33: 0
A34: Total da Remuneração/MÓDULO 1 | G34: =SUM(G27:G33) -> 1717.2
A35: MÓDULO 2 - ENCARGOS E BENEFÍCIOS ANUAIS, MENSAIS E DIÁRIOS
A36: Submódulo 2.1 - 13º Salário, Férias e Adicional de Férias
A37: A | B37: 13º Salário | F37: =ROUND((1/12),6) -> 0.0833 | G37: =ROUND(G$34*F37,2) -> 143.04
A38: B | B38: Ferias e terço constitucional | F38: =ROUND((1/11)+(1/11)/3, 3) -> 0.121 | G38: =ROUND(G$34*F38,2) -> 207.78
B39: Subtotal | F39: =SUM(F37:F38) -> 0.2043
A40: C | B40: Incidência do Submódulo 2.2 sobre o Submódulo 2.1 | F40: =ROUND((F51*F39),4) -> 0.0691 | G40: =ROUND(G$34*F40,2) -> 118.66
A41: Total do Submódulo 2.1 | F41: =ROUND(SUM(F39:F40),4) -> 0.2734 | G41: =SUM(G37:G40) -> 469.48
A42: Submódulo 2.2 – Encargos Previdenciários (GPS), FGTS e Outras Contribuições
...

Sheet Ag. Higienização VESPERTINO
A1: PLANILHA DE CUSTO E FORMAÇÃO DE PREÇOS
A2: PROCESSO Nº 122/2025 | F2: PREGÃO ELETRÔNICO
A3: OBJETO: PRESTAÇÃO DE SERVIÇOS DE LIMPEZA, CONSERVAÇÃO E HIGIENIZAÇÃO EM DIVERSOS ENTREPOSTO DO INTERIOR
A5: I - DISCRIMINAÇÃO DOS SERVIÇOS
A6: Data de Apresentação da Proposta:
A7: Município/UF: | F7: SÃO PAULO/SP
A8: Sindicato: SEAC/SP SINDICATO DAS EMPRESAS DE ASSEIO E CONSERVAÇÃO NO ESTADO DE SAO PAULO e SIEMACO-SP - SINDICATO TRABALHADORES EMPRESAS PRESTACAO DE SERVICOS DE ASSEIO E CONSERVACAO E LIMPEZA URBANA DE SP
A10: Ano do acordo, convenção ou dissídio coletivo: | F10: 2025
A11: Tipo de serviço: | F11: LIMPEZA
A12: Unidade de Medida: | F12: Posto/Hora
A13: Período contratual: | F13: 12 MESES
A14: DADOS COMPLEMENTARES
A15: Salário mínimo oficial vigente: | F15: 0
A16: Categoria Profissional: | F16: Agente de Higienização
A17: Classificação Brasileira de Ocupações (CBO): | F17: 5143-20
A18: Salário Normativo da Categoria Profissional: | F18: 1717.2
A19: Data Base da Categoria: | F19: 45658
A20: Posto de Trabalho: | F20: 44 HORAS SEMANAIS
A21: Quantidade de Pessoas por Posto: | F21: 1
A22: Quantidade de Postos: | F22: 20
A23: Outras Informações: | F23: VESPERTINO
A24: Escala 6x1 / Posto de Trabalho sendo 13 Homens e 07 Mulheres / De Segunda à Sábado
A25: MODULO 1 - COMPOSIÇÃO DA REMUNERAÇÃO
A26: 1 | B26: Composição da Remuneração | F26: Quant/Horas/Perc | G26: Valor Total
A27: A | B27: Salário Base | F27: 1 | G27: =F18*F27 -> 1717.2
A28: B | B28: Adicional Periculosidade | G28: =ROUND(F18*F28,2) -> 0
A29: C | B29: Adicional Insalubridade | F29: 0.4 | G29: =ROUND(F15*F29,2) -> 0
A30: D | B30: Adicional de Liderança | G30: =ROUND(F18*F30,2) -> 0
A31: E | B31: Adicional Noturno (Hora Noturna/Hora Reduzida) | F31: =ROUND((ROUND((7*26),2)/52.5)*60,2)*0 -> 0 | G31: =ROUND((F18/220*0.2)*F31,2) -> 0
A32: F | B32: DSR Sobre Adicional Noturno | F32: =ROUND(SUM(F31)/25*5,2) -> 0 | G32: =ROUND((F18/220*0.2)*F32,2) -> 0
A33: G | B33: Outrros (especificar) | G33: 0
A34: Total da Remuneração/MÓDULO 1 | G34: =SUM(G27:G33) -> 1717.2
A35: MÓDULO 2 - ENCARGOS E BENEFÍCIOS ANUAIS, MENSAIS E DIÁRIOS
A36: Submódulo 2.1 - 13º Salário, Férias e Adicional de Férias
A37: A | B37: 13º Salário | F37: =ROUND((1/12),6) -> 0.0833 | G37: =ROUND(G$34*F37,2) -> 143.04
A38: B | B38: Ferias e terço constitucional | F38: =ROUND((1/11)+(1/11)/3, 3) -> 0.121 | G38: =ROUND(G$34*F38,2) -> 207.78
B39: Subtotal | F39: =SUM(F37:F38) -> 0.2043
A40: C | B40: Incidência do Submódulo 2.2 sobre o Submódulo 2.1 | F40: =ROUND((F51*F39),4) -> 0.0691 | G40: =ROUND(G$34*F40,2) -> 118.66
A41: Total do Submódulo 2.1 | F41: =ROUND(SUM(F39:F40),4) -> 0.2734 | G41: =SUM(G37:G40) -> 469.48
A42: Submódulo 2.2 – Encargos Previdenciários (GPS), FGTS e Outras Contribuições
...

Sheet Ag. Higienização NOTURNO (44H)
A1: PLANILHA DE CUSTO E FORMAÇÃO DE PREÇOS
A2: PROCESSO Nº 122/2025 | F2: PREGÃO ELETRÔNICO
A3: OBJETO: PRESTAÇÃO DE SERVIÇOS DE LIMPEZA, CONSERVAÇÃO E HIGIENIZAÇÃO EM DIVERSOS ENTREPOSTO DO INTERIOR
A5: I - DISCRIMINAÇÃO DOS SERVIÇOS
A6: Data de Apresentação da Proposta:
A7: Município/UF: | F7: SÃO PAULO/SP
A8: Sindicato: SEAC/SP SINDICATO DAS EMPRESAS DE ASSEIO E CONSERVAÇÃO NO ESTADO DE SAO PAULO e SIEMACO-SP - SINDICATO TRABALHADORES EMPRESAS PRESTACAO DE SERVICOS DE ASSEIO E CONSERVACAO E LIMPEZA URBANA DE SP
A10: Ano do acordo, convenção ou dissídio coletivo: | F10: 2025
A11: Tipo de serviço: | F11: LIMPEZA
A12: Unidade de Medida: | F12: Posto/Hora
A13: Período contratual: | F13: 12 MESES
A14: DADOS COMPLEMENTARES
A15: Salário mínimo oficial vigente: | F15: 0
A16: Categoria Profissional: | F16: Agente de Higienização
A17: Classificação Brasileira de Ocupações (CBO): | F17: 5143-20
A18: Salário Normativo da Categoria Profissional: | F18: 1717.2
A19: Data Base da Categoria: | F19: 45658
A20: Posto de Trabalho: | F20: 44 HORAS SEMANAIS
A21: Quantidade de Pessoas por Posto: | F21: 1
A22: Quantidade de Postos: | F22: 6
A23: Outras Informações: | F23: NOTURNO
A24: Escala 6x1 / Posto de Trabalho sendo 03 Homens e 03 Mulheres / De Segunda à Sábado
A25: MODULO 1 - COMPOSIÇÃO DA REMUNERAÇÃO
A26: 1 | B26: Composição da Remuneração | F26: Quant/Horas/Perc | G26: Valor Total
A27: A | B27: Salário Base | F27: 1 | G27: =F18*F27 -> 1717.2
A28: B | B28: Adicional Periculosidade | G28: =ROUND(F18*F28,2) -> 0
A29: C | B29: Adicional Insalubridade | F29: 0.4 | G29: =ROUND(F15*F29,2) -> 0
A30: D | B30: Adicional de Liderança | G30: =ROUND(F18*F30,2) -> 0
A31: E | B31: Adicional Noturno (Hora Noturna/Hora Reduzida) | F31: =ROUND((ROUND((7*26),2)/52.5)*60,2) -> 208 | G31: =ROUND((F18/220*0.2)*F31,2) -> 324.71
A32: F | B32: DSR Sobre Adicional Noturno | F32: =ROUND(SUM(F31)/25*5,2) -> 41.6 | G32: =ROUND((F18/220*0.2)*F32,2) -> 64.94
A33: G | B33: Outrros (especificar) | G33: 0
A34: Total da Remuneração/MÓDULO 1 | G34: =SUM(G27:G33) -> 2106.85
A35: MÓDULO 2 - ENCARGOS E BENEFÍCIOS ANUAIS, MENSAIS E DIÁRIOS
A36: Submódulo 2.1 - 13º Salário, Férias e Adicional de Férias
A37: A | B37: 13º Salário | F37: =ROUND((1/12),6) -> 0.0833 | G37: =ROUND(G$34*F37,2) -> 175.5
A38: B | B38: Ferias e terço constitucional | F38: =ROUND((1/11)+(1/11)/3, 3) -> 0.121 | G38: =ROUND(G$34*F38,2) -> 254.93
B39: Subtotal | F39: =SUM(F37:F38) -> 0.2043
A40: C | B40: Incidência do Submódulo 2.2 sobre o Submódulo 2.1 | F40: =ROUND((F51*F39),4) -> 0.0691 | G40: =ROUND(G$34*F40,2) -> 145.58
A41: Total do Submódulo 2.1 | F41: =ROUND(SUM(F39:F40),4) -> 0.2734 | G41: =SUM(G37:G40) -> 576.01
A42: Submódulo 2.2 – Encargos Previdenciários (GPS), FGTS e Outras Contribuições
...

Sheet Ag. Higienização DIU (12x36)
A1: PLANILHA DE CUSTO E FORMAÇÃO DE PREÇOS
A2: PROCESSO Nº 122/2025 | F2: PREGÃO ELETRÔNICO
A3: OBJETO: PRESTAÇÃO DE SERVIÇOS DE LIMPEZA, CONSERVAÇÃO E HIGIENIZAÇÃO EM DIVERSOS ENTREPOSTO DO INTERIOR
A5: I - DISCRIMINAÇÃO DOS SERVIÇOS
A6: Data de Apresentação da Proposta:
A7: Município/UF: | F7: SÃO PAULO/SP
A8: Sindicato: SEAC/SP SINDICATO DAS EMPRESAS DE ASSEIO E CONSERVAÇÃO NO ESTADO DE SAO PAULO e SIEMACO-SP - SINDICATO TRABALHADORES EMPRESAS PRESTACAO DE SERVICOS DE ASSEIO E CONSERVACAO E LIMPEZA URBANA DE SP
A10: Ano do acordo, convenção ou dissídio coletivo: | F10: 2025
A11: Tipo de serviço: | F11: LIMPEZA
A12: Unidade de Medida: | F12: Posto/Hora
A13: Período contratual: | F13: 12 MESES
A14: DADOS COMPLEMENTARES
A15: Salário mínimo oficial vigente: | F15: 0
A16: Categoria Profissional: | F16: Agente de Higienização
A17: Classificação Brasileira de Ocupações (CBO): | F17: 5143-20
A18: Salário Normativo da Categoria Profissional: | F18: 1717.2
A19: Data Base da Categoria: | F19: 45658
A20: Posto de Trabalho: | F20: ESCALA 12 X 36
A21: Quantidade de Pessoas por Posto: | F21: 2
A22: Quantidade de Postos: | F22: 19
A23: Outras Informações: | F23: DIURNO
A24: Quantidade de pessoas sendo 28 Homens e 10 Mulheres
A25: MODULO 1 - COMPOSIÇÃO DA REMUNERAÇÃO
A26: 1 | B26: Composição da Remuneração | F26: Quant/Horas/Perc | G26: Valor Total
A27: A | B27: Salário Base | F27: 1 | G27: =F18*F27 -> 1717.2
A28: B | B28: Adicional Periculosidade | G28: =ROUND(F18*F28,2) -> 0
A29: C | B29: Adicional Insalubridade | F29: 0.4 | G29: =ROUND(F15*F29,2) -> 0
A30: D | B30: Adicional de Liderança | G30: =ROUND(F18*F30,2) -> 0
A31: E | B31: Adicional Noturno (Hora Noturna/Hora Reduzida) | F31: =ROUND((ROUND((7*15.22),2)/52.5)*60,2)*0 -> 0 | G31: =ROUND((F18/220*0.2)*F31,2) -> 0
A32: F | B32: DSR Sobre Adicional Noturno | F32: =ROUND(SUM(F31)/25*5,2)*0 -> 0 | G32: =ROUND((F18/220*0.2)*F32,2) -> 0
A33: G | B33: Outrros (especificar) | G33: 0
A34: Total da Remuneração/MÓDULO 1 | G34: =SUM(G27:G33) -> 1717.2
A35: MÓDULO 2 - ENCARGOS E BENEFÍCIOS ANUAIS, MENSAIS E DIÁRIOS
A36: Submódulo 2.1 - 13º Salário, Férias e Adicional de Férias
A37: A | B37: 13º Salário | F37: =ROUND((1/12),6) -> 0.0833 | G37: =ROUND(G$34*F37,2) -> 143.04
A38: B | B38: Ferias e terço constitucional | F38: =ROUND((1/11)+(1/11)/3, 3) -> 0.121 | G38: =ROUND(G$34*F38,2) -> 207.78
B39: Subtotal | F39: =SUM(F37:F38) -> 0.2043
A40: C | B40: Incidência do Submódulo 2.2 sobre o Submódulo 2.1 | F40: =ROUND((F51*F39),4) -> 0.0691 | G40: =ROUND(G$34*F40,2) -> 118.66
A41: Total do Submódulo 2.1 | F41: =ROUND(SUM(F39:F40),4) -> 0.2734 | G41: =SUM(G37:G40) -> 469.48
A42: Submódulo 2.2 – Encargos Previdenciários (GPS), FGTS e Outras Contribuições
...

Sheet Ag. Higienização NOT (12X36)
A1: PLANILHA DE CUSTO E FORMAÇÃO DE PREÇOS
A2: PROCESSO Nº 122/2025 | F2: PREGÃO ELETRÔNICO
A3: OBJETO: PRESTAÇÃO DE SERVIÇOS DE LIMPEZA, CONSERVAÇÃO E HIGIENIZAÇÃO EM DIVERSOS ENTREPOSTO DO INTERIOR
A5: I - DISCRIMINAÇÃO DOS SERVIÇOS
A6: Data de Apresentação da Proposta:
A7: Município/UF: | F7: SÃO PAULO/SP
A8: Sindicato: SEAC/SP SINDICATO DAS EMPRESAS DE ASSEIO E CONSERVAÇÃO NO ESTADO DE SAO PAULO e SIEMACO-SP - SINDICATO TRABALHADORES EMPRESAS PRESTACAO DE SERVICOS DE ASSEIO E CONSERVACAO E LIMPEZA URBANA DE SP
A10: Ano do acordo, convenção ou dissídio coletivo: | F10: 2025
A11: Tipo de serviço: | F11: LIMPEZA
A12: Unidade de Medida: | F12: Posto/Hora
A13: Período contratual: | F13: 12 MESES
A14: DADOS COMPLEMENTARES
A15: Salário mínimo oficial vigente: | F15: 0
A16: Categoria Profissional: | F16: Agente de Higienização
A17: Classificação Brasileira de Ocupações (CBO): | F17: 5143-20
A18: Salário Normativo da Categoria Profissional: | F18: 1717.2
A19: Data Base da Categoria: | F19: 45658
A20: Posto de Trabalho: | F20: ESCALA 12 X 36
A21: Quantidade de Pessoas por Posto: | F21: 2
A22: Quantidade de Postos: | F22: 19
A23: Outras Informações: | F23: NOTURNO
A24: Quantidade de pessoas sendo 28 Homens e 10 Mulheres
A25: MODULO 1 - COMPOSIÇÃO DA REMUNERAÇÃO
A26: 1 | B26: Composição da Remuneração | F26: Quant/Horas/Perc | G26: Valor Total
A27: A | B27: Salário Base | F27: 1 | G27: =F18*F27 -> 1717.2
A28: B | B28: Adicional Periculosidade | G28: =ROUND(F18*F28,2) -> 0
A29: C | B29: Adicional Insalubridade | F29: 0.4 | G29: =ROUND(F15*F29,2) -> 0
A30: D | B30: Adicional de Liderança | G30: =ROUND(F18*F30,2) -> 0
A31: E | B31: Adicional Noturno (Hora Noturna/Hora Reduzida) | F31: =ROUND((ROUND((7*15.22),2)/52.5)*60,2) -> 121.76 | G31: =ROUND((F18/220*0.2)*F31,2) -> 190.08
A32: F | B32: DSR Sobre Adicional Noturno | F32: =ROUND(SUM(F31)/25*5,2)*0 -> 0 | G32: =ROUND((F18/220*0.2)*F32,2) -> 0
A33: G | B33: Outrros (especificar) | G33: 0
A34: Total da Remuneração/MÓDULO 1 | G34: =SUM(G27:G33) -> 1907.28
A35: MÓDULO 2 - ENCARGOS E BENEFÍCIOS ANUAIS, MENSAIS E DIÁRIOS
A36: Submódulo 2.1 - 13º Salário, Férias e Adicional de Férias
A37: A | B37: 13º Salário | F37: =ROUND((1/12),6) -> 0.0833 | G37: =ROUND(G$34*F37,2) -> 158.88
A38: B | B38: Ferias e terço constitucional | F38: =ROUND((1/11)+(1/11)/3, 3) -> 0.121 | G38: =ROUND(G$34*F38,2) -> 230.78
B39: Subtotal | F39: =SUM(F37:F38) -> 0.2043
A40: C | B40: Incidência do Submódulo 2.2 sobre o Submódulo 2.1 | F40: =ROUND((F51*F39),4) -> 0.0691 | G40: =ROUND(G$34*F40,2) -> 131.79
A41: Total do Submódulo 2.1 | F41: =ROUND(SUM(F39:F40),4) -> 0.2734 | G41: =SUM(G37:G40) -> 521.45
A42: Submódulo 2.2 – Encargos Previdenciários (GPS), FGTS e Outras Contribuições
...

Sheet Líder MATUTINO
A1: PLANILHA DE CUSTO E FORMAÇÃO DE PREÇOS
A2: PROCESSO Nº 122/2025 | F2: PREGÃO ELETRÔNICO
A3: OBJETO: PRESTAÇÃO DE SERVIÇOS DE LIMPEZA, CONSERVAÇÃO E HIGIENIZAÇÃO EM DIVERSOS ENTREPOSTO DO INTERIOR
A5: I - DISCRIMINAÇÃO DOS SERVIÇOS
A6: Data de Apresentação da Proposta:
A7: Município/UF: | F7: SÃO PAULO/SP
A8: Sindicato: SEAC/SP SINDICATO DAS EMPRESAS DE ASSEIO E CONSERVAÇÃO NO ESTADO DE SAO PAULO e SIEMACO-SP - SINDICATO TRABALHADORES EMPRESAS PRESTACAO DE SERVICOS DE ASSEIO E CONSERVACAO E LIMPEZA URBANA DE SP
A10: Ano do acordo, convenção ou dissídio coletivo: | F10: 2025
A11: Tipo de serviço: | F11: LIMPEZA
A12: Unidade de Medida: | F12: Posto/Hora
A13: Período contratual: | F13: 12 MESES
A14: DADOS COMPLEMENTARES
A15: Salário mínimo oficial vigente: | F15: 0
A16: Categoria Profissional: | F16: Líder
A17: Classificação Brasileira de Ocupações (CBO): | F17: 5143-20
A18: Salário Normativo da Categoria Profissional: | F18: 1872.8
A19: Data Base da Categoria: | F19: 45658
A20: Posto de Trabalho: | F20: 44 HORAS SEMANAIS
A21: Quantidade de Pessoas por Posto: | F21: 1
A22: Quantidade de Postos: | F22: 1
A23: Outras Informações: | F23: MATUTINO
A24: Escala 6x1 / De Segunda à Sábado
A25: MODULO 1 - COMPOSIÇÃO DA REMUNERAÇÃO
A26: 1 | B26: Composição da Remuneração | F26: Quant/Horas/Perc | G26: Valor Total
A27: A | B27: Salário Base | F27: 1 | G27: =F18*F27 -> 1872.8
A28: B | B28: Adicional Periculosidade | G28: =ROUND(F18*F28,2) -> 0
A29: C | B29: Adicional Insalubridade | F29: 0 | G29: =ROUND(F15*F29,2) -> 0
A30: D | B30: Adicional de Liderança | G30: =ROUND(F18*F30,2) -> 0
A31: E | B31: Adicional Noturno (Hora Noturna/Hora Reduzida) | F31: =ROUND((ROUND((7*26),2)/52.5)*60,2)*0 -> 0 | G31: =ROUND((F18/220*0.2)*F31,2) -> 0
A32: F | B32: DSR Sobre Adicional Noturno | F32: =ROUND(SUM(F31)/25*5,2) -> 0 | G32: =ROUND((F18/220*0.2)*F32,2) -> 0
A33: G | B33: Outrros (especificar) | G33: 0
A34: Total da Remuneração/MÓDULO 1 | G34: =SUM(G27:G33) -> 1872.8
A35: MÓDULO 2 - ENCARGOS E BENEFÍCIOS ANUAIS, MENSAIS E DIÁRIOS
A36: Submódulo 2.1 - 13º Salário, Férias e Adicional de Férias
A37: A | B37: 13º Salário | F37: =ROUND((1/12),6) -> 0.0833 | G37: =ROUND(G$34*F37,2) -> 156
A38: B | B38: Ferias e terço constitucional | F38: =ROUND((1/11)+(1/11)/3, 3) -> 0.121 | G38: =ROUND(G$34*F38,2) -> 226.61
B39: Subtotal | F39: =SUM(F37:F38) -> 0.2043
A40: C | B40: Incidência do Submódulo 2.2 sobre o Submódulo 2.1 | F40: =ROUND((F51*F39),4) -> 0.0691 | G40: =ROUND(G$34*F40,2) -> 129.41
A41: Total do Submódulo 2.1 | F41: =ROUND(SUM(F39:F40),4) -> 0.2734 | G41: =SUM(G37:G40) -> 512.02
A42: Submódulo 2.2 – Encargos Previdenciários (GPS), FGTS e Outras Contribuições
...

Sheet Líder VESPERTINO
A1: PLANILHA DE CUSTO E FORMAÇÃO DE PREÇOS
A2: PROCESSO Nº 122/2025 | F2: PREGÃO ELETRÔNICO
A3: OBJETO: PRESTAÇÃO DE SERVIÇOS DE LIMPEZA, CONSERVAÇÃO E HIGIENIZAÇÃO EM DIVERSOS ENTREPOSTO DO INTERIOR
A5: I - DISCRIMINAÇÃO DOS SERVIÇOS
A6: Data de Apresentação da Proposta:
A7: Município/UF: | F7: SÃO PAULO/SP
A8: Sindicato: SEAC/SP SINDICATO DAS EMPRESAS DE ASSEIO E CONSERVAÇÃO NO ESTADO DE SAO PAULO e SIEMACO-SP - SINDICATO TRABALHADORES EMPRESAS PRESTACAO DE SERVICOS DE ASSEIO E CONSERVACAO E LIMPEZA URBANA DE SP
A10: Ano do acordo, convenção ou dissídio coletivo: | F10: 2025
A11: Tipo de serviço: | F11: LIMPEZA
A12: Unidade de Medida: | F12: Posto/Hora
A13: Período contratual: | F13: 12 MESES
A14: DADOS COMPLEMENTARES
A15: Salário mínimo oficial vigente: | F15: 0
A16: Categoria Profissional: | F16: Líder
A17: Classificação Brasileira de Ocupações (CBO): | F17: 5143-20
A18: Salário Normativo da Categoria Profissional: | F18: 1872.8
A19: Data Base da Categoria: | F19: 45658
A20: Posto de Trabalho: | F20: 44 HORAS SEMANAIS
A21: Quantidade de Pessoas por Posto: | F21: 1
A22: Quantidade de Postos: | F22: 1
A23: Outras Informações: | F23: VESPERTINO
A24: Escala 6x1 / De Segunda à Sábado
A25: MODULO 1 - COMPOSIÇÃO DA REMUNERAÇÃO
A26: 1 | B26: Composição da Remuneração | F26: Quant/Horas/Perc | G26: Valor Total
A27: A | B27: Salário Base | F27: 1 | G27: =F18*F27 -> 1872.8
A28: B | B28: Adicional Periculosidade | G28: =ROUND(F18*F28,2) -> 0
A29: C | B29: Adicional Insalubridade | F29: 0 | G29: =ROUND(F15*F29,2) -> 0
A30: D | B30: Adicional de Liderança | G30: =ROUND(F18*F30,2) -> 0
A31: E | B31: Adicional Noturno (Hora Noturna/Hora Reduzida) | F31: =ROUND((ROUND((7*26),2)/52.5)*60,2)*0 -> 0 | G31: =ROUND((F18/220*0.2)*F31,2) -> 0
A32: F | B32: DSR Sobre Adicional Noturno | F32: =ROUND(SUM(F31)/25*5,2) -> 0 | G32: =ROUND((F18/220*0.2)*F32,2) -> 0
A33: G | B33: Outrros (especificar) | G33: 0
A34: Total da Remuneração/MÓDULO 1 | G34: =SUM(G27:G33) -> 1872.8
A35: MÓDULO 2 - ENCARGOS E BENEFÍCIOS ANUAIS, MENSAIS E DIÁRIOS
A36: Submódulo 2.1 - 13º Salário, Férias e Adicional de Férias
A37: A | B37: 13º Salário | F37: =ROUND((1/12),6) -> 0.0833 | G37: =ROUND(G$34*F37,2) -> 156
A38: B | B38: Ferias e terço constitucional | F38: =ROUND((1/11)+(1/11)/3, 3) -> 0.121 | G38: =ROUND(G$34*F38,2) -> 226.61
B39: Subtotal | F39: =SUM(F37:F38) -> 0.2043
A40: C | B40: Incidência do Submódulo 2.2 sobre o Submódulo 2.1 | F40: =ROUND((F51*F39),4) -> 0.0691 | G40: =ROUND(G$34*F40,2) -> 129.41
A41: Total do Submódulo 2.1 | F41: =ROUND(SUM(F39:F40),4) -> 0.2734 | G41: =SUM(G37:G40) -> 512.02
A42: Submódulo 2.2 – Encargos Previdenciários (GPS), FGTS e Outras Contribuições
...

Sheet Líder NOTURNO (44H)
A1: PLANILHA DE CUSTO E FORMAÇÃO DE PREÇOS
A2: PROCESSO Nº 122/2025 | F2: PREGÃO ELETRÔNICO
A3: OBJETO: PRESTAÇÃO DE SERVIÇOS DE LIMPEZA, CONSERVAÇÃO E HIGIENIZAÇÃO EM DIVERSOS ENTREPOSTO DO INTERIOR
A5: I - DISCRIMINAÇÃO DOS SERVIÇOS
A6: Data de Apresentação da Proposta:
A7: Município/UF: | F7: SÃO PAULO/SP
A8: Sindicato: SEAC/SP SINDICATO DAS EMPRESAS DE ASSEIO E CONSERVAÇÃO NO ESTADO DE SAO PAULO e SIEMACO-SP - SINDICATO TRABALHADORES EMPRESAS PRESTACAO DE SERVICOS DE ASSEIO E CONSERVACAO E LIMPEZA URBANA DE SP
A10: Ano do acordo, convenção ou dissídio coletivo: | F10: 2025
A11: Tipo de serviço: | F11: LIMPEZA
A12: Unidade de Medida: | F12: Posto/Hora
A13: Período contratual: | F13: 12 MESES
A14: DADOS COMPLEMENTARES
A15: Salário mínimo oficial vigente: | F15: 0
A16: Categoria Profissional: | F16: Líder
A17: Classificação Brasileira de Ocupações (CBO): | F17: 5143-20
A18: Salário Normativo da Categoria Profissional: | F18: 1872.8
A19: Data Base da Categoria: | F19: 45658
A20: Posto de Trabalho: | F20: 44 HORAS SEMANAIS
A21: Quantidade de Pessoas por Posto: | F21: 1
A22: Quantidade de Postos: | F22: 1
A23: Outras Informações: | F23: NOTURNO
A24: Escala 6x1 / De Segunda à Sábado
A25: MODULO 1 - COMPOSIÇÃO DA REMUNERAÇÃO
A26: 1 | B26: Composição da Remuneração | F26: Quant/Horas/Perc | G26: Valor Total
A27: A | B27: Salário Base | F27: 1 | G27: =F18*F27 -> 1872.8
A28: B | B28: Adicional Periculosidade | G28: =ROUND(F18*F28,2) -> 0
A29: C | B29: Adicional Insalubridade | F29: 0 | G29: =ROUND(F15*F29,2) -> 0
A30: D | B30: Adicional de Liderança | G30: =ROUND(F18*F30,2) -> 0
A31: E | B31: Adicional Noturno (Hora Noturna/Hora Reduzida) | F31: =ROUND((ROUND((7*26),2)/52.5)*60,2) -> 208 | G31: =ROUND((F18/220*0.2)*F31,2) -> 354.13
A32: F | B32: DSR Sobre Adicional Noturno | F32: =ROUND(SUM(F31)/25*5,2) -> 41.6 | G32: =ROUND((F18/220*0.2)*F32,2) -> 70.83
A33: G | B33: Outrros (especificar) | G33: 0
A34: Total da Remuneração/MÓDULO 1 | G34: =SUM(G27:G33) -> 2297.76
A35: MÓDULO 2 - ENCARGOS E BENEFÍCIOS ANUAIS, MENSAIS E DIÁRIOS
A36: Submódulo 2.1 - 13º Salário, Férias e Adicional de Férias
A37: A | B37: 13º Salário | F37: =ROUND((1/12),6) -> 0.0833 | G37: =ROUND(G$34*F37,2) -> 191.4
A38: B | B38: Ferias e terço constitucional | F38: =ROUND((1/11)+(1/11)/3, 3) -> 0.121 | G38: =ROUND(G$34*F38,2) -> 278.03
B39: Subtotal | F39: =SUM(F37:F38) -> 0.2043
A40: C | B40: Incidência do Submódulo 2.2 sobre o Submódulo 2.1 | F40: =ROUND((F51*F39),4) -> 0.0691 | G40: =ROUND(G$34*F40,2) -> 158.78
A41: Total do Submódulo 2.1 | F41: =ROUND(SUM(F39:F40),4) -> 0.2734 | G41: =SUM(G37:G40) -> 628.21
A42: Submódulo 2.2 – Encargos Previdenciários (GPS), FGTS e Outras Contribuições
...

Sheet Encarregado MATUTINO
A1: PLANILHA DE CUSTO E FORMAÇÃO DE PREÇOS
A2: PROCESSO Nº 122/2025 | F2: PREGÃO ELETRÔNICO
A3: OBJETO: PRESTAÇÃO DE SERVIÇOS DE LIMPEZA, CONSERVAÇÃO E HIGIENIZAÇÃO EM DIVERSOS ENTREPOSTO DO INTERIOR
A5: I - DISCRIMINAÇÃO DOS SERVIÇOS
A6: Data de Apresentação da Proposta:
A7: Município/UF: | F7: SÃO PAULO/SP
A8: Sindicato: SEAC/SP SINDICATO DAS EMPRESAS DE ASSEIO E CONSERVAÇÃO NO ESTADO DE SAO PAULO e SIEMACO-SP - SINDICATO TRABALHADORES EMPRESAS PRESTACAO DE SERVICOS DE ASSEIO E CONSERVACAO E LIMPEZA URBANA DE SP
A10: Ano do acordo, convenção ou dissídio coletivo: | F10: 2025
A11: Tipo de serviço: | F11: LIMPEZA
A12: Unidade de Medida: | F12: Posto/Hora
A13: Período contratual: | F13: 12 MESES
A14: DADOS COMPLEMENTARES
A15: Salário mínimo oficial vigente: | F15: 0
A16: Categoria Profissional: | F16: Encarregado(a)
A17: Classificação Brasileira de Ocupações (CBO): | F17: 5143-20
A18: Salário Normativo da Categoria Profissional: | F18: 2247.37
A19: Data Base da Categoria: | F19: 45658
A20: Posto de Trabalho: | F20: 44 HORAS SEMANAIS
A21: Quantidade de Pessoas por Posto: | F21: 1
A22: Quantidade de Postos: | F22: 1
A23: Outras Informações: | F23: MATUTINO
A24: Escala 6x1 / De Segunda à Sábado
A25: MODULO 1 - COMPOSIÇÃO DA REMUNERAÇÃO
A26: 1 | B26: Composição da Remuneração | F26: Quant/Horas/Perc | G26: Valor Total
A27: A | B27: Salário Base | F27: 1 | G27: =F18*F27 -> 2247.37
A28: B | B28: Adicional Periculosidade | G28: =ROUND(F18*F28,2) -> 0
A29: C | B29: Adicional Insalubridade | F29: 0 | G29: =ROUND(F15*F29,2) -> 0
A30: D | B30: Adicional de Liderança | G30: =ROUND(F18*F30,2) -> 0
A31: E | B31: Adicional Noturno (Hora Noturna/Hora Reduzida) | F31: =ROUND((ROUND((7*26),2)/52.5)*60,2)*0 -> 0 | G31: =ROUND((F18/220*0.2)*F31,2) -> 0
A32: F | B32: DSR Sobre Adicional Noturno | F32: =ROUND(SUM(F31)/25*5,2) -> 0 | G32: =ROUND((F18/220*0.2)*F32,2) -> 0
A33: G | B33: Outrros (especificar) | G33: 0
A34: Total da Remuneração/MÓDULO 1 | G34: =SUM(G27:G33) -> 2247.37
A35: MÓDULO 2 - ENCARGOS E BENEFÍCIOS ANUAIS, MENSAIS E DIÁRIOS
A36: Submódulo 2.1 - 13º Salário, Férias e Adicional de Férias
A37: A | B37: 13º Salário | F37: =ROUND((1/12),6) -> 0.0833 | G37: =ROUND(G$34*F37,2) -> 187.21
A38: B | B38: Ferias e terço constitucional | F38: =ROUND((1/11)+(1/11)/3, 3) -> 0.121 | G38: =ROUND(G$34*F38,2) -> 271.93
B39: Subtotal | F39: =SUM(F37:F38) -> 0.2043
A40: C | B40: Incidência do Submódulo 2.2 sobre o Submódulo 2.1 | F40: =ROUND((F51*F39),4) -> 0.0691 | G40: =ROUND(G$34*F40,2) -> 155.29
A41: Total do Submódulo 2.1 | F41: =ROUND(SUM(F39:F40),4) -> 0.2734 | G41: =SUM(G37:G40) -> 614.43
A42: Submódulo 2.2 – Encargos Previdenciários (GPS), FGTS e Outras Contribuições
...

Sheet Encarregado VESPERTINO
A1: PLANILHA DE CUSTO E FORMAÇÃO DE PREÇOS
A2: PROCESSO Nº 122/2025 | F2: PREGÃO ELETRÔNICO
A3: OBJETO: PRESTAÇÃO DE SERVIÇOS DE LIMPEZA, CONSERVAÇÃO E HIGIENIZAÇÃO EM DIVERSOS ENTREPOSTO DO INTERIOR
A5: I - DISCRIMINAÇÃO DOS SERVIÇOS
A6: Data de Apresentação da Proposta:
A7: Município/UF: | F7: SÃO PAULO/SP
A8: Sindicato: SEAC/SP SINDICATO DAS EMPRESAS DE ASSEIO E CONSERVAÇÃO NO ESTADO DE SAO PAULO e SIEMACO-SP - SINDICATO TRABALHADORES EMPRESAS PRESTACAO DE SERVICOS DE ASSEIO E CONSERVACAO E LIMPEZA URBANA DE SP
A10: Ano do acordo, convenção ou dissídio coletivo: | F10: 2025
A11: Tipo de serviço: | F11: LIMPEZA
A12: Unidade de Medida: | F12: Posto/Hora
A13: Período contratual: | F13: 12 MESES
A14: DADOS COMPLEMENTARES
A15: Salário mínimo oficial vigente: | F15: 0
A16: Categoria Profissional: | F16: Encarregado(a)
A17: Classificação Brasileira de Ocupações (CBO): | F17: 5143-20
A18: Salário Normativo da Categoria Profissional: | F18: 2247.37
A19: Data Base da Categoria: | F19: 45658
A20: Posto de Trabalho: | F20: 44 HORAS SEMANAIS
A21: Quantidade de Pessoas por Posto: | F21: 1
A22: Quantidade de Postos: | F22: 1
A23: Outras Informações: | F23: VESPERTINO
A24: Escala 6x1 / De Segunda à Sábado
A25: MODULO 1 - COMPOSIÇÃO DA REMUNERAÇÃO
A26: 1 | B26: Composição da Remuneração | F26: Quant/Horas/Perc | G26: Valor Total
A27: A | B27: Salário Base | F27: 1 | G27: =F18*F27 -> 2247.37
A28: B | B28: Adicional Periculosidade | G28: =ROUND(F18*F28,2) -> 0
A29: C | B29: Adicional Insalubridade | F29: 0 | G29: =ROUND(F15*F29,2) -> 0
A30: D | B30: Adicional de Liderança | G30: =ROUND(F18*F30,2) -> 0
A31: E | B31: Adicional Noturno (Hora Noturna/Hora Reduzida) | F31: =ROUND((ROUND((7*26),2)/52.5)*60,2)*0 -> 0 | G31: =ROUND((F18/220*0.2)*F31,2) -> 0
A32: F | B32: DSR Sobre Adicional Noturno | F32: =ROUND(SUM(F31)/25*5,2) -> 0 | G32: =ROUND((F18/220*0.2)*F32,2) -> 0
A33: G | B33: Outrros (especificar) | G33: 0
A34: Total da Remuneração/MÓDULO 1 | G34: =SUM(G27:G33) -> 2247.37
A35: MÓDULO 2 - ENCARGOS E BENEFÍCIOS ANUAIS, MENSAIS E DIÁRIOS
A36: Submódulo 2.1 - 13º Salário, Férias e Adicional de Férias
A37: A | B37: 13º Salário | F37: =ROUND((1/12),6) -> 0.0833 | G37: =ROUND(G$34*F37,2) -> 187.21
A38: B | B38: Ferias e terço constitucional | F38: =ROUND((1/11)+(1/11)/3, 3) -> 0.121 | G38: =ROUND(G$34*F38,2) -> 271.93
B39: Subtotal | F39: =SUM(F37:F38) -> 0.2043
A40: C | B40: Incidência do Submódulo 2.2 sobre o Submódulo 2.1 | F40: =ROUND((F51*F39),4) -> 0.0691 | G40: =ROUND(G$34*F40,2) -> 155.29
A41: Total do Submódulo 2.1 | F41: =ROUND(SUM(F39:F40),4) -> 0.2734 | G41: =SUM(G37:G40) -> 614.43
A42: Submódulo 2.2 – Encargos Previdenciários (GPS), FGTS e Outras Contribuições
...

Sheet Encarregado NOTURNO (44H)
A1: PLANILHA DE CUSTO E FORMAÇÃO DE PREÇOS
A2: PROCESSO Nº 122/2025 | F2: PREGÃO ELETRÔNICO
A3: OBJETO: PRESTAÇÃO DE SERVIÇOS DE LIMPEZA, CONSERVAÇÃO E HIGIENIZAÇÃO EM DIVERSOS ENTREPOSTO DO INTERIOR
A5: I - DISCRIMINAÇÃO DOS SERVIÇOS
A6: Data de Apresentação da Proposta:
A7: Município/UF: | F7: SÃO PAULO/SP
A8: Sindicato: SEAC/SP SINDICATO DAS EMPRESAS DE ASSEIO E CONSERVAÇÃO NO ESTADO DE SAO PAULO e SIEMACO-SP - SINDICATO TRABALHADORES EMPRESAS PRESTACAO DE SERVICOS DE ASSEIO E CONSERVACAO E LIMPEZA URBANA DE SP
A10: Ano do acordo, convenção ou dissídio coletivo: | F10: 2025
A11: Tipo de serviço: | F11: LIMPEZA
A12: Unidade de Medida: | F12: Posto/Hora
A13: Período contratual: | F13: 12 MESES
A14: DADOS COMPLEMENTARES
A15: Salário mínimo oficial vigente: | F15: 0
A16: Categoria Profissional: | F16: Encarregado(a)
A17: Classificação Brasileira de Ocupações (CBO): | F17: 5143-20
A18: Salário Normativo da Categoria Profissional: | F18: 2247.37
A19: Data Base da Categoria: | F19: 45658
A20: Posto de Trabalho: | F20: 44 HORAS SEMANAIS
A21: Quantidade de Pessoas por Posto: | F21: 1
A22: Quantidade de Postos: | F22: 1
A23: Outras Informações: | F23: NOTURNO
A24: Escala 6x1 / De Segunda à Sábado
A25: MODULO 1 - COMPOSIÇÃO DA REMUNERAÇÃO
A26: 1 | B26: Composição da Remuneração | F26: Quant/Horas/Perc | G26: Valor Total
A27: A | B27: Salário Base | F27: 1 | G27: =F18*F27 -> 2247.37
A28: B | B28: Adicional Periculosidade | G28: =ROUND(F18*F28,2) -> 0
A29: C | B29: Adicional Insalubridade | F29: 0 | G29: =ROUND(F15*F29,2) -> 0
A30: D | B30: Adicional de Liderança | G30: =ROUND(F18*F30,2) -> 0
A31: E | B31: Adicional Noturno (Hora Noturna/Hora Reduzida) | F31: =ROUND((ROUND((7*26),2)/52.5)*60,2) -> 208 | G31: =ROUND((F18/220*0.2)*F31,2) -> 424.96
A32: F | B32: DSR Sobre Adicional Noturno | F32: =ROUND(SUM(F31)/25*5,2) -> 41.6 | G32: =ROUND((F18/220*0.2)*F32,2) -> 84.99
A33: G | B33: Outrros (especificar) | G33: 0
A34: Total da Remuneração/MÓDULO 1 | G34: =SUM(G27:G33) -> 2757.32
A35: MÓDULO 2 - ENCARGOS E BENEFÍCIOS ANUAIS, MENSAIS E DIÁRIOS
A36: Submódulo 2.1 - 13º Salário, Férias e Adicional de Férias
A37: A | B37: 13º Salário | F37: =ROUND((1/12),6) -> 0.0833 | G37: =ROUND(G$34*F37,2) -> 229.68
A38: B | B38: Ferias e terço constitucional | F38: =ROUND((1/11)+(1/11)/3, 3) -> 0.121 | G38: =ROUND(G$34*F38,2) -> 333.64
B39: Subtotal | F39: =SUM(F37:F38) -> 0.2043
A40: C | B40: Incidência do Submódulo 2.2 sobre o Submódulo 2.1 | F40: =ROUND((F51*F39),4) -> 0.0691 | G40: =ROUND(G$34*F40,2) -> 190.53
A41: Total do Submódulo 2.1 | F41: =ROUND(SUM(F39:F40),4) -> 0.2734 | G41: =SUM(G37:G40) -> 753.85
A42: Submódulo 2.2 – Encargos Previdenciários (GPS), FGTS e Outras Contribuições
...

Sheet Supervisor DIU (5x2)
A1: PLANILHA DE CUSTO E FORMAÇÃO DE PREÇOS
A2: PROCESSO Nº 122/2025 | F2: PREGÃO ELETRÔNICO
A3: OBJETO: PRESTAÇÃO DE SERVIÇOS DE LIMPEZA, CONSERVAÇÃO E HIGIENIZAÇÃO EM DIVERSOS ENTREPOSTO DO INTERIOR
A5: I - DISCRIMINAÇÃO DOS SERVIÇOS
A6: Data de Apresentação da Proposta:
A7: Município/UF: | F7: SÃO PAULO/SP
A8: Sindicato: SEAC/SP SINDICATO DAS EMPRESAS DE ASSEIO E CONSERVAÇÃO NO ESTADO DE SAO PAULO e SIEMACO-SP - SINDICATO TRABALHADORES EMPRESAS PRESTACAO DE SERVICOS DE ASSEIO E CONSERVACAO E LIMPEZA URBANA DE SP
A10: Ano do acordo, convenção ou dissídio coletivo: | F10: 2025
A11: Tipo de serviço: | F11: LIMPEZA
A12: Unidade de Medida: | F12: Posto/Hora
A13: Período contratual: | F13: 12 MESES
A14: DADOS COMPLEMENTARES
A15: Salário mínimo oficial vigente: | F15: 0
A16: Categoria Profissional: | F16: Supervisor(a)
A17: Classificação Brasileira de Ocupações (CBO): | F17: 5143-20
A18: Salário Normativo da Categoria Profissional: | F18: =ROUND(2247.37+(2247.37*20%),2) -> 2696.84
A19: Data Base da Categoria: | F19: 45658
A20: Posto de Trabalho: | F20: 44 HORAS SEMANAIS
A21: Quantidade de Pessoas por Posto: | F21: 1
A22: Quantidade de Postos: | F22: 1
A23: Outras Informações: | F23: DIURNO
A24: 01 Posto Diurno / Escala 5 x 2
A25: MODULO 1 - COMPOSIÇÃO DA REMUNERAÇÃO
A26: 1 | B26: Composição da Remuneração | F26: Quant/Horas/Perc | G26: Valor Total
A27: A | B27: Salário Base | F27: 1 | G27: =F18*F27 -> 2696.84
A28: B | B28: Adicional Periculosidade | G28: =ROUND(F18*F28,2) -> 0
A29: C | B29: Adicional Insalubridade | F29: 0.4 | G29: =ROUND(F15*F29,2) -> 0
A30: D | B30: Adicional de Liderança | G30: =ROUND(F18*F30,2) -> 0
A31: E | B31: Adicional Noturno (Hora Noturna/Hora Reduzida) | F31: =ROUND((ROUND((7*26),2)/52.5)*60,2)*0 -> 0 | G31: =ROUND((F18/220*0.2)*F31,2) -> 0
A32: F | B32: DSR Sobre Adicional Noturno | F32: =ROUND(SUM(F31)/25*5,2) -> 0 | G32: =ROUND((F18/220*0.2)*F32,2) -> 0
A33: G | B33: Outrros (especificar) | G33: 0
A34: Total da Remuneração/MÓDULO 1 | G34: =SUM(G27:G33) -> 2696.84
A35: MÓDULO 2 - ENCARGOS E BENEFÍCIOS ANUAIS, MENSAIS E DIÁRIOS
A36: Submódulo 2.1 - 13º Salário, Férias e Adicional de Férias
A37: A | B37: 13º Salário | F37: =ROUND((1/12),6) -> 0.0833 | G37: =ROUND(G$34*F37,2) -> 224.65
A38: B | B38: Ferias e terço constitucional | F38: =ROUND((1/11)+(1/11)/3, 3) -> 0.121 | G38: =ROUND(G$34*F38,2) -> 326.32
B39: Subtotal | F39: =SUM(F37:F38) -> 0.2043
A40: C | B40: Incidência do Submódulo 2.2 sobre o Submódulo 2.1 | F40: =ROUND((F51*F39),4) -> 0.0691 | G40: =ROUND(G$34*F40,2) -> 186.35
A41: Total do Submódulo 2.1 | F41: =ROUND(SUM(F39:F40),4) -> 0.2734 | G41: =SUM(G37:G40) -> 737.32
A42: Submódulo 2.2 – Encargos Previdenciários (GPS), FGTS e Outras Contribuições
...

Sheet ESTIMATIVA MODELO
A1: PROCESSO Nº 122/2025
A2: QUADRO RESUMO GERAL - ESTIMATIVA LICITANTE
A3: OBJETO: PRESTAÇÃO DE SERVIÇOS DE LIMPEZA, ASSEIO, HIGIENIZAÇÃO E CONSERVAÇÃO DOS SANITÁRIOS PÚBLICOS DO ENTREPOSTO TERMINAL DE SÃO PAULO
A4: POSTO/UNIDADE | D4: Pessoas p/Posto | E4: Total de Postos | F4: Total de Pessoas | G4: Valor Mensal por Posto | H4: Valor Mensal pelo Total dos Postos | I4: Valor dos Postos por 12 Meses
A5: ='Ag. Higienização MATUTINO'!F16 -> Agente de Higienização | B5: ='Ag. Higienização MATUTINO'!F20 -> 44 HORAS SEMANAIS | C5: ='Ag. Higienização MATUTINO'!F23 -> MATUTINO | D5: ='Ag. Higienização MATUTINO'!F21 -> 1 | E5: ='Ag. Higienização MATUTINO'!F22 -> 20 | F5: =E5*D5 -> 20 | G5: ='Ag. Higienização MATUTINO'!G140 -> 0 | H5: =ROUND((G5*E5),2) -> 0 | I5: =H5*12 -> 0
A6: ='Ag. Higienização VESPERTINO'!F16 -> Agente de Higienização | B6: ='Ag. Higienização VESPERTINO'!F20 -> 44 HORAS SEMANAIS | C6: ='Ag. Higienização VESPERTINO'!F23 -> VESPERTINO | D6: ='Ag. Higienização VESPERTINO'!F21 -> 1 | E6: ='Ag. Higienização VESPERTINO'!F22 -> 20 | F6: =E6*D6 -> 20 | G6: ='Ag. Higienização VESPERTINO'!G140 -> 0 | H6: =ROUND((G6*E6),2) -> 0 | I6: =H6*12 -> 0
A7: ='Ag. Higienização NOTURNO (44H)'!F16 -> Agente de Higienização | B7: ='Ag. Higienização NOTURNO (44H)'!F20 -> 44 HORAS SEMANAIS | C7: ='Ag. Higienização NOTURNO (44H)'!F23 -> NOTURNO | D7: ='Ag. Higienização NOTURNO (44H)'!F21 -> 1 | E7: ='Ag. Higienização NOTURNO (44H)'!F22 -> 6 | F7: =E7*D7 -> 6 | G7: ='Ag. Higienização NOTURNO (44H)'!G140 -> 0 | H7: =ROUND((G7*E7),2) -> 0 | I7: =H7*12 -> 0
A8: ='Ag. Higienização DIU (12x36)'!F16 -> Agente de Higienização | B8: ='Ag. Higienização DIU (12x36)'!F20 -> ESCALA 12 X 36 | C8: ='Ag. Higienização DIU (12x36)'!F23 -> DIURNO | D8: ='Ag. Higienização DIU (12x36)'!F21 -> 2 | E8: ='Ag. Higienização DIU (12x36)'!F22 -> 19 | F8: =E8*D8 -> 38 | G8: ='Ag. Higienização DIU (12x36)'!G140 -> 0 | H8: =ROUND((G8*E8),2) -> 0 | I8: =H8*12 -> 0
A9: ='Ag. Higienização NOT (12X36)'!F16 -> Agente de Higienização | B9: ='Ag. Higienização NOT (12X36)'!F20 -> ESCALA 12 X 36 | C9: ='Ag. Higienização NOT (12X36)'!F23 -> NOTURNO | D9: ='Ag. Higienização NOT (12X36)'!F21 -> 2 | E9: ='Ag. Higienização NOT (12X36)'!F22 -> 19 | F9: =E9*D9 -> 38 | G9: ='Ag. Higienização NOT (12X36)'!G140 -> 0 | H9: =ROUND((G9*E9),2) -> 0 | I9: =H9*12 -> 0
A10: ='Líder MATUTINO'!F16 -> Líder | B10: ='Líder MATUTINO'!F20 -> 44 HORAS SEMANAIS | C10: ='Líder MATUTINO'!F23 -> MATUTINO | D10: ='Líder MATUTINO'!F21 -> 1 | E10: ='Líder MATUTINO'!F22 -> 1 | F10: =E10*D10 -> 1 | G10: ='Líder MATUTINO'!G140 -> 0 | H10: =ROUND((G10*E10),2) -> 0 | I10: =H10*12 -> 0
A11: ='Líder VESPERTINO'!F16 -> Líder | B11: ='Líder VESPERTINO'!F20 -> 44 HORAS SEMANAIS | C11: ='Líder VESPERTINO'!F23 -> VESPERTINO | D11: ='Líder VESPERTINO'!F21 -> 1 | E11: ='Líder VESPERTINO'!F22 -> 1 | F11: =E11*D11 -> 1 | G11: ='Líder VESPERTINO'!G140 -> 0 | H11: =ROUND((G11*E11),2) -> 0 | I11: =H11*12 -> 0
A12: ='Líder NOTURNO (44H)'!F16 -> Líder | B12: ='Líder NOTURNO (44H)'!F20 -> 44 HORAS SEMANAIS | C12: ='Líder NOTURNO (44H)'!F23 -> NOTURNO | D12: ='Líder NOTURNO (44H)'!F21 -> 1 | E12: ='Líder NOTURNO (44H)'!F22 -> 1 | F12: =E12*D12 -> 1 | G12: ='Líder NOTURNO (44H)'!G140 -> 0 | H12: =ROUND((G12*E12),2) -> 0 | I12: =H12*12 -> 0
A13: ='Encarregado MATUTINO'!F16 -> Encarregado(a) | B13: ='Encarregado MATUTINO'!F20 -> 44 HORAS SEMANAIS | C13: ='Encarregado MATUTINO'!F23 -> MATUTINO | D13: ='Encarregado MATUTINO'!F21 -> 1 | E13: ='Encarregado MATUTINO'!F22 -> 1 | F13: =E13*D13 -> 1 | G13: ='Encarregado MATUTINO'!G140 -> 0 | H13: =ROUND((G13*E13),2) -> 0 | I13: =H13*12 -> 0
A14: ='Encarregado VESPERTINO'!F16 -> Encarregado(a) | B14: ='Encarregado VESPERTINO'!F20 -> 44 HORAS SEMANAIS | C14: ='Encarregado VESPERTINO'!F23 -> VESPERTINO | D14: ='Encarregado VESPERTINO'!F21 -> 1 | E14: ='Encarregado VESPERTINO'!F22 -> 1 | F14: =E14*D14 -> 1 | G14: ='Encarregado VESPERTINO'!G140 -> 0 | H14: =ROUND((G14*E14),2) -> 0 | I14: =H14*12 -> 0
A15: ='Encarregado NOTURNO (44H)'!F16 -> Encarregado(a) | B15: ='Encarregado NOTURNO (44H)'!F20 -> 44 HORAS SEMANAIS | C15: ='Encarregado NOTURNO (44H)'!F23 -> NOTURNO | D15: ='Encarregado NOTURNO (44H)'!F21 -> 1 | E15: ='Encarregado NOTURNO (44H)'!F22 -> 1 | F15: =E15*D15 -> 1 | G15: ='Encarregado NOTURNO (44H)'!G140 -> 0 | H15: =ROUND((G15*E15),2) -> 0 | I15: =H15*12 -> 0
A16: ='Supervisor DIU (5x2)'!F16 -> Supervisor(a) | B16: ='Supervisor DIU (5x2)'!F20 -> 44 HORAS SEMANAIS | C16: ='Supervisor DIU (5x2)'!F23 -> DIURNO | D16: ='Supervisor DIU (5x2)'!F21 -> 1 | E16: ='Supervisor DIU (5x2)'!F22 -> 1 | F16: =E16*D16 -> 1 | G16: ='Supervisor DIU (5x2)'!G140 -> 0 | H16: =ROUND((G16*E16),2) -> 0 | I16: =H16*12 -> 0
A17: TOTAL - MÃO DE OBRA | E17: =SUM(E5:E16) -> 91 | F17: =SUM(F5:F16) -> 129 | H17: =SUM(H5:H16) -> 0 | I17: =SUM(I5:I16) -> 0
A18: INSUMOS DIVERSOS | H18: ='INSUMOS DIVERSOS'!F59 -> 0 | I18: =H18*12 -> 0
A19: TOTAL GERAL | H19: =SUM(H17:H18) -> 0 | I19: =H19*12 -> 0
